{"text_format":"1","workbook":"xlsx","n_sheets":3,"sheets":["Version","Temperature Checks","Print-out"],"not_rendered":{"charts":0,"images":0,"macros":1,"external_links":1,"defined_names":5,"comments":0,"pivot_tables":0},"unopened":[],"bounds":{"document_bytes":16777216,"sheet_cells":100000,"rows_first":2000,"rows_last":500,"rows_between":2000,"halvings":0,"cell_chars":16384,"cell_head_chars":4096},"cells_cut":0,"cells_raw":0,"read":"whole","date_system":"1900"}

{"sheet":"Version","index":0,"n_rows":23,"n_cols":1,"rows_kept":23,"cut":false,"hidden":false,"merged":[]}
["Version history notes for the master temperature checks spreadsheet"]
["For more information or to request upgrades, please contact:"]
["     Stewart Rounds, USGS Oregon Water Science Center, 503-251-3280, sarounds@usgs.gov"]
[]
["Version 1.03 (24-Sep-2018)"]
["     Changed the formulas on the Print-out worksheet to increase the number of dates per sensor that are allowed in the drop-down list."]
["     Now, up to 73 dates can be accommodated; the previous maximum was 12."]
[]
["Version 1.02 (3-Nov-2010)"]
["     Columns were added to the Temperature Checks worksheet to accommodate two additional pairs of temperaure checks, for a"]
["     total of twelve.  In addition, the entry pairs on the Temperature Checks worksheet now can be entered in any order and still show up"]
["     correctly on the Print-out worksheet.  The Print-out worksheet was modified to accommodate the two new pairs of check data."]
[]
["Version 1.01 (11-Nov-2009)"]
["     A \"Print-out\" worksheet was added to allow users to examine the full range of interpolated temperature checks for a selected"]
["     probe and check date.  Just input the field probe ID and select the date of the temperature check from the drop-down list, and the"]
["     rest of the worksheet will be populated automatically.  This can be printed out for your convenience."]
[]
["Version 1.00  (01-Nov-2009)"]
["     This spreadsheet is used to store comparison data for temperature probes that are checked against an NIST-certified thermometer."]
["     The data in this spreadsheet can be imported into the water-quality monitor correction spreadsheet so that selected temperature"]
["     corrections can be extracted and used to correct measured data in ADAPS.  Version 2.12 or higher of the water-quality correction"]
["     spreadsheet is required to take advantage of this master temperature checks spreadsheet."]

{"sheet":"Temperature Checks","index":1,"n_rows":500,"n_cols":112,"rows_kept":500,"cut":false,"hidden":false,"merged":[[4,89,4,99],[4,101,4,111],[2,24,4,24],[2,25,4,25],[2,26,4,26],[2,27,4,27],[3,89,3,111],[4,29,4,40],[4,41,4,52],[4,53,4,64],[4,65,4,76],[4,77,4,88],[1,0,1,1],[2,28,4,28],[2,11,4,11],[2,8,4,8],[2,9,4,9],[2,10,4,10],[2,12,4,12],[2,13,4,13],[2,14,4,14],[2,15,4,15],[2,0,4,0],[2,1,4,1],[2,2,4,2],[2,3,4,3],[2,4,4,4],[2,6,4,6],[2,5,4,5],[0,5,0,10],[2,21,4,21],[2,22,4,22],[2,23,4,23],[2,17,4,17],[2,18,4,18],[2,19,4,19],[2,20,4,20],[2,16,4,16],[2,7,4,7]]}
["Temperature Probe Performance Checks",null,null,null,null,"Please do not use \"drag and drop.\"  Turn it off under Tools/Options/Edit or ExcelOptions/Advanced/Edit.\nAlso, do not cut/paste.  Use copy/paste then delete to move input data."]
["version 1.03  (24-Sep-2018)",null,null,null,"For sake of readability, please enter the temperature checks from left to right and from low temperatures to high temperatures."]
["Field\nProbe ID","Date of\nNIST check\n(MM DD YYYY)","OBSERVER","NIST Certified Probe ID","NIST reading\n#1","Field probe reading\n#1","NIST reading\n#2","Field probe reading\n#2","NIST reading\n#3","Field probe reading\n#3","NIST reading\n#4","Field probe reading\n#4","NIST reading\n#5","Field probe reading\n#5","NIST reading\n#6","Field probe reading\n#6","NIST reading\n#7","Field probe reading\n#7","NIST reading\n#8","Field probe reading\n#8","NIST reading\n#9","Field probe reading\n#9","NIST reading\n#10","Field probe reading\n#10","NIST reading\n#11","Field probe reading\n#11","NIST reading\n#12","Field probe reading\n#12","Remarks"]
[null,null,null,null,null,null,null,null,null,null,null,null,null,null,null,null,null,null,null,null,null,null,null,null,null,null,null,null,null,null,null,null,null,null,null,null,null,null,null,null,null,null,null,null,null,null,null,null,null,null,null,null,null,null,null,null,null,null,null,null,null,null,null,null,null,null,null,null,null,null,null,null,null,null,null,null,null,null,null,null,null,null,null,null,null,null,null,null,null,"Figuring out the ranks and positions after the first one"]
[null,null,null,null,null,null,null,null,null,null,null,null,null,null,null,null,null,null,null,null,null,null,null,null,null,null,null,null,null,"Sorted Field Probe Readings (ascending order)",null,null,null,null,null,null,null,null,null,null,null,"Sorted NIST Probe Readings (ascending order)",null,null,null,null,null,null,null,null,null,null,null,"Field probe readings extracted from user input",null,null,null,null,null,null,null,null,null,null,null,"Ranks of unsorted field probe readings (ascending)",null,null,null,null,null,null,null,null,null,null,null,"Sorted positions to put in ascending order",null,null,null,null,null,null,null,null,null,null,null,"Available ranks, minus 2",null,null,null,null,null,null,null,null,null,null,"TmpString","Ranks to use, no blanks"]
["176194","12 12 2017","MAM/WDM","11506500",0.22,0.3,4.95,5,10.050000000000001,10.1,15.03,15,20.010000000000002,20.100000000000001,25.1,25.2,null,null,null,null,null,null,null,null,null,null,null,null,null,{"$f":"IF(BZ6=\"\",\"\",OFFSET($D6,0,2*BZ6))","v":0.3},5,10.1,15,20.100000000000001,25.2,"","","","","","",{"$f":"IF(BZ6=\"\",\"\",IF(COUNT(OFFSET($D6,0,2*BZ6-1,1,2))=2,OFFSET($D6,0,2*BZ6-1),\"\"))","v":0.22},{"$f":"IF(CA6=\"\",\"\",IF(COUNT(OFFSET($D6,0,2*CA6-1,1,2))=2,OFFSET($D6,0,2*CA6-1),\"\"))","v":4.95},10.050000000000001,15.03,20.010000000000002,25.1,"","","","","","",{"$f":"IF(AND(E6<>\"\",F6<>\"\"),F6,\"\")","v":0.3},{"$f":"IF(AND(G6<>\"\",H6<>\"\"),H6,\"\")","v":5},{"$f":"IF(AND(I6<>\"\",J6<>\"\"),J6,\"\")","v":10.1},{"$f":"IF(AND(K6<>\"\",L6<>\"\"),L6,\"\")","v":15},{"$f":"IF(AND(M6<>\"\",N6<>\"\"),N6,\"\")","v":20.100000000000001},{"$f":"IF(AND(O6<>\"\",P6<>\"\"),P6,\"\")","v":25.2},{"$f":"IF(AND(Q6<>\"\",R6<>\"\"),R6,\"\")","v":""},{"$f":"IF(AND(S6<>\"\",T6<>\"\"),T6,\"\")","v":""},{"$f":"IF(AND(U6<>\"\",V6<>\"\"),V6,\"\")","v":""},{"$f":"IF(AND(W6<>\"\",X6<>\"\"),X6,\"\")","v":""},{"$f":"IF(AND(Y6<>\"\",Z6<>\"\"),Z6,\"\")","v":""},{"$f":"IF(AND(AA6<>\"\",AB6<>\"\"),AB6,\"\")","v":""},{"$f":"IF(BB6<>\"\",RANK(BB6,$BB6:$BM6,1),\"\")","v":1},2,3,4,5,6,"","","","","","",{"$f":"IF(ISNA(MATCH(1,$BN6:$BY6,0)),\"\",MATCH(1,$BN6:$BY6,0))","v":1},{"$f":"IF(COUNT($CL6:$CV6)<1,\"\",MATCH(VALUE(CX6),$BN6:$BY6,0))","v":2},{"$f":"IF(COUNT($CL6:$CV6)<2,\"\",MATCH(VALUE(CY6),$BN6:$BY6,0))","v":3},{"$f":"IF(COUNT($CL6:$CV6)<3,\"\",MATCH(VALUE(CZ6),$BN6:$BY6,0))","v":4},{"$f":"IF(COUNT($CL6:$CV6)<4,\"\",MATCH(VALUE(DA6),$BN6:$BY6,0))","v":5},{"$f":"IF(COUNT($CL6:$CV6)<5,\"\",MATCH(VALUE(DB6),$BN6:$BY6,0))","v":6},{"$f":"IF(COUNT($CL6:$CV6)<6,\"\",MATCH(VALUE(DC6),$BN6:$BY6,0))","v":""},{"$f":"IF(COUNT($CL6:$CV6)<7,\"\",MATCH(VALUE(DD6),$BN6:$BY6,0))","v":""},{"$f":"IF(COUNT($CL6:$CV6)<8,\"\",MATCH(VALUE(DE6),$BN6:$BY6,0))","v":""},{"$f":"IF(COUNT($CL6:$CV6)<9,\"\",MATCH(VALUE(DF6),$BN6:$BY6,0))","v":""},{"$f":"IF(COUNT($CL6:$CV6)<10,\"\",MATCH(VALUE(DG6),$BN6:$BY6,0))","v":""},{"$f":"IF(COUNT($CL6:$CV6)<11,\"\",MATCH(VALUE(DH6),$BN6:$BY6,0))","v":""},{"$f":"IF(AND(COUNT($BN6:$BY6)>1,NOT(ISNA(MATCH(2,$BN6:$BY6,0)))),0,\"\")","v":0},{"$f":"IF(AND(COUNT($BN6:$BY6)>2,NOT(ISNA(MATCH(3,$BN6:$BY6,0)))),1,\"\")","v":1},{"$f":"IF(AND(COUNT($BN6:$BY6)>3,NOT(ISNA(MATCH(4,$BN6:$BY6,0)))),2,\"\")","v":2},{"$f":"IF(AND(COUNT($BN6:$BY6)>4,NOT(ISNA(MATCH(5,$BN6:$BY6,0)))),3,\"\")","v":3},{"$f":"IF(AND(COUNT($BN6:$BY6)>5,NOT(ISNA(MATCH(6,$BN6:$BY6,0)))),4,\"\")","v":4},{"$f":"IF(AND(COUNT($BN6:$BY6)>6,NOT(ISNA(MATCH(7,$BN6:$BY6,0)))),5,\"\")","v":""},{"$f":"IF(AND(COUNT($BN6:$BY6)>7,NOT(ISNA(MATCH(8,$BN6:$BY6,0)))),6,\"\")","v":""},{"$f":"IF(AND(COUNT($BN6:$BY6)>8,NOT(ISNA(MATCH(9,$BN6:$BY6,0)))),7,\"\")","v":""},{"$f":"IF(AND(COUNT($BN6:$BY6)>9,NOT(ISNA(MATCH(10,$BN6:$BY6,0)))),8,\"\")","v":""},{"$f":"IF(AND(COUNT($BN6:$BY6)>10,NOT(ISNA(MATCH(11,$BN6:$BY6,0)))),9,\"\")","v":""},{"$f":"IF(AND(COUNT($BN6:$BY6)>11,NOT(ISNA(MATCH(12,$BN6:$BY6,0)))),10,\"\")","v":""},{"$f":"CONCATENATE(CL6,CM6,CN6,CO6,CP6,CQ6,CR6,CS6,CT6,CU6,IF(CV6=10,\"A\",\"\"))","v":"01234"},{"$f":"IF(MID($CW6,1,1)=\"\",\"\",IF(MID($CW6,1,1)=\"A\",12,MID($CW6,1,1)+2))","v":2},{"$f":"IF(MID($CW6,2,1)=\"\",\"\",IF(MID($CW6,2,1)=\"A\",12,MID($CW6,2,1)+2))","v":3},{"$f":"IF(MID($CW6,3,1)=\"\",\"\",IF(MID($CW6,3,1)=\"A\",12,MID($CW6,3,1)+2))","v":4},{"$f":"IF(MID($CW6,4,1)=\"\",\"\",IF(MID($CW6,4,1)=\"A\",12,MID($CW6,4,1)+2))","v":5},{"$f":"IF(MID($CW6,5,1)=\"\",\"\",IF(MID($CW6,5,1)=\"A\",12,MID($CW6,5,1)+2))","v":6},{"$f":"IF(MID($CW6,6,1)=\"\",\"\",IF(MID($CW6,6,1)=\"A\",12,MID($CW6,6,1)+2))","v":""},{"$f":"IF(MID($CW6,7,1)=\"\",\"\",IF(MID($CW6,7,1)=\"A\",12,MID($CW6,7,1)+2))","v":""},{"$f":"IF(MID($CW6,8,1)=\"\",\"\",IF(MID($CW6,8,1)=\"A\",12,MID($CW6,8,1)+2))","v":""},{"$f":"IF(MID($CW6,9,1)=\"\",\"\",IF(MID($CW6,9,1)=\"A\",12,MID($CW6,9,1)+2))","v":""},{"$f":"IF(MID($CW6,10,1)=\"\",\"\",IF(MID($CW6,10,1)=\"A\",12,MID($CW6,10,1)+2))","v":""},{"$f":"IF(MID($CW6,11,1)=\"\",\"\",IF(MID($CW6,11,1)=\"A\",12,MID($CW6,11,1)+2))","v":""}]
["176194","03 27 2018","LMH","11506500",0.35,0.4,5.05,5.0999999999999996,10.097,10.1,15.092000000000001,15.1,20.047000000000001,20.100000000000001,25.07,25,null,null,null,null,null,null,null,null,null,null,null,null,null,{"$f":"IF(BZ7=\"\",\"\",OFFSET($D7,0,2*BZ7))","v":0.4},{"$f":"IF(CA7=\"\",\"\",OFFSET($D7,0,2*CA7))","v":5.0999999999999996},{"$f":"IF(CB7=\"\",\"\",OFFSET($D7,0,2*CB7))","v":10.1},{"$f":"IF(CC7=\"\",\"\",OFFSET($D7,0,2*CC7))","v":15.1},{"$f":"IF(CD7=\"\",\"\",OFFSET($D7,0,2*CD7))","v":20.100000000000001},{"$f":"IF(CE7=\"\",\"\",OFFSET($D7,0,2*CE7))","v":25},{"$f":"IF(CF7=\"\",\"\",OFFSET($D7,0,2*CF7))","v":""},{"$f":"IF(CG7=\"\",\"\",OFFSET($D7,0,2*CG7))","v":""},{"$f":"IF(CH7=\"\",\"\",OFFSET($D7,0,2*CH7))","v":""},{"$f":"IF(CI7=\"\",\"\",OFFSET($D7,0,2*CI7))","v":""},{"$f":"IF(CJ7=\"\",\"\",OFFSET($D7,0,2*CJ7))","v":""},{"$f":"IF(CK7=\"\",\"\",OFFSET($D7,0,2*CK7))","v":""},{"$f":"IF(BZ7=\"\",\"\",IF(COUNT(OFFSET($D7,0,2*BZ7-1,1,2))=2,OFFSET($D7,0,2*BZ7-1),\"\"))","v":0.35},{"$f":"IF(CA7=\"\",\"\",IF(COUNT(OFFSET($D7,0,2*CA7-1,1,2))=2,OFFSET($D7,0,2*CA7-1),\"\"))","v":5.05},{"$f":"IF(CB7=\"\",\"\",IF(COUNT(OFFSET($D7,0,2*CB7-1,1,2))=2,OFFSET($D7,0,2*CB7-1),\"\"))","v":10.097},{"$f":"IF(CC7=\"\",\"\",IF(COUNT(OFFSET($D7,0,2*CC7-1,1,2))=2,OFFSET($D7,0,2*CC7-1),\"\"))","v":15.092000000000001},{"$f":"IF(CD7=\"\",\"\",IF(COUNT(OFFSET($D7,0,2*CD7-1,1,2))=2,OFFSET($D7,0,2*CD7-1),\"\"))","v":20.047000000000001},{"$f":"IF(CE7=\"\",\"\",IF(COUNT(OFFSET($D7,0,2*CE7-1,1,2))=2,OFFSET($D7,0,2*CE7-1),\"\"))","v":25.07},{"$f":"IF(CF7=\"\",\"\",IF(COUNT(OFFSET($D7,0,2*CF7-1,1,2))=2,OFFSET($D7,0,2*CF7-1),\"\"))","v":""},{"$f":"IF(CG7=\"\",\"\",IF(COUNT(OFFSET($D7,0,2*CG7-1,1,2))=2,OFFSET($D7,0,2*CG7-1),\"\"))","v":""},{"$f":"IF(CH7=\"\",\"\",IF(COUNT(OFFSET($D7,0,2*CH7-1,1,2))=2,OFFSET($D7,0,2*CH7-1),\"\"))","v":""},{"$f":"IF(CI7=\"\",\"\",IF(COUNT(OFFSET($D7,0,2*CI7-1,1,2))=2,OFFSET($D7,0,2*CI7-1),\"\"))","v":""},{"$f":"IF(CJ7=\"\",\"\",IF(COUNT(OFFSET($D7,0,2*CJ7-1,1,2))=2,OFFSET($D7,0,2*CJ7-1),\"\"))","v":""},{"$f":"IF(CK7=\"\",\"\",IF(COUNT(OFFSET($D7,0,2*CK7-1,1,2))=2,OFFSET($D7,0,2*CK7-1),\"\"))","v":""},{"$f":"IF(AND(E7<>\"\",F7<>\"\"),F7,\"\")","v":0.4},{"$f":"IF(AND(G7<>\"\",H7<>\"\"),H7,\"\")","v":5.0999999999999996},{"$f":"IF(AND(I7<>\"\",J7<>\"\"),J7,\"\")","v":10.1},{"$f":"IF(AND(K7<>\"\",L7<>\"\"),L7,\"\")","v":15.1},{"$f":"IF(AND(M7<>\"\",N7<>\"\"),N7,\"\")","v":20.100000000000001},{"$f":"IF(AND(O7<>\"\",P7<>\"\"),P7,\"\")","v":25},{"$f":"IF(AND(Q7<>\"\",R7<>\"\"),R7,\"\")","v":""},{"$f":"IF(AND(S7<>\"\",T7<>\"\"),T7,\"\")","v":""},{"$f":"IF(AND(U7<>\"\",V7<>\"\"),V7,\"\")","v":""},{"$f":"IF(AND(W7<>\"\",X7<>\"\"),X7,\"\")","v":""},{"$f":"IF(AND(Y7<>\"\",Z7<>\"\"),Z7,\"\")","v":""},{"$f":"IF(AND(AA7<>\"\",AB7<>\"\"),AB7,\"\")","v":""},{"$f":"IF(BB7<>\"\",RANK(BB7,$BB7:$BM7,1),\"\")","v":1},{"$f":"IF(BC7<>\"\",RANK(BC7,$BB7:$BM7,1),\"\")","v":2},{"$f":"IF(BD7<>\"\",RANK(BD7,$BB7:$BM7,1),\"\")","v":3},{"$f":"IF(BE7<>\"\",RANK(BE7,$BB7:$BM7,1),\"\")","v":4},{"$f":"IF(BF7<>\"\",RANK(BF7,$BB7:$BM7,1),\"\")","v":5},{"$f":"IF(BG7<>\"\",RANK(BG7,$BB7:$BM7,1),\"\")","v":6},{"$f":"IF(BH7<>\"\",RANK(BH7,$BB7:$BM7,1),\"\")","v":""},{"$f":"IF(BI7<>\"\",RANK(BI7,$BB7:$BM7,1),\"\")","v":""},{"$f":"IF(BJ7<>\"\",RANK(BJ7,$BB7:$BM7,1),\"\")","v":""},{"$f":"IF(BK7<>\"\",RANK(BK7,$BB7:$BM7,1),\"\")","v":""},{"$f":"IF(BL7<>\"\",RANK(BL7,$BB7:$BM7,1),\"\")","v":""},{"$f":"IF(BM7<>\"\",RANK(BM7,$BB7:$BM7,1),\"\")","v":""},{"$f":"IF(ISNA(MATCH(1,$BN7:$BY7,0)),\"\",MATCH(1,$BN7:$BY7,0))","v":1},{"$f":"IF(COUNT($CL7:$CV7)<1,\"\",MATCH(VALUE(CX7),$BN7:$BY7,0))","v":2},{"$f":"IF(COUNT($CL7:$CV7)<2,\"\",MATCH(VALUE(CY7),$BN7:$BY7,0))","v":3},{"$f":"IF(COUNT($CL7:$CV7)<3,\"\",MATCH(VALUE(CZ7),$BN7:$BY7,0))","v":4},{"$f":"IF(COUNT($CL7:$CV7)<4,\"\",MATCH(VALUE(DA7),$BN7:$BY7,0))","v":5},{"$f":"IF(COUNT($CL7:$CV7)<5,\"\",MATCH(VALUE(DB7),$BN7:$BY7,0))","v":6},{"$f":"IF(COUNT($CL7:$CV7)<6,\"\",MATCH(VALUE(DC7),$BN7:$BY7,0))","v":""},{"$f":"IF(COUNT($CL7:$CV7)<7,\"\",MATCH(VALUE(DD7),$BN7:$BY7,0))","v":""},{"$f":"IF(COUNT($CL7:$CV7)<8,\"\",MATCH(VALUE(DE7),$BN7:$BY7,0))","v":""},{"$f":"IF(COUNT($CL7:$CV7)<9,\"\",MATCH(VALUE(DF7),$BN7:$BY7,0))","v":""},{"$f":"IF(COUNT($CL7:$CV7)<10,\"\",MATCH(VALUE(DG7),$BN7:$BY7,0))","v":""},{"$f":"IF(COUNT($CL7:$CV7)<11,\"\",MATCH(VALUE(DH7),$BN7:$BY7,0))","v":""},{"$f":"IF(AND(COUNT($BN7:$BY7)>1,NOT(ISNA(MATCH(2,$BN7:$BY7,0)))),0,\"\")","v":0},{"$f":"IF(AND(COUNT($BN7:$BY7)>2,NOT(ISNA(MATCH(3,$BN7:$BY7,0)))),1,\"\")","v":1},{"$f":"IF(AND(COUNT($BN7:$BY7)>3,NOT(ISNA(MATCH(4,$BN7:$BY7,0)))),2,\"\")","v":2},{"$f":"IF(AND(COUNT($BN7:$BY7)>4,NOT(ISNA(MATCH(5,$BN7:$BY7,0)))),3,\"\")","v":3},{"$f":"IF(AND(COUNT($BN7:$BY7)>5,NOT(ISNA(MATCH(6,$BN7:$BY7,0)))),4,\"\")","v":4},{"$f":"IF(AND(COUNT($BN7:$BY7)>6,NOT(ISNA(MATCH(7,$BN7:$BY7,0)))),5,\"\")","v":""},{"$f":"IF(AND(COUNT($BN7:$BY7)>7,NOT(ISNA(MATCH(8,$BN7:$BY7,0)))),6,\"\")","v":""},{"$f":"IF(AND(COUNT($BN7:$BY7)>8,NOT(ISNA(MATCH(9,$BN7:$BY7,0)))),7,\"\")","v":""},{"$f":"IF(AND(COUNT($BN7:$BY7)>9,NOT(ISNA(MATCH(10,$BN7:$BY7,0)))),8,\"\")","v":""},{"$f":"IF(AND(COUNT($BN7:$BY7)>10,NOT(ISNA(MATCH(11,$BN7:$BY7,0)))),9,\"\")","v":""},{"$f":"IF(AND(COUNT($BN7:$BY7)>11,NOT(ISNA(MATCH(12,$BN7:$BY7,0)))),10,\"\")","v":""},{"$f":"CONCATENATE(CL7,CM7,CN7,CO7,CP7,CQ7,CR7,CS7,CT7,CU7,IF(CV7=10,\"A\",\"\"))","v":"01234"},{"$f":"IF(MID($CW7,1,1)=\"\",\"\",IF(MID($CW7,1,1)=\"A\",12,MID($CW7,1,1)+2))","v":2},{"$f":"IF(MID($CW7,2,1)=\"\",\"\",IF(MID($CW7,2,1)=\"A\",12,MID($CW7,2,1)+2))","v":3},{"$f":"IF(MID($CW7,3,1)=\"\",\"\",IF(MID($CW7,3,1)=\"A\",12,MID($CW7,3,1)+2))","v":4},{"$f":"IF(MID($CW7,4,1)=\"\",\"\",IF(MID($CW7,4,1)=\"A\",12,MID($CW7,4,1)+2))","v":5},{"$f":"IF(MID($CW7,5,1)=\"\",\"\",IF(MID($CW7,5,1)=\"A\",12,MID($CW7,5,1)+2))","v":6},{"$f":"IF(MID($CW7,6,1)=\"\",\"\",IF(MID($CW7,6,1)=\"A\",12,MID($CW7,6,1)+2))","v":""},{"$f":"IF(MID($CW7,7,1)=\"\",\"\",IF(MID($CW7,7,1)=\"A\",12,MID($CW7,7,1)+2))","v":""},{"$f":"IF(MID($CW7,8,1)=\"\",\"\",IF(MID($CW7,8,1)=\"A\",12,MID($CW7,8,1)+2))","v":""},{"$f":"IF(MID($CW7,9,1)=\"\",\"\",IF(MID($CW7,9,1)=\"A\",12,MID($CW7,9,1)+2))","v":""},{"$f":"IF(MID($CW7,10,1)=\"\",\"\",IF(MID($CW7,10,1)=\"A\",12,MID($CW7,10,1)+2))","v":""},{"$f":"IF(MID($CW7,11,1)=\"\",\"\",IF(MID($CW7,11,1)=\"A\",12,MID($CW7,11,1)+2))","v":""}]
["2475446","5 10 2018","WDM","11506500",0,0,5,5,10,10.1,15,15,20,20.100000000000001,25,25.1,30,30.1,null,null,null,null,null,null,null,null,null,null,null,0,5,10.1,15,20.100000000000001,25.1,30.1,"","","","","",0,5,10,15,20,25,30,"","","","","",0,5,10.1,15,20.100000000000001,25.1,30.1,"","","","","",1,2,3,4,5,6,7,"","","","","",1,2,3,4,5,6,7,"","","","","",0,1,2,3,4,5,"","","","","","012345",2,3,4,5,6,7,"","","","",""]
["176194","6 11 2018","MAM","11506500",0.03,0.1,4.9800000000000004,5,10,10,15.01,15,20.03,20,25.1,25.2,null,null,null,null,null,null,null,null,null,null,null,null,null,0.1,5,10,15,20,25.2,"","","","","","",0.03,4.9800000000000004,10,15.01,20.03,25.1,"","","","","","",0.1,5,10,15,20,25.2,"","","","","","",1,2,3,4,5,6,"","","","","","",1,2,3,4,5,6,"","","","","","",0,1,2,3,4,"","","","","","","01234",2,3,4,5,6,"","","","","",""]
[null,null,null,null,null,null,null,null,null,null,null,null,null,null,null,null,null,null,null,null,null,null,null,null,null,null,null,null,null,"","","","","","","","","","","","","","","","","","","","","","","","","","","","","","","","","","","","","","","","","","","","","","","","","","","","","","","","","","","","","","","","","","","","","","","","","","","","","","","","","","",""]
[null,null,null,null,null,null,null,null,null,null,null,null,null,null,null,null,null,null,null,null,null,null,null,null,null,null,null,null,null,"","","","","","","","","","","","","","","","","","","","","","","","","","","","","","","","","","","","","","","","","","","","","","","","","","","","","","","","","","","","","","","","","","","","","","","","","","","","","","","","","","",""]
[null,null,null,null,null,null,null,null,null,null,null,null,null,null,null,null,null,null,null,null,null,null,null,null,null,null,null,null,null,"","","","","","","","","","","","","","","","","","","","","","","","","","","","","","","","","","","","","","","","","","","","","","","","","","","","","","","","","","","","","","","","","","","","","","","","","","","","","","","","","","",""]
[null,null,null,null,null,null,null,null,null,null,null,null,null,null,null,null,null,null,null,null,null,null,null,null,null,null,null,null,null,"","","","","","","","","","","","","","","","","","","","","","","","","","","","","","","","","","","","","","","","","","","","","","","","","","","","","","","","","","","","","","","","","","","","","","","","","","","","","","","","","","",""]
[null,null,null,null,null,null,null,null,null,null,null,null,null,null,null,null,null,null,null,null,null,null,null,null,null,null,null,null,null,"","","","","","","","","","","","","","","","","","","","","","","","","","","","","","","","","","","","","","","","","","","","","","","","","","","","","","","","","","","","","","","","","","","","","","","","","","","","","","","","","","",""]
[null,null,null,null,null,null,null,null,null,null,null,null,null,null,null,null,null,null,null,null,null,null,null,null,null,null,null,null,null,"","","","","","","","","","","","","","","","","","","","","","","","","","","","","","","","","","","","","","","","","","","","","","","","","","","","","","","","","","","","","","","","","","","","","","","","","","","","","","","","","","",""]
[null,null,null,null,null,null,null,null,null,null,null,null,null,null,null,null,null,null,null,null,null,null,null,null,null,null,null,null,null,"","","","","","","","","","","","","","","","","","","","","","","","","","","","","","","","","","","","","","","","","","","","","","","","","","","","","","","","","","","","","","","","","","","","","","","","","","","","","","","","","","",""]
[null,null,null,null,null,null,null,null,null,null,null,null,null,null,null,null,null,null,null,null,null,null,null,null,null,null,null,null,null,"","","","","","","","","","","","","","","","","","","","","","","","","","","","","","","","","","","","","","","","","","","","","","","","","","","","","","","","","","","","","","","","","","","","","","","","","","","","","","","","","","",""]
[null,null,null,null,null,null,null,null,null,null,null,null,null,null,null,null,null,null,null,null,null,null,null,null,null,null,null,null,null,"","","","","","","","","","","","","","","","","","","","","","","","","","","","","","","","","","","","","","","","","","","","","","","","","","","","","","","","","","","","","","","","","","","","","","","","","","","","","","","","","","",""]
[null,null,null,null,null,null,null,null,null,null,null,null,null,null,null,null,null,null,null,null,null,null,null,null,null,null,null,null,null,"","","","","","","","","","","","","","","","","","","","","","","","","","","","","","","","","","","","","","","","","","","","","","","","","","","","","","","","","","","","","","","","","","","","","","","","","","","","","","","","","","",""]
[null,null,null,null,null,null,null,null,null,null,null,null,null,null,null,null,null,null,null,null,null,null,null,null,null,null,null,null,null,"","","","","","","","","","","","","","","","","","","","","","","","","","","","","","","","","","","","","","","","","","","","","","","","","","","","","","","","","","","","","","","","","","","","","","","","","","","","","","","","","","",""]
[null,null,null,null,null,null,null,null,null,null,null,null,null,null,null,null,null,null,null,null,null,null,null,null,null,null,null,null,null,"","","","","","","","","","","","","","","","","","","","","","","","","","","","","","","","","","","","","","","","","","","","","","","","","","","","","","","","","","","","","","","","","","","","","","","","","","","","","","","","","","",""]
[null,null,null,null,null,null,null,null,null,null,null,null,null,null,null,null,null,null,null,null,null,null,null,null,null,null,null,null,null,"","","","","","","","","","","","","","","","","","","","","","","","","","","","","","","","","","","","","","","","","","","","","","","","","","","","","","","","","","","","","","","","","","","","","","","","","","","","","","","","","","",""]
[null,null,null,null,null,null,null,null,null,null,null,null,null,null,null,null,null,null,null,null,null,null,null,null,null,null,null,null,null,"","","","","","","","","","","","","","","","","","","","","","","","","","","","","","","","","","","","","","","","","","","","","","","","","","","","","","","","","","","","","","","","","","","","","","","","","","","","","","","","","","",""]
[null,null,null,null,null,null,null,null,null,null,null,null,null,null,null,null,null,null,null,null,null,null,null,null,null,null,null,null,null,"","","","","","","","","","","","","","","","","","","","","","","","","","","","","","","","","","","","","","","","","","","","","","","","","","","","","","","","","","","","","","","","","","","","","","","","","","","","","","","","","","",""]
[null,null,null,null,null,null,null,null,null,null,null,null,null,null,null,null,null,null,null,null,null,null,null,null,null,null,null,null,null,"","","","","","","","","","","","","","","","","","","","","","","","","","","","","","","","","","","","","","","","","","","","","","","","","","","","","","","","","","","","","","","","","","","","","","","","","","","","","","","","","","",""]
[null,null,null,null,null,null,null,null,null,null,null,null,null,null,null,null,null,null,null,null,null,null,null,null,null,null,null,null,null,"","","","","","","","","","","","","","","","","","","","","","","","","","","","","","","","","","","","","","","","","","","","","","","","","","","","","","","","","","","","","","","","","","","","","","","","","","","","","","","","","","",""]
[null,null,null,null,null,null,null,null,null,null,null,null,null,null,null,null,null,null,null,null,null,null,null,null,null,null,null,null,null,"","","","","","","","","","","","","","","","","","","","","","","","","","","","","","","","","","","","","","","","","","","","","","","","","","","","","","","","","","","","","","","","","","","","","","","","","","","","","","","","","","",""]
[null,null,null,null,null,null,null,null,null,null,null,null,null,null,null,null,null,null,null,null,null,null,null,null,null,null,null,null,null,"","","","","","","","","","","","","","","","","","","","","","","","","","","","","","","","","","","","","","","","","","","","","","","","","","","","","","","","","","","","","","","","","","","","","","","","","","","","","","","","","","",""]
[null,null,null,null,null,null,null,null,null,null,null,null,null,null,null,null,null,null,null,null,null,null,null,null,null,null,null,null,null,"","","","","","","","","","","","","","","","","","","","","","","","","","","","","","","","","","","","","","","","","","","","","","","","","","","","","","","","","","","","","","","","","","","","","","","","","","","","","","","","","","",""]
[null,null,null,null,null,null,null,null,null,null,null,null,null,null,null,null,null,null,null,null,null,null,null,null,null,null,null,null,null,"","","","","","","","","","","","","","","","","","","","","","","","","","","","","","","","","","","","","","","","","","","","","","","","","","","","","","","","","","","","","","","","","","","","","","","","","","","","","","","","","","",""]
[null,null,null,null,null,null,null,null,null,null,null,null,null,null,null,null,null,null,null,null,null,null,null,null,null,null,null,null,null,"","","","","","","","","","","","","","","","","","","","","","","","","","","","","","","","","","","","","","","","","","","","","","","","","","","","","","","","","","","","","","","","","","","","","","","","","","","","","","","","","","",""]
[null,null,null,null,null,null,null,null,null,null,null,null,null,null,null,null,null,null,null,null,null,null,null,null,null,null,null,null,null,"","","","","","","","","","","","","","","","","","","","","","","","","","","","","","","","","","","","","","","","","","","","","","","","","","","","","","","","","","","","","","","","","","","","","","","","","","","","","","","","","","",""]
[null,null,null,null,null,null,null,null,null,null,null,null,null,null,null,null,null,null,null,null,null,null,null,null,null,null,null,null,null,"","","","","","","","","","","","","","","","","","","","","","","","","","","","","","","","","","","","","","","","","","","","","","","","","","","","","","","","","","","","","","","","","","","","","","","","","","","","","","","","","","",""]
[null,null,null,null,null,null,null,null,null,null,null,null,null,null,null,null,null,null,null,null,null,null,null,null,null,null,null,null,null,"","","","","","","","","","","","","","","","","","","","","","","","","","","","","","","","","","","","","","","","","","","","","","","","","","","","","","","","","","","","","","","","","","","","","","","","","","","","","","","","","","",""]
[null,null,null,null,null,null,null,null,null,null,null,null,null,null,null,null,null,null,null,null,null,null,null,null,null,null,null,null,null,"","","","","","","","","","","","","","","","","","","","","","","","","","","","","","","","","","","","","","","","","","","","","","","","","","","","","","","","","","","","","","","","","","","","","","","","","","","","","","","","","","",""]
[null,null,null,null,null,null,null,null,null,null,null,null,null,null,null,null,null,null,null,null,null,null,null,null,null,null,null,null,null,"","","","","","","","","","","","","","","","","","","","","","","","","","","","","","","","","","","","","","","","","","","","","","","","","","","","","","","","","","","","","","","","","","","","","","","","","","","","","","","","","","",""]
[null,null,null,null,null,null,null,null,null,null,null,null,null,null,null,null,null,null,null,null,null,null,null,null,null,null,null,null,null,"","","","","","","","","","","","","","","","","","","","","","","","","","","","","","","","","","","","","","","","","","","","","","","","","","","","","","","","","","","","","","","","","","","","","","","","","","","","","","","","","","",""]
[null,null,null,null,null,null,null,null,null,null,null,null,null,null,null,null,null,null,null,null,null,null,null,null,null,null,null,null,null,"","","","","","","","","","","","","","","","","","","","","","","","","","","","","","","","","","","","","","","","","","","","","","","","","","","","","","","","","","","","","","","","","","","","","","","","","","","","","","","","","","",""]
[null,null,null,null,null,null,null,null,null,null,null,null,null,null,null,null,null,null,null,null,null,null,null,null,null,null,null,null,null,"","","","","","","","","","","","","","","","","","","","","","","","","","","","","","","","","","","","","","","","","","","","","","","","","","","","","","","","","","","","","","","","","","","","","","","","","","","","","","","","","","",""]
[null,null,null,null,null,null,null,null,null,null,null,null,null,null,null,null,null,null,null,null,null,null,null,null,null,null,null,null,null,"","","","","","","","","","","","","","","","","","","","","","","","","","","","","","","","","","","","","","","","","","","","","","","","","","","","","","","","","","","","","","","","","","","","","","","","","","","","","","","","","","",""]
[null,null,null,null,null,null,null,null,null,null,null,null,null,null,null,null,null,null,null,null,null,null,null,null,null,null,null,null,null,"","","","","","","","","","","","","","","","","","","","","","","","","","","","","","","","","","","","","","","","","","","","","","","","","","","","","","","","","","","","","","","","","","","","","","","","","","","","","","","","","","",""]
[null,null,null,null,null,null,null,null,null,null,null,null,null,null,null,null,null,null,null,null,null,null,null,null,null,null,null,null,null,"","","","","","","","","","","","","","","","","","","","","","","","","","","","","","","","","","","","","","","","","","","","","","","","","","","","","","","","","","","","","","","","","","","","","","","","","","","","","","","","","","",""]
[null,null,null,null,null,null,null,null,null,null,null,null,null,null,null,null,null,null,null,null,null,null,null,null,null,null,null,null,null,"","","","","","","","","","","","","","","","","","","","","","","","","","","","","","","","","","","","","","","","","","","","","","","","","","","","","","","","","","","","","","","","","","","","","","","","","","","","","","","","","","",""]
[null,null,null,null,null,null,null,null,null,null,null,null,null,null,null,null,null,null,null,null,null,null,null,null,null,null,null,null,null,"","","","","","","","","","","","","","","","","","","","","","","","","","","","","","","","","","","","","","","","","","","","","","","","","","","","","","","","","","","","","","","","","","","","","","","","","","","","","","","","","","",""]
[null,null,null,null,null,null,null,null,null,null,null,null,null,null,null,null,null,null,null,null,null,null,null,null,null,null,null,null,null,"","","","","","","","","","","","","","","","","","","","","","","","","","","","","","","","","","","","","","","","","","","","","","","","","","","","","","","","","","","","","","","","","","","","","","","","","","","","","","","","","","",""]
[null,null,null,null,null,null,null,null,null,null,null,null,null,null,null,null,null,null,null,null,null,null,null,null,null,null,null,null,null,"","","","","","","","","","","","","","","","","","","","","","","","","","","","","","","","","","","","","","","","","","","","","","","","","","","","","","","","","","","","","","","","","","","","","","","","","","","","","","","","","","",""]
[null,null,null,null,null,null,null,null,null,null,null,null,null,null,null,null,null,null,null,null,null,null,null,null,null,null,null,null,null,"","","","","","","","","","","","","","","","","","","","","","","","","","","","","","","","","","","","","","","","","","","","","","","","","","","","","","","","","","","","","","","","","","","","","","","","","","","","","","","","","","",""]
[null,null,null,null,null,null,null,null,null,null,null,null,null,null,null,null,null,null,null,null,null,null,null,null,null,null,null,null,null,"","","","","","","","","","","","","","","","","","","","","","","","","","","","","","","","","","","","","","","","","","","","","","","","","","","","","","","","","","","","","","","","","","","","","","","","","","","","","","","","","","",""]
[null,null,null,null,null,null,null,null,null,null,null,null,null,null,null,null,null,null,null,null,null,null,null,null,null,null,null,null,null,"","","","","","","","","","","","","","","","","","","","","","","","","","","","","","","","","","","","","","","","","","","","","","","","","","","","","","","","","","","","","","","","","","","","","","","","","","","","","","","","","","",""]
[null,null,null,null,null,null,null,null,null,null,null,null,null,null,null,null,null,null,null,null,null,null,null,null,null,null,null,null,null,"","","","","","","","","","","","","","","","","","","","","","","","","","","","","","","","","","","","","","","","","","","","","","","","","","","","","","","","","","","","","","","","","","","","","","","","","","","","","","","","","","",""]
[null,null,null,null,null,null,null,null,null,null,null,null,null,null,null,null,null,null,null,null,null,null,null,null,null,null,null,null,null,"","","","","","","","","","","","","","","","","","","","","","","","","","","","","","","","","","","","","","","","","","","","","","","","","","","","","","","","","","","","","","","","","","","","","","","","","","","","","","","","","","",""]
[null,null,null,null,null,null,null,null,null,null,null,null,null,null,null,null,null,null,null,null,null,null,null,null,null,null,null,null,null,"","","","","","","","","","","","","","","","","","","","","","","","","","","","","","","","","","","","","","","","","","","","","","","","","","","","","","","","","","","","","","","","","","","","","","","","","","","","","","","","","","",""]
[null,null,null,null,null,null,null,null,null,null,null,null,null,null,null,null,null,null,null,null,null,null,null,null,null,null,null,null,null,"","","","","","","","","","","","","","","","","","","","","","","","","","","","","","","","","","","","","","","","","","","","","","","","","","","","","","","","","","","","","","","","","","","","","","","","","","","","","","","","","","",""]
[null,null,null,null,null,null,null,null,null,null,null,null,null,null,null,null,null,null,null,null,null,null,null,null,null,null,null,null,null,"","","","","","","","","","","","","","","","","","","","","","","","","","","","","","","","","","","","","","","","","","","","","","","","","","","","","","","","","","","","","","","","","","","","","","","","","","","","","","","","","","",""]
[null,null,null,null,null,null,null,null,null,null,null,null,null,null,null,null,null,null,null,null,null,null,null,null,null,null,null,null,null,"","","","","","","","","","","","","","","","","","","","","","","","","","","","","","","","","","","","","","","","","","","","","","","","","","","","","","","","","","","","","","","","","","","","","","","","","","","","","","","","","","",""]
[null,null,null,null,null,null,null,null,null,null,null,null,null,null,null,null,null,null,null,null,null,null,null,null,null,null,null,null,null,"","","","","","","","","","","","","","","","","","","","","","","","","","","","","","","","","","","","","","","","","","","","","","","","","","","","","","","","","","","","","","","","","","","","","","","","","","","","","","","","","","",""]
[null,null,null,null,null,null,null,null,null,null,null,null,null,null,null,null,null,null,null,null,null,null,null,null,null,null,null,null,null,"","","","","","","","","","","","","","","","","","","","","","","","","","","","","","","","","","","","","","","","","","","","","","","","","","","","","","","","","","","","","","","","","","","","","","","","","","","","","","","","","","",""]
[null,null,null,null,null,null,null,null,null,null,null,null,null,null,null,null,null,null,null,null,null,null,null,null,null,null,null,null,null,"","","","","","","","","","","","","","","","","","","","","","","","","","","","","","","","","","","","","","","","","","","","","","","","","","","","","","","","","","","","","","","","","","","","","","","","","","","","","","","","","","",""]
[null,null,null,null,null,null,null,null,null,null,null,null,null,null,null,null,null,null,null,null,null,null,null,null,null,null,null,null,null,"","","","","","","","","","","","","","","","","","","","","","","","","","","","","","","","","","","","","","","","","","","","","","","","","","","","","","","","","","","","","","","","","","","","","","","","","","","","","","","","","","",""]
[null,null,null,null,null,null,null,null,null,null,null,null,null,null,null,null,null,null,null,null,null,null,null,null,null,null,null,null,null,"","","","","","","","","","","","","","","","","","","","","","","","","","","","","","","","","","","","","","","","","","","","","","","","","","","","","","","","","","","","","","","","","","","","","","","","","","","","","","","","","","",""]
[null,null,null,null,null,null,null,null,null,null,null,null,null,null,null,null,null,null,null,null,null,null,null,null,null,null,null,null,null,"","","","","","","","","","","","","","","","","","","","","","","","","","","","","","","","","","","","","","","","","","","","","","","","","","","","","","","","","","","","","","","","","","","","","","","","","","","","","","","","","","",""]
[null,null,null,null,null,null,null,null,null,null,null,null,null,null,null,null,null,null,null,null,null,null,null,null,null,null,null,null,null,"","","","","","","","","","","","","","","","","","","","","","","","","","","","","","","","","","","","","","","","","","","","","","","","","","","","","","","","","","","","","","","","","","","","","","","","","","","","","","","","","","",""]
[null,null,null,null,null,null,null,null,null,null,null,null,null,null,null,null,null,null,null,null,null,null,null,null,null,null,null,null,null,"","","","","","","","","","","","","","","","","","","","","","","","","","","","","","","","","","","","","","","","","","","","","","","","","","","","","","","","","","","","","","","","","","","","","","","","","","","","","","","","","","",""]
[null,null,null,null,null,null,null,null,null,null,null,null,null,null,null,null,null,null,null,null,null,null,null,null,null,null,null,null,null,"","","","","","","","","","","","","","","","","","","","","","","","","","","","","","","","","","","","","","","","","","","","","","","","","","","","","","","","","","","","","","","","","","","","","","","","","","","","","","","","","","",""]
[null,null,null,null,null,null,null,null,null,null,null,null,null,null,null,null,null,null,null,null,null,null,null,null,null,null,null,null,null,"","","","","","","","","","","","","","","","","","","","","","","","","","","","","","","","","","","","","","","","","","","","","","","","","","","","","","","","","","","","","","","","","","","","","","","","","","","","","","","","","","",""]
[null,null,null,null,null,null,null,null,null,null,null,null,null,null,null,null,null,null,null,null,null,null,null,null,null,null,null,null,null,"","","","","","","","","","","","","","","","","","","","","","","","","","","","","","","","","","","","","","","","","","","","","","","","","","","","","","","","","","","","","","","","","","","","","","","","","","","","","","","","","","",""]
[null,null,null,null,null,null,null,null,null,null,null,null,null,null,null,null,null,null,null,null,null,null,null,null,null,null,null,null,null,"","","","","","","","","","","","","","","","","","","","","","","","","","","","","","","","","","","","","","","","","","","","","","","","","","","","","","","","","","","","","","","","","","","","","","","","","","","","","","","","","","",""]
[null,null,null,null,null,null,null,null,null,null,null,null,null,null,null,null,null,null,null,null,null,null,null,null,null,null,null,null,null,"","","","","","","","","","","","","","","","","","","","","","","","","","","","","","","","","","","","","","","","","","","","","","","","","","","","","","","","","","","","","","","","","","","","","","","","","","","","","","","","","","",""]
[null,null,null,null,null,null,null,null,null,null,null,null,null,null,null,null,null,null,null,null,null,null,null,null,null,null,null,null,null,"","","","","","","","","","","","","","","","","","","","","","","","","","","","","","","","","","","","","","","","","","","","","","","","","","","","","","","","","","","","","","","","","","","","","","","","","","","","","","","","","","",""]
[null,null,null,null,null,null,null,null,null,null,null,null,null,null,null,null,null,null,null,null,null,null,null,null,null,null,null,null,null,"","","","","","","","","","","","","","","","","","","","","","","","","","","","","","","","","","","","","","","","","","","","","","","","","","","","","","","","","","","","","","","","","","","","","","","","","","","","","","","","","","",""]
[null,null,null,null,null,null,null,null,null,null,null,null,null,null,null,null,null,null,null,null,null,null,null,null,null,null,null,null,null,{"$f":"IF(BZ71=\"\",\"\",OFFSET($D71,0,2*BZ71))","v":""},{"$f":"IF(CA71=\"\",\"\",OFFSET($D71,0,2*CA71))","v":""},{"$f":"IF(CB71=\"\",\"\",OFFSET($D71,0,2*CB71))","v":""},{"$f":"IF(CC71=\"\",\"\",OFFSET($D71,0,2*CC71))","v":""},{"$f":"IF(CD71=\"\",\"\",OFFSET($D71,0,2*CD71))","v":""},{"$f":"IF(CE71=\"\",\"\",OFFSET($D71,0,2*CE71))","v":""},{"$f":"IF(CF71=\"\",\"\",OFFSET($D71,0,2*CF71))","v":""},{"$f":"IF(CG71=\"\",\"\",OFFSET($D71,0,2*CG71))","v":""},{"$f":"IF(CH71=\"\",\"\",OFFSET($D71,0,2*CH71))","v":""},{"$f":"IF(CI71=\"\",\"\",OFFSET($D71,0,2*CI71))","v":""},{"$f":"IF(CJ71=\"\",\"\",OFFSET($D71,0,2*CJ71))","v":""},{"$f":"IF(CK71=\"\",\"\",OFFSET($D71,0,2*CK71))","v":""},{"$f":"IF(BZ71=\"\",\"\",IF(COUNT(OFFSET($D71,0,2*BZ71-1,1,2))=2,OFFSET($D71,0,2*BZ71-1),\"\"))","v":""},{"$f":"IF(CA71=\"\",\"\",IF(COUNT(OFFSET($D71,0,2*CA71-1,1,2))=2,OFFSET($D71,0,2*CA71-1),\"\"))","v":""},{"$f":"IF(CB71=\"\",\"\",IF(COUNT(OFFSET($D71,0,2*CB71-1,1,2))=2,OFFSET($D71,0,2*CB71-1),\"\"))","v":""},{"$f":"IF(CC71=\"\",\"\",IF(COUNT(OFFSET($D71,0,2*CC71-1,1,2))=2,OFFSET($D71,0,2*CC71-1),\"\"))","v":""},{"$f":"IF(CD71=\"\",\"\",IF(COUNT(OFFSET($D71,0,2*CD71-1,1,2))=2,OFFSET($D71,0,2*CD71-1),\"\"))","v":""},{"$f":"IF(CE71=\"\",\"\",IF(COUNT(OFFSET($D71,0,2*CE71-1,1,2))=2,OFFSET($D71,0,2*CE71-1),\"\"))","v":""},{"$f":"IF(CF71=\"\",\"\",IF(COUNT(OFFSET($D71,0,2*CF71-1,1,2))=2,OFFSET($D71,0,2*CF71-1),\"\"))","v":""},{"$f":"IF(CG71=\"\",\"\",IF(COUNT(OFFSET($D71,0,2*CG71-1,1,2))=2,OFFSET($D71,0,2*CG71-1),\"\"))","v":""},{"$f":"IF(CH71=\"\",\"\",IF(COUNT(OFFSET($D71,0,2*CH71-1,1,2))=2,OFFSET($D71,0,2*CH71-1),\"\"))","v":""},{"$f":"IF(CI71=\"\",\"\",IF(COUNT(OFFSET($D71,0,2*CI71-1,1,2))=2,OFFSET($D71,0,2*CI71-1),\"\"))","v":""},{"$f":"IF(CJ71=\"\",\"\",IF(COUNT(OFFSET($D71,0,2*CJ71-1,1,2))=2,OFFSET($D71,0,2*CJ71-1),\"\"))","v":""},{"$f":"IF(CK71=\"\",\"\",IF(COUNT(OFFSET($D71,0,2*CK71-1,1,2))=2,OFFSET($D71,0,2*CK71-1),\"\"))","v":""},{"$f":"IF(AND(E71<>\"\",F71<>\"\"),F71,\"\")","v":""},{"$f":"IF(AND(G71<>\"\",H71<>\"\"),H71,\"\")","v":""},{"$f":"IF(AND(I71<>\"\",J71<>\"\"),J71,\"\")","v":""},{"$f":"IF(AND(K71<>\"\",L71<>\"\"),L71,\"\")","v":""},{"$f":"IF(AND(M71<>\"\",N71<>\"\"),N71,\"\")","v":""},{"$f":"IF(AND(O71<>\"\",P71<>\"\"),P71,\"\")","v":""},{"$f":"IF(AND(Q71<>\"\",R71<>\"\"),R71,\"\")","v":""},{"$f":"IF(AND(S71<>\"\",T71<>\"\"),T71,\"\")","v":""},{"$f":"IF(AND(U71<>\"\",V71<>\"\"),V71,\"\")","v":""},{"$f":"IF(AND(W71<>\"\",X71<>\"\"),X71,\"\")","v":""},{"$f":"IF(AND(Y71<>\"\",Z71<>\"\"),Z71,\"\")","v":""},{"$f":"IF(AND(AA71<>\"\",AB71<>\"\"),AB71,\"\")","v":""},{"$f":"IF(BB71<>\"\",RANK(BB71,$BB71:$BM71,1),\"\")","v":""},{"$f":"IF(BC71<>\"\",RANK(BC71,$BB71:$BM71,1),\"\")","v":""},{"$f":"IF(BD71<>\"\",RANK(BD71,$BB71:$BM71,1),\"\")","v":""},{"$f":"IF(BE71<>\"\",RANK(BE71,$BB71:$BM71,1),\"\")","v":""},{"$f":"IF(BF71<>\"\",RANK(BF71,$BB71:$BM71,1),\"\")","v":""},{"$f":"IF(BG71<>\"\",RANK(BG71,$BB71:$BM71,1),\"\")","v":""},{"$f":"IF(BH71<>\"\",RANK(BH71,$BB71:$BM71,1),\"\")","v":""},{"$f":"IF(BI71<>\"\",RANK(BI71,$BB71:$BM71,1),\"\")","v":""},{"$f":"IF(BJ71<>\"\",RANK(BJ71,$BB71:$BM71,1),\"\")","v":""},{"$f":"IF(BK71<>\"\",RANK(BK71,$BB71:$BM71,1),\"\")","v":""},{"$f":"IF(BL71<>\"\",RANK(BL71,$BB71:$BM71,1),\"\")","v":""},{"$f":"IF(BM71<>\"\",RANK(BM71,$BB71:$BM71,1),\"\")","v":""},{"$f":"IF(ISNA(MATCH(1,$BN71:$BY71,0)),\"\",MATCH(1,$BN71:$BY71,0))","v":""},{"$f":"IF(COUNT($CL71:$CV71)<1,\"\",MATCH(VALUE(CX71),$BN71:$BY71,0))","v":""},{"$f":"IF(COUNT($CL71:$CV71)<2,\"\",MATCH(VALUE(CY71),$BN71:$BY71,0))","v":""},{"$f":"IF(COUNT($CL71:$CV71)<3,\"\",MATCH(VALUE(CZ71),$BN71:$BY71,0))","v":""},{"$f":"IF(COUNT($CL71:$CV71)<4,\"\",MATCH(VALUE(DA71),$BN71:$BY71,0))","v":""},{"$f":"IF(COUNT($CL71:$CV71)<5,\"\",MATCH(VALUE(DB71),$BN71:$BY71,0))","v":""},{"$f":"IF(COUNT($CL71:$CV71)<6,\"\",MATCH(VALUE(DC71),$BN71:$BY71,0))","v":""},{"$f":"IF(COUNT($CL71:$CV71)<7,\"\",MATCH(VALUE(DD71),$BN71:$BY71,0))","v":""},{"$f":"IF(COUNT($CL71:$CV71)<8,\"\",MATCH(VALUE(DE71),$BN71:$BY71,0))","v":""},{"$f":"IF(COUNT($CL71:$CV71)<9,\"\",MATCH(VALUE(DF71),$BN71:$BY71,0))","v":""},{"$f":"IF(COUNT($CL71:$CV71)<10,\"\",MATCH(VALUE(DG71),$BN71:$BY71,0))","v":""},{"$f":"IF(COUNT($CL71:$CV71)<11,\"\",MATCH(VALUE(DH71),$BN71:$BY71,0))","v":""},{"$f":"IF(AND(COUNT($BN71:$BY71)>1,NOT(ISNA(MATCH(2,$BN71:$BY71,0)))),0,\"\")","v":""},{"$f":"IF(AND(COUNT($BN71:$BY71)>2,NOT(ISNA(MATCH(3,$BN71:$BY71,0)))),1,\"\")","v":""},{"$f":"IF(AND(COUNT($BN71:$BY71)>3,NOT(ISNA(MATCH(4,$BN71:$BY71,0)))),2,\"\")","v":""},{"$f":"IF(AND(COUNT($BN71:$BY71)>4,NOT(ISNA(MATCH(5,$BN71:$BY71,0)))),3,\"\")","v":""},{"$f":"IF(AND(COUNT($BN71:$BY71)>5,NOT(ISNA(MATCH(6,$BN71:$BY71,0)))),4,\"\")","v":""},{"$f":"IF(AND(COUNT($BN71:$BY71)>6,NOT(ISNA(MATCH(7,$BN71:$BY71,0)))),5,\"\")","v":""},{"$f":"IF(AND(COUNT($BN71:$BY71)>7,NOT(ISNA(MATCH(8,$BN71:$BY71,0)))),6,\"\")","v":""},{"$f":"IF(AND(COUNT($BN71:$BY71)>8,NOT(ISNA(MATCH(9,$BN71:$BY71,0)))),7,\"\")","v":""},{"$f":"IF(AND(COUNT($BN71:$BY71)>9,NOT(ISNA(MATCH(10,$BN71:$BY71,0)))),8,\"\")","v":""},{"$f":"IF(AND(COUNT($BN71:$BY71)>10,NOT(ISNA(MATCH(11,$BN71:$BY71,0)))),9,\"\")","v":""},{"$f":"IF(AND(COUNT($BN71:$BY71)>11,NOT(ISNA(MATCH(12,$BN71:$BY71,0)))),10,\"\")","v":""},{"$f":"CONCATENATE(CL71,CM71,CN71,CO71,CP71,CQ71,CR71,CS71,CT71,CU71,IF(CV71=10,\"A\",\"\"))","v":""},{"$f":"IF(MID($CW71,1,1)=\"\",\"\",IF(MID($CW71,1,1)=\"A\",12,MID($CW71,1,1)+2))","v":""},{"$f":"IF(MID($CW71,2,1)=\"\",\"\",IF(MID($CW71,2,1)=\"A\",12,MID($CW71,2,1)+2))","v":""},{"$f":"IF(MID($CW71,3,1)=\"\",\"\",IF(MID($CW71,3,1)=\"A\",12,MID($CW71,3,1)+2))","v":""},{"$f":"IF(MID($CW71,4,1)=\"\",\"\",IF(MID($CW71,4,1)=\"A\",12,MID($CW71,4,1)+2))","v":""},{"$f":"IF(MID($CW71,5,1)=\"\",\"\",IF(MID($CW71,5,1)=\"A\",12,MID($CW71,5,1)+2))","v":""},{"$f":"IF(MID($CW71,6,1)=\"\",\"\",IF(MID($CW71,6,1)=\"A\",12,MID($CW71,6,1)+2))","v":""},{"$f":"IF(MID($CW71,7,1)=\"\",\"\",IF(MID($CW71,7,1)=\"A\",12,MID($CW71,7,1)+2))","v":""},{"$f":"IF(MID($CW71,8,1)=\"\",\"\",IF(MID($CW71,8,1)=\"A\",12,MID($CW71,8,1)+2))","v":""},{"$f":"IF(MID($CW71,9,1)=\"\",\"\",IF(MID($CW71,9,1)=\"A\",12,MID($CW71,9,1)+2))","v":""},{"$f":"IF(MID($CW71,10,1)=\"\",\"\",IF(MID($CW71,10,1)=\"A\",12,MID($CW71,10,1)+2))","v":""},{"$f":"IF(MID($CW71,11,1)=\"\",\"\",IF(MID($CW71,11,1)=\"A\",12,MID($CW71,11,1)+2))","v":""}]
[null,null,null,null,null,null,null,null,null,null,null,null,null,null,null,null,null,null,null,null,null,null,null,null,null,null,null,null,null,"","","","","","","","","","","","","","","","","","","","","","","","","","","","","","","","","","","","","","","","","","","","","","","","","","","","","","","","","","","","","","","","","","","","","","","","","","","","","","","","","","",""]
[null,null,null,null,null,null,null,null,null,null,null,null,null,null,null,null,null,null,null,null,null,null,null,null,null,null,null,null,null,"","","","","","","","","","","","","","","","","","","","","","","","","","","","","","","","","","","","","","","","","","","","","","","","","","","","","","","","","","","","","","","","","","","","","","","","","","","","","","","","","","",""]
[null,null,null,null,null,null,null,null,null,null,null,null,null,null,null,null,null,null,null,null,null,null,null,null,null,null,null,null,null,"","","","","","","","","","","","","","","","","","","","","","","","","","","","","","","","","","","","","","","","","","","","","","","","","","","","","","","","","","","","","","","","","","","","","","","","","","","","","","","","","","",""]
[null,null,null,null,null,null,null,null,null,null,null,null,null,null,null,null,null,null,null,null,null,null,null,null,null,null,null,null,null,"","","","","","","","","","","","","","","","","","","","","","","","","","","","","","","","","","","","","","","","","","","","","","","","","","","","","","","","","","","","","","","","","","","","","","","","","","","","","","","","","","",""]
[null,null,null,null,null,null,null,null,null,null,null,null,null,null,null,null,null,null,null,null,null,null,null,null,null,null,null,null,null,"","","","","","","","","","","","","","","","","","","","","","","","","","","","","","","","","","","","","","","","","","","","","","","","","","","","","","","","","","","","","","","","","","","","","","","","","","","","","","","","","","",""]
[null,null,null,null,null,null,null,null,null,null,null,null,null,null,null,null,null,null,null,null,null,null,null,null,null,null,null,null,null,"","","","","","","","","","","","","","","","","","","","","","","","","","","","","","","","","","","","","","","","","","","","","","","","","","","","","","","","","","","","","","","","","","","","","","","","","","","","","","","","","","",""]
[null,null,null,null,null,null,null,null,null,null,null,null,null,null,null,null,null,null,null,null,null,null,null,null,null,null,null,null,null,"","","","","","","","","","","","","","","","","","","","","","","","","","","","","","","","","","","","","","","","","","","","","","","","","","","","","","","","","","","","","","","","","","","","","","","","","","","","","","","","","","",""]
[null,null,null,null,null,null,null,null,null,null,null,null,null,null,null,null,null,null,null,null,null,null,null,null,null,null,null,null,null,"","","","","","","","","","","","","","","","","","","","","","","","","","","","","","","","","","","","","","","","","","","","","","","","","","","","","","","","","","","","","","","","","","","","","","","","","","","","","","","","","","",""]
[null,null,null,null,null,null,null,null,null,null,null,null,null,null,null,null,null,null,null,null,null,null,null,null,null,null,null,null,null,"","","","","","","","","","","","","","","","","","","","","","","","","","","","","","","","","","","","","","","","","","","","","","","","","","","","","","","","","","","","","","","","","","","","","","","","","","","","","","","","","","",""]
[null,null,null,null,null,null,null,null,null,null,null,null,null,null,null,null,null,null,null,null,null,null,null,null,null,null,null,null,null,"","","","","","","","","","","","","","","","","","","","","","","","","","","","","","","","","","","","","","","","","","","","","","","","","","","","","","","","","","","","","","","","","","","","","","","","","","","","","","","","","","",""]
[null,null,null,null,null,null,null,null,null,null,null,null,null,null,null,null,null,null,null,null,null,null,null,null,null,null,null,null,null,"","","","","","","","","","","","","","","","","","","","","","","","","","","","","","","","","","","","","","","","","","","","","","","","","","","","","","","","","","","","","","","","","","","","","","","","","","","","","","","","","","",""]
[null,null,null,null,null,null,null,null,null,null,null,null,null,null,null,null,null,null,null,null,null,null,null,null,null,null,null,null,null,"","","","","","","","","","","","","","","","","","","","","","","","","","","","","","","","","","","","","","","","","","","","","","","","","","","","","","","","","","","","","","","","","","","","","","","","","","","","","","","","","","",""]
[null,null,null,null,null,null,null,null,null,null,null,null,null,null,null,null,null,null,null,null,null,null,null,null,null,null,null,null,null,"","","","","","","","","","","","","","","","","","","","","","","","","","","","","","","","","","","","","","","","","","","","","","","","","","","","","","","","","","","","","","","","","","","","","","","","","","","","","","","","","","",""]
[null,null,null,null,null,null,null,null,null,null,null,null,null,null,null,null,null,null,null,null,null,null,null,null,null,null,null,null,null,"","","","","","","","","","","","","","","","","","","","","","","","","","","","","","","","","","","","","","","","","","","","","","","","","","","","","","","","","","","","","","","","","","","","","","","","","","","","","","","","","","",""]
[null,null,null,null,null,null,null,null,null,null,null,null,null,null,null,null,null,null,null,null,null,null,null,null,null,null,null,null,null,"","","","","","","","","","","","","","","","","","","","","","","","","","","","","","","","","","","","","","","","","","","","","","","","","","","","","","","","","","","","","","","","","","","","","","","","","","","","","","","","","","",""]
[null,null,null,null,null,null,null,null,null,null,null,null,null,null,null,null,null,null,null,null,null,null,null,null,null,null,null,null,null,"","","","","","","","","","","","","","","","","","","","","","","","","","","","","","","","","","","","","","","","","","","","","","","","","","","","","","","","","","","","","","","","","","","","","","","","","","","","","","","","","","",""]
[null,null,null,null,null,null,null,null,null,null,null,null,null,null,null,null,null,null,null,null,null,null,null,null,null,null,null,null,null,"","","","","","","","","","","","","","","","","","","","","","","","","","","","","","","","","","","","","","","","","","","","","","","","","","","","","","","","","","","","","","","","","","","","","","","","","","","","","","","","","","",""]
[null,null,null,null,null,null,null,null,null,null,null,null,null,null,null,null,null,null,null,null,null,null,null,null,null,null,null,null,null,"","","","","","","","","","","","","","","","","","","","","","","","","","","","","","","","","","","","","","","","","","","","","","","","","","","","","","","","","","","","","","","","","","","","","","","","","","","","","","","","","","",""]
[null,null,null,null,null,null,null,null,null,null,null,null,null,null,null,null,null,null,null,null,null,null,null,null,null,null,null,null,null,"","","","","","","","","","","","","","","","","","","","","","","","","","","","","","","","","","","","","","","","","","","","","","","","","","","","","","","","","","","","","","","","","","","","","","","","","","","","","","","","","","",""]
[null,null,null,null,null,null,null,null,null,null,null,null,null,null,null,null,null,null,null,null,null,null,null,null,null,null,null,null,null,"","","","","","","","","","","","","","","","","","","","","","","","","","","","","","","","","","","","","","","","","","","","","","","","","","","","","","","","","","","","","","","","","","","","","","","","","","","","","","","","","","",""]
[null,null,null,null,null,null,null,null,null,null,null,null,null,null,null,null,null,null,null,null,null,null,null,null,null,null,null,null,null,"","","","","","","","","","","","","","","","","","","","","","","","","","","","","","","","","","","","","","","","","","","","","","","","","","","","","","","","","","","","","","","","","","","","","","","","","","","","","","","","","","",""]
[null,null,null,null,null,null,null,null,null,null,null,null,null,null,null,null,null,null,null,null,null,null,null,null,null,null,null,null,null,"","","","","","","","","","","","","","","","","","","","","","","","","","","","","","","","","","","","","","","","","","","","","","","","","","","","","","","","","","","","","","","","","","","","","","","","","","","","","","","","","","",""]
[null,null,null,null,null,null,null,null,null,null,null,null,null,null,null,null,null,null,null,null,null,null,null,null,null,null,null,null,null,"","","","","","","","","","","","","","","","","","","","","","","","","","","","","","","","","","","","","","","","","","","","","","","","","","","","","","","","","","","","","","","","","","","","","","","","","","","","","","","","","","",""]
[null,null,null,null,null,null,null,null,null,null,null,null,null,null,null,null,null,null,null,null,null,null,null,null,null,null,null,null,null,"","","","","","","","","","","","","","","","","","","","","","","","","","","","","","","","","","","","","","","","","","","","","","","","","","","","","","","","","","","","","","","","","","","","","","","","","","","","","","","","","","",""]
[null,null,null,null,null,null,null,null,null,null,null,null,null,null,null,null,null,null,null,null,null,null,null,null,null,null,null,null,null,"","","","","","","","","","","","","","","","","","","","","","","","","","","","","","","","","","","","","","","","","","","","","","","","","","","","","","","","","","","","","","","","","","","","","","","","","","","","","","","","","","",""]
[null,null,null,null,null,null,null,null,null,null,null,null,null,null,null,null,null,null,null,null,null,null,null,null,null,null,null,null,null,"","","","","","","","","","","","","","","","","","","","","","","","","","","","","","","","","","","","","","","","","","","","","","","","","","","","","","","","","","","","","","","","","","","","","","","","","","","","","","","","","","",""]
[null,null,null,null,null,null,null,null,null,null,null,null,null,null,null,null,null,null,null,null,null,null,null,null,null,null,null,null,null,"","","","","","","","","","","","","","","","","","","","","","","","","","","","","","","","","","","","","","","","","","","","","","","","","","","","","","","","","","","","","","","","","","","","","","","","","","","","","","","","","","",""]
[null,null,null,null,null,null,null,null,null,null,null,null,null,null,null,null,null,null,null,null,null,null,null,null,null,null,null,null,null,"","","","","","","","","","","","","","","","","","","","","","","","","","","","","","","","","","","","","","","","","","","","","","","","","","","","","","","","","","","","","","","","","","","","","","","","","","","","","","","","","","",""]
[null,null,null,null,null,null,null,null,null,null,null,null,null,null,null,null,null,null,null,null,null,null,null,null,null,null,null,null,null,"","","","","","","","","","","","","","","","","","","","","","","","","","","","","","","","","","","","","","","","","","","","","","","","","","","","","","","","","","","","","","","","","","","","","","","","","","","","","","","","","","",""]
[null,null,null,null,null,null,null,null,null,null,null,null,null,null,null,null,null,null,null,null,null,null,null,null,null,null,null,null,null,"","","","","","","","","","","","","","","","","","","","","","","","","","","","","","","","","","","","","","","","","","","","","","","","","","","","","","","","","","","","","","","","","","","","","","","","","","","","","","","","","","",""]
[null,null,null,null,null,null,null,null,null,null,null,null,null,null,null,null,null,null,null,null,null,null,null,null,null,null,null,null,null,"","","","","","","","","","","","","","","","","","","","","","","","","","","","","","","","","","","","","","","","","","","","","","","","","","","","","","","","","","","","","","","","","","","","","","","","","","","","","","","","","","",""]
[null,null,null,null,null,null,null,null,null,null,null,null,null,null,null,null,null,null,null,null,null,null,null,null,null,null,null,null,null,"","","","","","","","","","","","","","","","","","","","","","","","","","","","","","","","","","","","","","","","","","","","","","","","","","","","","","","","","","","","","","","","","","","","","","","","","","","","","","","","","","",""]
[null,null,null,null,null,null,null,null,null,null,null,null,null,null,null,null,null,null,null,null,null,null,null,null,null,null,null,null,null,"","","","","","","","","","","","","","","","","","","","","","","","","","","","","","","","","","","","","","","","","","","","","","","","","","","","","","","","","","","","","","","","","","","","","","","","","","","","","","","","","","",""]
[null,null,null,null,null,null,null,null,null,null,null,null,null,null,null,null,null,null,null,null,null,null,null,null,null,null,null,null,null,"","","","","","","","","","","","","","","","","","","","","","","","","","","","","","","","","","","","","","","","","","","","","","","","","","","","","","","","","","","","","","","","","","","","","","","","","","","","","","","","","","",""]
[null,null,null,null,null,null,null,null,null,null,null,null,null,null,null,null,null,null,null,null,null,null,null,null,null,null,null,null,null,"","","","","","","","","","","","","","","","","","","","","","","","","","","","","","","","","","","","","","","","","","","","","","","","","","","","","","","","","","","","","","","","","","","","","","","","","","","","","","","","","","",""]
[null,null,null,null,null,null,null,null,null,null,null,null,null,null,null,null,null,null,null,null,null,null,null,null,null,null,null,null,null,"","","","","","","","","","","","","","","","","","","","","","","","","","","","","","","","","","","","","","","","","","","","","","","","","","","","","","","","","","","","","","","","","","","","","","","","","","","","","","","","","","",""]
[null,null,null,null,null,null,null,null,null,null,null,null,null,null,null,null,null,null,null,null,null,null,null,null,null,null,null,null,null,"","","","","","","","","","","","","","","","","","","","","","","","","","","","","","","","","","","","","","","","","","","","","","","","","","","","","","","","","","","","","","","","","","","","","","","","","","","","","","","","","","",""]
[null,null,null,null,null,null,null,null,null,null,null,null,null,null,null,null,null,null,null,null,null,null,null,null,null,null,null,null,null,"","","","","","","","","","","","","","","","","","","","","","","","","","","","","","","","","","","","","","","","","","","","","","","","","","","","","","","","","","","","","","","","","","","","","","","","","","","","","","","","","","",""]
[null,null,null,null,null,null,null,null,null,null,null,null,null,null,null,null,null,null,null,null,null,null,null,null,null,null,null,null,null,"","","","","","","","","","","","","","","","","","","","","","","","","","","","","","","","","","","","","","","","","","","","","","","","","","","","","","","","","","","","","","","","","","","","","","","","","","","","","","","","","","",""]
[null,null,null,null,null,null,null,null,null,null,null,null,null,null,null,null,null,null,null,null,null,null,null,null,null,null,null,null,null,"","","","","","","","","","","","","","","","","","","","","","","","","","","","","","","","","","","","","","","","","","","","","","","","","","","","","","","","","","","","","","","","","","","","","","","","","","","","","","","","","","",""]
[null,null,null,null,null,null,null,null,null,null,null,null,null,null,null,null,null,null,null,null,null,null,null,null,null,null,null,null,null,"","","","","","","","","","","","","","","","","","","","","","","","","","","","","","","","","","","","","","","","","","","","","","","","","","","","","","","","","","","","","","","","","","","","","","","","","","","","","","","","","","",""]
[null,null,null,null,null,null,null,null,null,null,null,null,null,null,null,null,null,null,null,null,null,null,null,null,null,null,null,null,null,"","","","","","","","","","","","","","","","","","","","","","","","","","","","","","","","","","","","","","","","","","","","","","","","","","","","","","","","","","","","","","","","","","","","","","","","","","","","","","","","","","",""]
[null,null,null,null,null,null,null,null,null,null,null,null,null,null,null,null,null,null,null,null,null,null,null,null,null,null,null,null,null,"","","","","","","","","","","","","","","","","","","","","","","","","","","","","","","","","","","","","","","","","","","","","","","","","","","","","","","","","","","","","","","","","","","","","","","","","","","","","","","","","","",""]
[null,null,null,null,null,null,null,null,null,null,null,null,null,null,null,null,null,null,null,null,null,null,null,null,null,null,null,null,null,"","","","","","","","","","","","","","","","","","","","","","","","","","","","","","","","","","","","","","","","","","","","","","","","","","","","","","","","","","","","","","","","","","","","","","","","","","","","","","","","","","",""]
[null,null,null,null,null,null,null,null,null,null,null,null,null,null,null,null,null,null,null,null,null,null,null,null,null,null,null,null,null,"","","","","","","","","","","","","","","","","","","","","","","","","","","","","","","","","","","","","","","","","","","","","","","","","","","","","","","","","","","","","","","","","","","","","","","","","","","","","","","","","","",""]
[null,null,null,null,null,null,null,null,null,null,null,null,null,null,null,null,null,null,null,null,null,null,null,null,null,null,null,null,null,"","","","","","","","","","","","","","","","","","","","","","","","","","","","","","","","","","","","","","","","","","","","","","","","","","","","","","","","","","","","","","","","","","","","","","","","","","","","","","","","","","",""]
[null,null,null,null,null,null,null,null,null,null,null,null,null,null,null,null,null,null,null,null,null,null,null,null,null,null,null,null,null,"","","","","","","","","","","","","","","","","","","","","","","","","","","","","","","","","","","","","","","","","","","","","","","","","","","","","","","","","","","","","","","","","","","","","","","","","","","","","","","","","","",""]
[null,null,null,null,null,null,null,null,null,null,null,null,null,null,null,null,null,null,null,null,null,null,null,null,null,null,null,null,null,"","","","","","","","","","","","","","","","","","","","","","","","","","","","","","","","","","","","","","","","","","","","","","","","","","","","","","","","","","","","","","","","","","","","","","","","","","","","","","","","","","",""]
[null,null,null,null,null,null,null,null,null,null,null,null,null,null,null,null,null,null,null,null,null,null,null,null,null,null,null,null,null,"","","","","","","","","","","","","","","","","","","","","","","","","","","","","","","","","","","","","","","","","","","","","","","","","","","","","","","","","","","","","","","","","","","","","","","","","","","","","","","","","","",""]
[null,null,null,null,null,null,null,null,null,null,null,null,null,null,null,null,null,null,null,null,null,null,null,null,null,null,null,null,null,"","","","","","","","","","","","","","","","","","","","","","","","","","","","","","","","","","","","","","","","","","","","","","","","","","","","","","","","","","","","","","","","","","","","","","","","","","","","","","","","","","",""]
[null,null,null,null,null,null,null,null,null,null,null,null,null,null,null,null,null,null,null,null,null,null,null,null,null,null,null,null,null,"","","","","","","","","","","","","","","","","","","","","","","","","","","","","","","","","","","","","","","","","","","","","","","","","","","","","","","","","","","","","","","","","","","","","","","","","","","","","","","","","","",""]
[null,null,null,null,null,null,null,null,null,null,null,null,null,null,null,null,null,null,null,null,null,null,null,null,null,null,null,null,null,"","","","","","","","","","","","","","","","","","","","","","","","","","","","","","","","","","","","","","","","","","","","","","","","","","","","","","","","","","","","","","","","","","","","","","","","","","","","","","","","","","",""]
[null,null,null,null,null,null,null,null,null,null,null,null,null,null,null,null,null,null,null,null,null,null,null,null,null,null,null,null,null,"","","","","","","","","","","","","","","","","","","","","","","","","","","","","","","","","","","","","","","","","","","","","","","","","","","","","","","","","","","","","","","","","","","","","","","","","","","","","","","","","","",""]
[null,null,null,null,null,null,null,null,null,null,null,null,null,null,null,null,null,null,null,null,null,null,null,null,null,null,null,null,null,"","","","","","","","","","","","","","","","","","","","","","","","","","","","","","","","","","","","","","","","","","","","","","","","","","","","","","","","","","","","","","","","","","","","","","","","","","","","","","","","","","",""]
[null,null,null,null,null,null,null,null,null,null,null,null,null,null,null,null,null,null,null,null,null,null,null,null,null,null,null,null,null,"","","","","","","","","","","","","","","","","","","","","","","","","","","","","","","","","","","","","","","","","","","","","","","","","","","","","","","","","","","","","","","","","","","","","","","","","","","","","","","","","","",""]
[null,null,null,null,null,null,null,null,null,null,null,null,null,null,null,null,null,null,null,null,null,null,null,null,null,null,null,null,null,"","","","","","","","","","","","","","","","","","","","","","","","","","","","","","","","","","","","","","","","","","","","","","","","","","","","","","","","","","","","","","","","","","","","","","","","","","","","","","","","","","",""]
[null,null,null,null,null,null,null,null,null,null,null,null,null,null,null,null,null,null,null,null,null,null,null,null,null,null,null,null,null,"","","","","","","","","","","","","","","","","","","","","","","","","","","","","","","","","","","","","","","","","","","","","","","","","","","","","","","","","","","","","","","","","","","","","","","","","","","","","","","","","","",""]
[null,null,null,null,null,null,null,null,null,null,null,null,null,null,null,null,null,null,null,null,null,null,null,null,null,null,null,null,null,"","","","","","","","","","","","","","","","","","","","","","","","","","","","","","","","","","","","","","","","","","","","","","","","","","","","","","","","","","","","","","","","","","","","","","","","","","","","","","","","","","",""]
[null,null,null,null,null,null,null,null,null,null,null,null,null,null,null,null,null,null,null,null,null,null,null,null,null,null,null,null,null,"","","","","","","","","","","","","","","","","","","","","","","","","","","","","","","","","","","","","","","","","","","","","","","","","","","","","","","","","","","","","","","","","","","","","","","","","","","","","","","","","","",""]
[null,null,null,null,null,null,null,null,null,null,null,null,null,null,null,null,null,null,null,null,null,null,null,null,null,null,null,null,null,"","","","","","","","","","","","","","","","","","","","","","","","","","","","","","","","","","","","","","","","","","","","","","","","","","","","","","","","","","","","","","","","","","","","","","","","","","","","","","","","","","",""]
[null,null,null,null,null,null,null,null,null,null,null,null,null,null,null,null,null,null,null,null,null,null,null,null,null,null,null,null,null,"","","","","","","","","","","","","","","","","","","","","","","","","","","","","","","","","","","","","","","","","","","","","","","","","","","","","","","","","","","","","","","","","","","","","","","","","","","","","","","","","","",""]
[null,null,null,null,null,null,null,null,null,null,null,null,null,null,null,null,null,null,null,null,null,null,null,null,null,null,null,null,null,"","","","","","","","","","","","","","","","","","","","","","","","","","","","","","","","","","","","","","","","","","","","","","","","","","","","","","","","","","","","","","","","","","","","","","","","","","","","","","","","","","",""]
[null,null,null,null,null,null,null,null,null,null,null,null,null,null,null,null,null,null,null,null,null,null,null,null,null,null,null,null,null,"","","","","","","","","","","","","","","","","","","","","","","","","","","","","","","","","","","","","","","","","","","","","","","","","","","","","","","","","","","","","","","","","","","","","","","","","","","","","","","","","","",""]
[null,null,null,null,null,null,null,null,null,null,null,null,null,null,null,null,null,null,null,null,null,null,null,null,null,null,null,null,null,{"$f":"IF(BZ135=\"\",\"\",OFFSET($D135,0,2*BZ135))","v":""},{"$f":"IF(CA135=\"\",\"\",OFFSET($D135,0,2*CA135))","v":""},{"$f":"IF(CB135=\"\",\"\",OFFSET($D135,0,2*CB135))","v":""},{"$f":"IF(CC135=\"\",\"\",OFFSET($D135,0,2*CC135))","v":""},{"$f":"IF(CD135=\"\",\"\",OFFSET($D135,0,2*CD135))","v":""},{"$f":"IF(CE135=\"\",\"\",OFFSET($D135,0,2*CE135))","v":""},{"$f":"IF(CF135=\"\",\"\",OFFSET($D135,0,2*CF135))","v":""},{"$f":"IF(CG135=\"\",\"\",OFFSET($D135,0,2*CG135))","v":""},{"$f":"IF(CH135=\"\",\"\",OFFSET($D135,0,2*CH135))","v":""},{"$f":"IF(CI135=\"\",\"\",OFFSET($D135,0,2*CI135))","v":""},{"$f":"IF(CJ135=\"\",\"\",OFFSET($D135,0,2*CJ135))","v":""},{"$f":"IF(CK135=\"\",\"\",OFFSET($D135,0,2*CK135))","v":""},{"$f":"IF(BZ135=\"\",\"\",IF(COUNT(OFFSET($D135,0,2*BZ135-1,1,2))=2,OFFSET($D135,0,2*BZ135-1),\"\"))","v":""},{"$f":"IF(CA135=\"\",\"\",IF(COUNT(OFFSET($D135,0,2*CA135-1,1,2))=2,OFFSET($D135,0,2*CA135-1),\"\"))","v":""},{"$f":"IF(CB135=\"\",\"\",IF(COUNT(OFFSET($D135,0,2*CB135-1,1,2))=2,OFFSET($D135,0,2*CB135-1),\"\"))","v":""},{"$f":"IF(CC135=\"\",\"\",IF(COUNT(OFFSET($D135,0,2*CC135-1,1,2))=2,OFFSET($D135,0,2*CC135-1),\"\"))","v":""},{"$f":"IF(CD135=\"\",\"\",IF(COUNT(OFFSET($D135,0,2*CD135-1,1,2))=2,OFFSET($D135,0,2*CD135-1),\"\"))","v":""},{"$f":"IF(CE135=\"\",\"\",IF(COUNT(OFFSET($D135,0,2*CE135-1,1,2))=2,OFFSET($D135,0,2*CE135-1),\"\"))","v":""},{"$f":"IF(CF135=\"\",\"\",IF(COUNT(OFFSET($D135,0,2*CF135-1,1,2))=2,OFFSET($D135,0,2*CF135-1),\"\"))","v":""},{"$f":"IF(CG135=\"\",\"\",IF(COUNT(OFFSET($D135,0,2*CG135-1,1,2))=2,OFFSET($D135,0,2*CG135-1),\"\"))","v":""},{"$f":"IF(CH135=\"\",\"\",IF(COUNT(OFFSET($D135,0,2*CH135-1,1,2))=2,OFFSET($D135,0,2*CH135-1),\"\"))","v":""},{"$f":"IF(CI135=\"\",\"\",IF(COUNT(OFFSET($D135,0,2*CI135-1,1,2))=2,OFFSET($D135,0,2*CI135-1),\"\"))","v":""},{"$f":"IF(CJ135=\"\",\"\",IF(COUNT(OFFSET($D135,0,2*CJ135-1,1,2))=2,OFFSET($D135,0,2*CJ135-1),\"\"))","v":""},{"$f":"IF(CK135=\"\",\"\",IF(COUNT(OFFSET($D135,0,2*CK135-1,1,2))=2,OFFSET($D135,0,2*CK135-1),\"\"))","v":""},{"$f":"IF(AND(E135<>\"\",F135<>\"\"),F135,\"\")","v":""},{"$f":"IF(AND(G135<>\"\",H135<>\"\"),H135,\"\")","v":""},{"$f":"IF(AND(I135<>\"\",J135<>\"\"),J135,\"\")","v":""},{"$f":"IF(AND(K135<>\"\",L135<>\"\"),L135,\"\")","v":""},{"$f":"IF(AND(M135<>\"\",N135<>\"\"),N135,\"\")","v":""},{"$f":"IF(AND(O135<>\"\",P135<>\"\"),P135,\"\")","v":""},{"$f":"IF(AND(Q135<>\"\",R135<>\"\"),R135,\"\")","v":""},{"$f":"IF(AND(S135<>\"\",T135<>\"\"),T135,\"\")","v":""},{"$f":"IF(AND(U135<>\"\",V135<>\"\"),V135,\"\")","v":""},{"$f":"IF(AND(W135<>\"\",X135<>\"\"),X135,\"\")","v":""},{"$f":"IF(AND(Y135<>\"\",Z135<>\"\"),Z135,\"\")","v":""},{"$f":"IF(AND(AA135<>\"\",AB135<>\"\"),AB135,\"\")","v":""},{"$f":"IF(BB135<>\"\",RANK(BB135,$BB135:$BM135,1),\"\")","v":""},{"$f":"IF(BC135<>\"\",RANK(BC135,$BB135:$BM135,1),\"\")","v":""},{"$f":"IF(BD135<>\"\",RANK(BD135,$BB135:$BM135,1),\"\")","v":""},{"$f":"IF(BE135<>\"\",RANK(BE135,$BB135:$BM135,1),\"\")","v":""},{"$f":"IF(BF135<>\"\",RANK(BF135,$BB135:$BM135,1),\"\")","v":""},{"$f":"IF(BG135<>\"\",RANK(BG135,$BB135:$BM135,1),\"\")","v":""},{"$f":"IF(BH135<>\"\",RANK(BH135,$BB135:$BM135,1),\"\")","v":""},{"$f":"IF(BI135<>\"\",RANK(BI135,$BB135:$BM135,1),\"\")","v":""},{"$f":"IF(BJ135<>\"\",RANK(BJ135,$BB135:$BM135,1),\"\")","v":""},{"$f":"IF(BK135<>\"\",RANK(BK135,$BB135:$BM135,1),\"\")","v":""},{"$f":"IF(BL135<>\"\",RANK(BL135,$BB135:$BM135,1),\"\")","v":""},{"$f":"IF(BM135<>\"\",RANK(BM135,$BB135:$BM135,1),\"\")","v":""},{"$f":"IF(ISNA(MATCH(1,$BN135:$BY135,0)),\"\",MATCH(1,$BN135:$BY135,0))","v":""},{"$f":"IF(COUNT($CL135:$CV135)<1,\"\",MATCH(VALUE(CX135),$BN135:$BY135,0))","v":""},{"$f":"IF(COUNT($CL135:$CV135)<2,\"\",MATCH(VALUE(CY135),$BN135:$BY135,0))","v":""},{"$f":"IF(COUNT($CL135:$CV135)<3,\"\",MATCH(VALUE(CZ135),$BN135:$BY135,0))","v":""},{"$f":"IF(COUNT($CL135:$CV135)<4,\"\",MATCH(VALUE(DA135),$BN135:$BY135,0))","v":""},{"$f":"IF(COUNT($CL135:$CV135)<5,\"\",MATCH(VALUE(DB135),$BN135:$BY135,0))","v":""},{"$f":"IF(COUNT($CL135:$CV135)<6,\"\",MATCH(VALUE(DC135),$BN135:$BY135,0))","v":""},{"$f":"IF(COUNT($CL135:$CV135)<7,\"\",MATCH(VALUE(DD135),$BN135:$BY135,0))","v":""},{"$f":"IF(COUNT($CL135:$CV135)<8,\"\",MATCH(VALUE(DE135),$BN135:$BY135,0))","v":""},{"$f":"IF(COUNT($CL135:$CV135)<9,\"\",MATCH(VALUE(DF135),$BN135:$BY135,0))","v":""},{"$f":"IF(COUNT($CL135:$CV135)<10,\"\",MATCH(VALUE(DG135),$BN135:$BY135,0))","v":""},{"$f":"IF(COUNT($CL135:$CV135)<11,\"\",MATCH(VALUE(DH135),$BN135:$BY135,0))","v":""},{"$f":"IF(AND(COUNT($BN135:$BY135)>1,NOT(ISNA(MATCH(2,$BN135:$BY135,0)))),0,\"\")","v":""},{"$f":"IF(AND(COUNT($BN135:$BY135)>2,NOT(ISNA(MATCH(3,$BN135:$BY135,0)))),1,\"\")","v":""},{"$f":"IF(AND(COUNT($BN135:$BY135)>3,NOT(ISNA(MATCH(4,$BN135:$BY135,0)))),2,\"\")","v":""},{"$f":"IF(AND(COUNT($BN135:$BY135)>4,NOT(ISNA(MATCH(5,$BN135:$BY135,0)))),3,\"\")","v":""},{"$f":"IF(AND(COUNT($BN135:$BY135)>5,NOT(ISNA(MATCH(6,$BN135:$BY135,0)))),4,\"\")","v":""},{"$f":"IF(AND(COUNT($BN135:$BY135)>6,NOT(ISNA(MATCH(7,$BN135:$BY135,0)))),5,\"\")","v":""},{"$f":"IF(AND(COUNT($BN135:$BY135)>7,NOT(ISNA(MATCH(8,$BN135:$BY135,0)))),6,\"\")","v":""},{"$f":"IF(AND(COUNT($BN135:$BY135)>8,NOT(ISNA(MATCH(9,$BN135:$BY135,0)))),7,\"\")","v":""},{"$f":"IF(AND(COUNT($BN135:$BY135)>9,NOT(ISNA(MATCH(10,$BN135:$BY135,0)))),8,\"\")","v":""},{"$f":"IF(AND(COUNT($BN135:$BY135)>10,NOT(ISNA(MATCH(11,$BN135:$BY135,0)))),9,\"\")","v":""},{"$f":"IF(AND(COUNT($BN135:$BY135)>11,NOT(ISNA(MATCH(12,$BN135:$BY135,0)))),10,\"\")","v":""},{"$f":"CONCATENATE(CL135,CM135,CN135,CO135,CP135,CQ135,CR135,CS135,CT135,CU135,IF(CV135=10,\"A\",\"\"))","v":""},{"$f":"IF(MID($CW135,1,1)=\"\",\"\",IF(MID($CW135,1,1)=\"A\",12,MID($CW135,1,1)+2))","v":""},{"$f":"IF(MID($CW135,2,1)=\"\",\"\",IF(MID($CW135,2,1)=\"A\",12,MID($CW135,2,1)+2))","v":""},{"$f":"IF(MID($CW135,3,1)=\"\",\"\",IF(MID($CW135,3,1)=\"A\",12,MID($CW135,3,1)+2))","v":""},{"$f":"IF(MID($CW135,4,1)=\"\",\"\",IF(MID($CW135,4,1)=\"A\",12,MID($CW135,4,1)+2))","v":""},{"$f":"IF(MID($CW135,5,1)=\"\",\"\",IF(MID($CW135,5,1)=\"A\",12,MID($CW135,5,1)+2))","v":""},{"$f":"IF(MID($CW135,6,1)=\"\",\"\",IF(MID($CW135,6,1)=\"A\",12,MID($CW135,6,1)+2))","v":""},{"$f":"IF(MID($CW135,7,1)=\"\",\"\",IF(MID($CW135,7,1)=\"A\",12,MID($CW135,7,1)+2))","v":""},{"$f":"IF(MID($CW135,8,1)=\"\",\"\",IF(MID($CW135,8,1)=\"A\",12,MID($CW135,8,1)+2))","v":""},{"$f":"IF(MID($CW135,9,1)=\"\",\"\",IF(MID($CW135,9,1)=\"A\",12,MID($CW135,9,1)+2))","v":""},{"$f":"IF(MID($CW135,10,1)=\"\",\"\",IF(MID($CW135,10,1)=\"A\",12,MID($CW135,10,1)+2))","v":""},{"$f":"IF(MID($CW135,11,1)=\"\",\"\",IF(MID($CW135,11,1)=\"A\",12,MID($CW135,11,1)+2))","v":""}]
[null,null,null,null,null,null,null,null,null,null,null,null,null,null,null,null,null,null,null,null,null,null,null,null,null,null,null,null,null,"","","","","","","","","","","","","","","","","","","","","","","","","","","","","","","","","","","","","","","","","","","","","","","","","","","","","","","","","","","","","","","","","","","","","","","","","","","","","","","","","","",""]
[null,null,null,null,null,null,null,null,null,null,null,null,null,null,null,null,null,null,null,null,null,null,null,null,null,null,null,null,null,"","","","","","","","","","","","","","","","","","","","","","","","","","","","","","","","","","","","","","","","","","","","","","","","","","","","","","","","","","","","","","","","","","","","","","","","","","","","","","","","","","",""]
[null,null,null,null,null,null,null,null,null,null,null,null,null,null,null,null,null,null,null,null,null,null,null,null,null,null,null,null,null,"","","","","","","","","","","","","","","","","","","","","","","","","","","","","","","","","","","","","","","","","","","","","","","","","","","","","","","","","","","","","","","","","","","","","","","","","","","","","","","","","","",""]
[null,null,null,null,null,null,null,null,null,null,null,null,null,null,null,null,null,null,null,null,null,null,null,null,null,null,null,null,null,"","","","","","","","","","","","","","","","","","","","","","","","","","","","","","","","","","","","","","","","","","","","","","","","","","","","","","","","","","","","","","","","","","","","","","","","","","","","","","","","","","",""]
[null,null,null,null,null,null,null,null,null,null,null,null,null,null,null,null,null,null,null,null,null,null,null,null,null,null,null,null,null,"","","","","","","","","","","","","","","","","","","","","","","","","","","","","","","","","","","","","","","","","","","","","","","","","","","","","","","","","","","","","","","","","","","","","","","","","","","","","","","","","","",""]
[null,null,null,null,null,null,null,null,null,null,null,null,null,null,null,null,null,null,null,null,null,null,null,null,null,null,null,null,null,"","","","","","","","","","","","","","","","","","","","","","","","","","","","","","","","","","","","","","","","","","","","","","","","","","","","","","","","","","","","","","","","","","","","","","","","","","","","","","","","","","",""]
[null,null,null,null,null,null,null,null,null,null,null,null,null,null,null,null,null,null,null,null,null,null,null,null,null,null,null,null,null,"","","","","","","","","","","","","","","","","","","","","","","","","","","","","","","","","","","","","","","","","","","","","","","","","","","","","","","","","","","","","","","","","","","","","","","","","","","","","","","","","","",""]
[null,null,null,null,null,null,null,null,null,null,null,null,null,null,null,null,null,null,null,null,null,null,null,null,null,null,null,null,null,"","","","","","","","","","","","","","","","","","","","","","","","","","","","","","","","","","","","","","","","","","","","","","","","","","","","","","","","","","","","","","","","","","","","","","","","","","","","","","","","","","",""]
[null,null,null,null,null,null,null,null,null,null,null,null,null,null,null,null,null,null,null,null,null,null,null,null,null,null,null,null,null,"","","","","","","","","","","","","","","","","","","","","","","","","","","","","","","","","","","","","","","","","","","","","","","","","","","","","","","","","","","","","","","","","","","","","","","","","","","","","","","","","","",""]
[null,null,null,null,null,null,null,null,null,null,null,null,null,null,null,null,null,null,null,null,null,null,null,null,null,null,null,null,null,"","","","","","","","","","","","","","","","","","","","","","","","","","","","","","","","","","","","","","","","","","","","","","","","","","","","","","","","","","","","","","","","","","","","","","","","","","","","","","","","","","",""]
[null,null,null,null,null,null,null,null,null,null,null,null,null,null,null,null,null,null,null,null,null,null,null,null,null,null,null,null,null,"","","","","","","","","","","","","","","","","","","","","","","","","","","","","","","","","","","","","","","","","","","","","","","","","","","","","","","","","","","","","","","","","","","","","","","","","","","","","","","","","","",""]
[null,null,null,null,null,null,null,null,null,null,null,null,null,null,null,null,null,null,null,null,null,null,null,null,null,null,null,null,null,"","","","","","","","","","","","","","","","","","","","","","","","","","","","","","","","","","","","","","","","","","","","","","","","","","","","","","","","","","","","","","","","","","","","","","","","","","","","","","","","","","",""]
[null,null,null,null,null,null,null,null,null,null,null,null,null,null,null,null,null,null,null,null,null,null,null,null,null,null,null,null,null,"","","","","","","","","","","","","","","","","","","","","","","","","","","","","","","","","","","","","","","","","","","","","","","","","","","","","","","","","","","","","","","","","","","","","","","","","","","","","","","","","","",""]
[null,null,null,null,null,null,null,null,null,null,null,null,null,null,null,null,null,null,null,null,null,null,null,null,null,null,null,null,null,"","","","","","","","","","","","","","","","","","","","","","","","","","","","","","","","","","","","","","","","","","","","","","","","","","","","","","","","","","","","","","","","","","","","","","","","","","","","","","","","","","",""]
[null,null,null,null,null,null,null,null,null,null,null,null,null,null,null,null,null,null,null,null,null,null,null,null,null,null,null,null,null,"","","","","","","","","","","","","","","","","","","","","","","","","","","","","","","","","","","","","","","","","","","","","","","","","","","","","","","","","","","","","","","","","","","","","","","","","","","","","","","","","","",""]
[null,null,null,null,null,null,null,null,null,null,null,null,null,null,null,null,null,null,null,null,null,null,null,null,null,null,null,null,null,"","","","","","","","","","","","","","","","","","","","","","","","","","","","","","","","","","","","","","","","","","","","","","","","","","","","","","","","","","","","","","","","","","","","","","","","","","","","","","","","","","",""]
[null,null,null,null,null,null,null,null,null,null,null,null,null,null,null,null,null,null,null,null,null,null,null,null,null,null,null,null,null,"","","","","","","","","","","","","","","","","","","","","","","","","","","","","","","","","","","","","","","","","","","","","","","","","","","","","","","","","","","","","","","","","","","","","","","","","","","","","","","","","","",""]
[null,null,null,null,null,null,null,null,null,null,null,null,null,null,null,null,null,null,null,null,null,null,null,null,null,null,null,null,null,"","","","","","","","","","","","","","","","","","","","","","","","","","","","","","","","","","","","","","","","","","","","","","","","","","","","","","","","","","","","","","","","","","","","","","","","","","","","","","","","","","",""]
[null,null,null,null,null,null,null,null,null,null,null,null,null,null,null,null,null,null,null,null,null,null,null,null,null,null,null,null,null,"","","","","","","","","","","","","","","","","","","","","","","","","","","","","","","","","","","","","","","","","","","","","","","","","","","","","","","","","","","","","","","","","","","","","","","","","","","","","","","","","","",""]
[null,null,null,null,null,null,null,null,null,null,null,null,null,null,null,null,null,null,null,null,null,null,null,null,null,null,null,null,null,"","","","","","","","","","","","","","","","","","","","","","","","","","","","","","","","","","","","","","","","","","","","","","","","","","","","","","","","","","","","","","","","","","","","","","","","","","","","","","","","","","",""]
[null,null,null,null,null,null,null,null,null,null,null,null,null,null,null,null,null,null,null,null,null,null,null,null,null,null,null,null,null,"","","","","","","","","","","","","","","","","","","","","","","","","","","","","","","","","","","","","","","","","","","","","","","","","","","","","","","","","","","","","","","","","","","","","","","","","","","","","","","","","","",""]
[null,null,null,null,null,null,null,null,null,null,null,null,null,null,null,null,null,null,null,null,null,null,null,null,null,null,null,null,null,"","","","","","","","","","","","","","","","","","","","","","","","","","","","","","","","","","","","","","","","","","","","","","","","","","","","","","","","","","","","","","","","","","","","","","","","","","","","","","","","","","",""]
[null,null,null,null,null,null,null,null,null,null,null,null,null,null,null,null,null,null,null,null,null,null,null,null,null,null,null,null,null,"","","","","","","","","","","","","","","","","","","","","","","","","","","","","","","","","","","","","","","","","","","","","","","","","","","","","","","","","","","","","","","","","","","","","","","","","","","","","","","","","","",""]
[null,null,null,null,null,null,null,null,null,null,null,null,null,null,null,null,null,null,null,null,null,null,null,null,null,null,null,null,null,"","","","","","","","","","","","","","","","","","","","","","","","","","","","","","","","","","","","","","","","","","","","","","","","","","","","","","","","","","","","","","","","","","","","","","","","","","","","","","","","","","",""]
[null,null,null,null,null,null,null,null,null,null,null,null,null,null,null,null,null,null,null,null,null,null,null,null,null,null,null,null,null,"","","","","","","","","","","","","","","","","","","","","","","","","","","","","","","","","","","","","","","","","","","","","","","","","","","","","","","","","","","","","","","","","","","","","","","","","","","","","","","","","","",""]
[null,null,null,null,null,null,null,null,null,null,null,null,null,null,null,null,null,null,null,null,null,null,null,null,null,null,null,null,null,"","","","","","","","","","","","","","","","","","","","","","","","","","","","","","","","","","","","","","","","","","","","","","","","","","","","","","","","","","","","","","","","","","","","","","","","","","","","","","","","","","",""]
[null,null,null,null,null,null,null,null,null,null,null,null,null,null,null,null,null,null,null,null,null,null,null,null,null,null,null,null,null,"","","","","","","","","","","","","","","","","","","","","","","","","","","","","","","","","","","","","","","","","","","","","","","","","","","","","","","","","","","","","","","","","","","","","","","","","","","","","","","","","","",""]
[null,null,null,null,null,null,null,null,null,null,null,null,null,null,null,null,null,null,null,null,null,null,null,null,null,null,null,null,null,"","","","","","","","","","","","","","","","","","","","","","","","","","","","","","","","","","","","","","","","","","","","","","","","","","","","","","","","","","","","","","","","","","","","","","","","","","","","","","","","","","",""]
[null,null,null,null,null,null,null,null,null,null,null,null,null,null,null,null,null,null,null,null,null,null,null,null,null,null,null,null,null,"","","","","","","","","","","","","","","","","","","","","","","","","","","","","","","","","","","","","","","","","","","","","","","","","","","","","","","","","","","","","","","","","","","","","","","","","","","","","","","","","","",""]
[null,null,null,null,null,null,null,null,null,null,null,null,null,null,null,null,null,null,null,null,null,null,null,null,null,null,null,null,null,"","","","","","","","","","","","","","","","","","","","","","","","","","","","","","","","","","","","","","","","","","","","","","","","","","","","","","","","","","","","","","","","","","","","","","","","","","","","","","","","","","",""]
[null,null,null,null,null,null,null,null,null,null,null,null,null,null,null,null,null,null,null,null,null,null,null,null,null,null,null,null,null,"","","","","","","","","","","","","","","","","","","","","","","","","","","","","","","","","","","","","","","","","","","","","","","","","","","","","","","","","","","","","","","","","","","","","","","","","","","","","","","","","","",""]
[null,null,null,null,null,null,null,null,null,null,null,null,null,null,null,null,null,null,null,null,null,null,null,null,null,null,null,null,null,"","","","","","","","","","","","","","","","","","","","","","","","","","","","","","","","","","","","","","","","","","","","","","","","","","","","","","","","","","","","","","","","","","","","","","","","","","","","","","","","","","",""]
[null,null,null,null,null,null,null,null,null,null,null,null,null,null,null,null,null,null,null,null,null,null,null,null,null,null,null,null,null,"","","","","","","","","","","","","","","","","","","","","","","","","","","","","","","","","","","","","","","","","","","","","","","","","","","","","","","","","","","","","","","","","","","","","","","","","","","","","","","","","","",""]
[null,null,null,null,null,null,null,null,null,null,null,null,null,null,null,null,null,null,null,null,null,null,null,null,null,null,null,null,null,"","","","","","","","","","","","","","","","","","","","","","","","","","","","","","","","","","","","","","","","","","","","","","","","","","","","","","","","","","","","","","","","","","","","","","","","","","","","","","","","","","",""]
[null,null,null,null,null,null,null,null,null,null,null,null,null,null,null,null,null,null,null,null,null,null,null,null,null,null,null,null,null,"","","","","","","","","","","","","","","","","","","","","","","","","","","","","","","","","","","","","","","","","","","","","","","","","","","","","","","","","","","","","","","","","","","","","","","","","","","","","","","","","","",""]
[null,null,null,null,null,null,null,null,null,null,null,null,null,null,null,null,null,null,null,null,null,null,null,null,null,null,null,null,null,"","","","","","","","","","","","","","","","","","","","","","","","","","","","","","","","","","","","","","","","","","","","","","","","","","","","","","","","","","","","","","","","","","","","","","","","","","","","","","","","","","",""]
[null,null,null,null,null,null,null,null,null,null,null,null,null,null,null,null,null,null,null,null,null,null,null,null,null,null,null,null,null,"","","","","","","","","","","","","","","","","","","","","","","","","","","","","","","","","","","","","","","","","","","","","","","","","","","","","","","","","","","","","","","","","","","","","","","","","","","","","","","","","","",""]
[null,null,null,null,null,null,null,null,null,null,null,null,null,null,null,null,null,null,null,null,null,null,null,null,null,null,null,null,null,"","","","","","","","","","","","","","","","","","","","","","","","","","","","","","","","","","","","","","","","","","","","","","","","","","","","","","","","","","","","","","","","","","","","","","","","","","","","","","","","","","",""]
[null,null,null,null,null,null,null,null,null,null,null,null,null,null,null,null,null,null,null,null,null,null,null,null,null,null,null,null,null,"","","","","","","","","","","","","","","","","","","","","","","","","","","","","","","","","","","","","","","","","","","","","","","","","","","","","","","","","","","","","","","","","","","","","","","","","","","","","","","","","","",""]
[null,null,null,null,null,null,null,null,null,null,null,null,null,null,null,null,null,null,null,null,null,null,null,null,null,null,null,null,null,"","","","","","","","","","","","","","","","","","","","","","","","","","","","","","","","","","","","","","","","","","","","","","","","","","","","","","","","","","","","","","","","","","","","","","","","","","","","","","","","","","",""]
[null,null,null,null,null,null,null,null,null,null,null,null,null,null,null,null,null,null,null,null,null,null,null,null,null,null,null,null,null,"","","","","","","","","","","","","","","","","","","","","","","","","","","","","","","","","","","","","","","","","","","","","","","","","","","","","","","","","","","","","","","","","","","","","","","","","","","","","","","","","","",""]
[null,null,null,null,null,null,null,null,null,null,null,null,null,null,null,null,null,null,null,null,null,null,null,null,null,null,null,null,null,"","","","","","","","","","","","","","","","","","","","","","","","","","","","","","","","","","","","","","","","","","","","","","","","","","","","","","","","","","","","","","","","","","","","","","","","","","","","","","","","","","",""]
[null,null,null,null,null,null,null,null,null,null,null,null,null,null,null,null,null,null,null,null,null,null,null,null,null,null,null,null,null,"","","","","","","","","","","","","","","","","","","","","","","","","","","","","","","","","","","","","","","","","","","","","","","","","","","","","","","","","","","","","","","","","","","","","","","","","","","","","","","","","","",""]
[null,null,null,null,null,null,null,null,null,null,null,null,null,null,null,null,null,null,null,null,null,null,null,null,null,null,null,null,null,"","","","","","","","","","","","","","","","","","","","","","","","","","","","","","","","","","","","","","","","","","","","","","","","","","","","","","","","","","","","","","","","","","","","","","","","","","","","","","","","","","",""]
[null,null,null,null,null,null,null,null,null,null,null,null,null,null,null,null,null,null,null,null,null,null,null,null,null,null,null,null,null,"","","","","","","","","","","","","","","","","","","","","","","","","","","","","","","","","","","","","","","","","","","","","","","","","","","","","","","","","","","","","","","","","","","","","","","","","","","","","","","","","","",""]
[null,null,null,null,null,null,null,null,null,null,null,null,null,null,null,null,null,null,null,null,null,null,null,null,null,null,null,null,null,"","","","","","","","","","","","","","","","","","","","","","","","","","","","","","","","","","","","","","","","","","","","","","","","","","","","","","","","","","","","","","","","","","","","","","","","","","","","","","","","","","",""]
[null,null,null,null,null,null,null,null,null,null,null,null,null,null,null,null,null,null,null,null,null,null,null,null,null,null,null,null,null,"","","","","","","","","","","","","","","","","","","","","","","","","","","","","","","","","","","","","","","","","","","","","","","","","","","","","","","","","","","","","","","","","","","","","","","","","","","","","","","","","","",""]
[null,null,null,null,null,null,null,null,null,null,null,null,null,null,null,null,null,null,null,null,null,null,null,null,null,null,null,null,null,"","","","","","","","","","","","","","","","","","","","","","","","","","","","","","","","","","","","","","","","","","","","","","","","","","","","","","","","","","","","","","","","","","","","","","","","","","","","","","","","","","",""]
[null,null,null,null,null,null,null,null,null,null,null,null,null,null,null,null,null,null,null,null,null,null,null,null,null,null,null,null,null,"","","","","","","","","","","","","","","","","","","","","","","","","","","","","","","","","","","","","","","","","","","","","","","","","","","","","","","","","","","","","","","","","","","","","","","","","","","","","","","","","","",""]
[null,null,null,null,null,null,null,null,null,null,null,null,null,null,null,null,null,null,null,null,null,null,null,null,null,null,null,null,null,"","","","","","","","","","","","","","","","","","","","","","","","","","","","","","","","","","","","","","","","","","","","","","","","","","","","","","","","","","","","","","","","","","","","","","","","","","","","","","","","","","",""]
[null,null,null,null,null,null,null,null,null,null,null,null,null,null,null,null,null,null,null,null,null,null,null,null,null,null,null,null,null,"","","","","","","","","","","","","","","","","","","","","","","","","","","","","","","","","","","","","","","","","","","","","","","","","","","","","","","","","","","","","","","","","","","","","","","","","","","","","","","","","","",""]
[null,null,null,null,null,null,null,null,null,null,null,null,null,null,null,null,null,null,null,null,null,null,null,null,null,null,null,null,null,"","","","","","","","","","","","","","","","","","","","","","","","","","","","","","","","","","","","","","","","","","","","","","","","","","","","","","","","","","","","","","","","","","","","","","","","","","","","","","","","","","",""]
[null,null,null,null,null,null,null,null,null,null,null,null,null,null,null,null,null,null,null,null,null,null,null,null,null,null,null,null,null,"","","","","","","","","","","","","","","","","","","","","","","","","","","","","","","","","","","","","","","","","","","","","","","","","","","","","","","","","","","","","","","","","","","","","","","","","","","","","","","","","","",""]
[null,null,null,null,null,null,null,null,null,null,null,null,null,null,null,null,null,null,null,null,null,null,null,null,null,null,null,null,null,"","","","","","","","","","","","","","","","","","","","","","","","","","","","","","","","","","","","","","","","","","","","","","","","","","","","","","","","","","","","","","","","","","","","","","","","","","","","","","","","","","",""]
[null,null,null,null,null,null,null,null,null,null,null,null,null,null,null,null,null,null,null,null,null,null,null,null,null,null,null,null,null,"","","","","","","","","","","","","","","","","","","","","","","","","","","","","","","","","","","","","","","","","","","","","","","","","","","","","","","","","","","","","","","","","","","","","","","","","","","","","","","","","","",""]
[null,null,null,null,null,null,null,null,null,null,null,null,null,null,null,null,null,null,null,null,null,null,null,null,null,null,null,null,null,"","","","","","","","","","","","","","","","","","","","","","","","","","","","","","","","","","","","","","","","","","","","","","","","","","","","","","","","","","","","","","","","","","","","","","","","","","","","","","","","","","",""]
[null,null,null,null,null,null,null,null,null,null,null,null,null,null,null,null,null,null,null,null,null,null,null,null,null,null,null,null,null,"","","","","","","","","","","","","","","","","","","","","","","","","","","","","","","","","","","","","","","","","","","","","","","","","","","","","","","","","","","","","","","","","","","","","","","","","","","","","","","","","","",""]
[null,null,null,null,null,null,null,null,null,null,null,null,null,null,null,null,null,null,null,null,null,null,null,null,null,null,null,null,null,"","","","","","","","","","","","","","","","","","","","","","","","","","","","","","","","","","","","","","","","","","","","","","","","","","","","","","","","","","","","","","","","","","","","","","","","","","","","","","","","","","",""]
[null,null,null,null,null,null,null,null,null,null,null,null,null,null,null,null,null,null,null,null,null,null,null,null,null,null,null,null,null,"","","","","","","","","","","","","","","","","","","","","","","","","","","","","","","","","","","","","","","","","","","","","","","","","","","","","","","","","","","","","","","","","","","","","","","","","","","","","","","","","","",""]
[null,null,null,null,null,null,null,null,null,null,null,null,null,null,null,null,null,null,null,null,null,null,null,null,null,null,null,null,null,"","","","","","","","","","","","","","","","","","","","","","","","","","","","","","","","","","","","","","","","","","","","","","","","","","","","","","","","","","","","","","","","","","","","","","","","","","","","","","","","","","",""]
[null,null,null,null,null,null,null,null,null,null,null,null,null,null,null,null,null,null,null,null,null,null,null,null,null,null,null,null,null,"","","","","","","","","","","","","","","","","","","","","","","","","","","","","","","","","","","","","","","","","","","","","","","","","","","","","","","","","","","","","","","","","","","","","","","","","","","","","","","","","","",""]
[null,null,null,null,null,null,null,null,null,null,null,null,null,null,null,null,null,null,null,null,null,null,null,null,null,null,null,null,null,"","","","","","","","","","","","","","","","","","","","","","","","","","","","","","","","","","","","","","","","","","","","","","","","","","","","","","","","","","","","","","","","","","","","","","","","","","","","","","","","","","",""]
[null,null,null,null,null,null,null,null,null,null,null,null,null,null,null,null,null,null,null,null,null,null,null,null,null,null,null,null,null,"","","","","","","","","","","","","","","","","","","","","","","","","","","","","","","","","","","","","","","","","","","","","","","","","","","","","","","","","","","","","","","","","","","","","","","","","","","","","","","","","","",""]
[null,null,null,null,null,null,null,null,null,null,null,null,null,null,null,null,null,null,null,null,null,null,null,null,null,null,null,null,null,{"$f":"IF(BZ199=\"\",\"\",OFFSET($D199,0,2*BZ199))","v":""},{"$f":"IF(CA199=\"\",\"\",OFFSET($D199,0,2*CA199))","v":""},{"$f":"IF(CB199=\"\",\"\",OFFSET($D199,0,2*CB199))","v":""},{"$f":"IF(CC199=\"\",\"\",OFFSET($D199,0,2*CC199))","v":""},{"$f":"IF(CD199=\"\",\"\",OFFSET($D199,0,2*CD199))","v":""},{"$f":"IF(CE199=\"\",\"\",OFFSET($D199,0,2*CE199))","v":""},{"$f":"IF(CF199=\"\",\"\",OFFSET($D199,0,2*CF199))","v":""},{"$f":"IF(CG199=\"\",\"\",OFFSET($D199,0,2*CG199))","v":""},{"$f":"IF(CH199=\"\",\"\",OFFSET($D199,0,2*CH199))","v":""},{"$f":"IF(CI199=\"\",\"\",OFFSET($D199,0,2*CI199))","v":""},{"$f":"IF(CJ199=\"\",\"\",OFFSET($D199,0,2*CJ199))","v":""},{"$f":"IF(CK199=\"\",\"\",OFFSET($D199,0,2*CK199))","v":""},{"$f":"IF(BZ199=\"\",\"\",IF(COUNT(OFFSET($D199,0,2*BZ199-1,1,2))=2,OFFSET($D199,0,2*BZ199-1),\"\"))","v":""},{"$f":"IF(CA199=\"\",\"\",IF(COUNT(OFFSET($D199,0,2*CA199-1,1,2))=2,OFFSET($D199,0,2*CA199-1),\"\"))","v":""},{"$f":"IF(CB199=\"\",\"\",IF(COUNT(OFFSET($D199,0,2*CB199-1,1,2))=2,OFFSET($D199,0,2*CB199-1),\"\"))","v":""},{"$f":"IF(CC199=\"\",\"\",IF(COUNT(OFFSET($D199,0,2*CC199-1,1,2))=2,OFFSET($D199,0,2*CC199-1),\"\"))","v":""},{"$f":"IF(CD199=\"\",\"\",IF(COUNT(OFFSET($D199,0,2*CD199-1,1,2))=2,OFFSET($D199,0,2*CD199-1),\"\"))","v":""},{"$f":"IF(CE199=\"\",\"\",IF(COUNT(OFFSET($D199,0,2*CE199-1,1,2))=2,OFFSET($D199,0,2*CE199-1),\"\"))","v":""},{"$f":"IF(CF199=\"\",\"\",IF(COUNT(OFFSET($D199,0,2*CF199-1,1,2))=2,OFFSET($D199,0,2*CF199-1),\"\"))","v":""},{"$f":"IF(CG199=\"\",\"\",IF(COUNT(OFFSET($D199,0,2*CG199-1,1,2))=2,OFFSET($D199,0,2*CG199-1),\"\"))","v":""},{"$f":"IF(CH199=\"\",\"\",IF(COUNT(OFFSET($D199,0,2*CH199-1,1,2))=2,OFFSET($D199,0,2*CH199-1),\"\"))","v":""},{"$f":"IF(CI199=\"\",\"\",IF(COUNT(OFFSET($D199,0,2*CI199-1,1,2))=2,OFFSET($D199,0,2*CI199-1),\"\"))","v":""},{"$f":"IF(CJ199=\"\",\"\",IF(COUNT(OFFSET($D199,0,2*CJ199-1,1,2))=2,OFFSET($D199,0,2*CJ199-1),\"\"))","v":""},{"$f":"IF(CK199=\"\",\"\",IF(COUNT(OFFSET($D199,0,2*CK199-1,1,2))=2,OFFSET($D199,0,2*CK199-1),\"\"))","v":""},{"$f":"IF(AND(E199<>\"\",F199<>\"\"),F199,\"\")","v":""},{"$f":"IF(AND(G199<>\"\",H199<>\"\"),H199,\"\")","v":""},{"$f":"IF(AND(I199<>\"\",J199<>\"\"),J199,\"\")","v":""},{"$f":"IF(AND(K199<>\"\",L199<>\"\"),L199,\"\")","v":""},{"$f":"IF(AND(M199<>\"\",N199<>\"\"),N199,\"\")","v":""},{"$f":"IF(AND(O199<>\"\",P199<>\"\"),P199,\"\")","v":""},{"$f":"IF(AND(Q199<>\"\",R199<>\"\"),R199,\"\")","v":""},{"$f":"IF(AND(S199<>\"\",T199<>\"\"),T199,\"\")","v":""},{"$f":"IF(AND(U199<>\"\",V199<>\"\"),V199,\"\")","v":""},{"$f":"IF(AND(W199<>\"\",X199<>\"\"),X199,\"\")","v":""},{"$f":"IF(AND(Y199<>\"\",Z199<>\"\"),Z199,\"\")","v":""},{"$f":"IF(AND(AA199<>\"\",AB199<>\"\"),AB199,\"\")","v":""},{"$f":"IF(BB199<>\"\",RANK(BB199,$BB199:$BM199,1),\"\")","v":""},{"$f":"IF(BC199<>\"\",RANK(BC199,$BB199:$BM199,1),\"\")","v":""},{"$f":"IF(BD199<>\"\",RANK(BD199,$BB199:$BM199,1),\"\")","v":""},{"$f":"IF(BE199<>\"\",RANK(BE199,$BB199:$BM199,1),\"\")","v":""},{"$f":"IF(BF199<>\"\",RANK(BF199,$BB199:$BM199,1),\"\")","v":""},{"$f":"IF(BG199<>\"\",RANK(BG199,$BB199:$BM199,1),\"\")","v":""},{"$f":"IF(BH199<>\"\",RANK(BH199,$BB199:$BM199,1),\"\")","v":""},{"$f":"IF(BI199<>\"\",RANK(BI199,$BB199:$BM199,1),\"\")","v":""},{"$f":"IF(BJ199<>\"\",RANK(BJ199,$BB199:$BM199,1),\"\")","v":""},{"$f":"IF(BK199<>\"\",RANK(BK199,$BB199:$BM199,1),\"\")","v":""},{"$f":"IF(BL199<>\"\",RANK(BL199,$BB199:$BM199,1),\"\")","v":""},{"$f":"IF(BM199<>\"\",RANK(BM199,$BB199:$BM199,1),\"\")","v":""},{"$f":"IF(ISNA(MATCH(1,$BN199:$BY199,0)),\"\",MATCH(1,$BN199:$BY199,0))","v":""},{"$f":"IF(COUNT($CL199:$CV199)<1,\"\",MATCH(VALUE(CX199),$BN199:$BY199,0))","v":""},{"$f":"IF(COUNT($CL199:$CV199)<2,\"\",MATCH(VALUE(CY199),$BN199:$BY199,0))","v":""},{"$f":"IF(COUNT($CL199:$CV199)<3,\"\",MATCH(VALUE(CZ199),$BN199:$BY199,0))","v":""},{"$f":"IF(COUNT($CL199:$CV199)<4,\"\",MATCH(VALUE(DA199),$BN199:$BY199,0))","v":""},{"$f":"IF(COUNT($CL199:$CV199)<5,\"\",MATCH(VALUE(DB199),$BN199:$BY199,0))","v":""},{"$f":"IF(COUNT($CL199:$CV199)<6,\"\",MATCH(VALUE(DC199),$BN199:$BY199,0))","v":""},{"$f":"IF(COUNT($CL199:$CV199)<7,\"\",MATCH(VALUE(DD199),$BN199:$BY199,0))","v":""},{"$f":"IF(COUNT($CL199:$CV199)<8,\"\",MATCH(VALUE(DE199),$BN199:$BY199,0))","v":""},{"$f":"IF(COUNT($CL199:$CV199)<9,\"\",MATCH(VALUE(DF199),$BN199:$BY199,0))","v":""},{"$f":"IF(COUNT($CL199:$CV199)<10,\"\",MATCH(VALUE(DG199),$BN199:$BY199,0))","v":""},{"$f":"IF(COUNT($CL199:$CV199)<11,\"\",MATCH(VALUE(DH199),$BN199:$BY199,0))","v":""},{"$f":"IF(AND(COUNT($BN199:$BY199)>1,NOT(ISNA(MATCH(2,$BN199:$BY199,0)))),0,\"\")","v":""},{"$f":"IF(AND(COUNT($BN199:$BY199)>2,NOT(ISNA(MATCH(3,$BN199:$BY199,0)))),1,\"\")","v":""},{"$f":"IF(AND(COUNT($BN199:$BY199)>3,NOT(ISNA(MATCH(4,$BN199:$BY199,0)))),2,\"\")","v":""},{"$f":"IF(AND(COUNT($BN199:$BY199)>4,NOT(ISNA(MATCH(5,$BN199:$BY199,0)))),3,\"\")","v":""},{"$f":"IF(AND(COUNT($BN199:$BY199)>5,NOT(ISNA(MATCH(6,$BN199:$BY199,0)))),4,\"\")","v":""},{"$f":"IF(AND(COUNT($BN199:$BY199)>6,NOT(ISNA(MATCH(7,$BN199:$BY199,0)))),5,\"\")","v":""},{"$f":"IF(AND(COUNT($BN199:$BY199)>7,NOT(ISNA(MATCH(8,$BN199:$BY199,0)))),6,\"\")","v":""},{"$f":"IF(AND(COUNT($BN199:$BY199)>8,NOT(ISNA(MATCH(9,$BN199:$BY199,0)))),7,\"\")","v":""},{"$f":"IF(AND(COUNT($BN199:$BY199)>9,NOT(ISNA(MATCH(10,$BN199:$BY199,0)))),8,\"\")","v":""},{"$f":"IF(AND(COUNT($BN199:$BY199)>10,NOT(ISNA(MATCH(11,$BN199:$BY199,0)))),9,\"\")","v":""},{"$f":"IF(AND(COUNT($BN199:$BY199)>11,NOT(ISNA(MATCH(12,$BN199:$BY199,0)))),10,\"\")","v":""},{"$f":"CONCATENATE(CL199,CM199,CN199,CO199,CP199,CQ199,CR199,CS199,CT199,CU199,IF(CV199=10,\"A\",\"\"))","v":""},{"$f":"IF(MID($CW199,1,1)=\"\",\"\",IF(MID($CW199,1,1)=\"A\",12,MID($CW199,1,1)+2))","v":""},{"$f":"IF(MID($CW199,2,1)=\"\",\"\",IF(MID($CW199,2,1)=\"A\",12,MID($CW199,2,1)+2))","v":""},{"$f":"IF(MID($CW199,3,1)=\"\",\"\",IF(MID($CW199,3,1)=\"A\",12,MID($CW199,3,1)+2))","v":""},{"$f":"IF(MID($CW199,4,1)=\"\",\"\",IF(MID($CW199,4,1)=\"A\",12,MID($CW199,4,1)+2))","v":""},{"$f":"IF(MID($CW199,5,1)=\"\",\"\",IF(MID($CW199,5,1)=\"A\",12,MID($CW199,5,1)+2))","v":""},{"$f":"IF(MID($CW199,6,1)=\"\",\"\",IF(MID($CW199,6,1)=\"A\",12,MID($CW199,6,1)+2))","v":""},{"$f":"IF(MID($CW199,7,1)=\"\",\"\",IF(MID($CW199,7,1)=\"A\",12,MID($CW199,7,1)+2))","v":""},{"$f":"IF(MID($CW199,8,1)=\"\",\"\",IF(MID($CW199,8,1)=\"A\",12,MID($CW199,8,1)+2))","v":""},{"$f":"IF(MID($CW199,9,1)=\"\",\"\",IF(MID($CW199,9,1)=\"A\",12,MID($CW199,9,1)+2))","v":""},{"$f":"IF(MID($CW199,10,1)=\"\",\"\",IF(MID($CW199,10,1)=\"A\",12,MID($CW199,10,1)+2))","v":""},{"$f":"IF(MID($CW199,11,1)=\"\",\"\",IF(MID($CW199,11,1)=\"A\",12,MID($CW199,11,1)+2))","v":""}]
[null,null,null,null,null,null,null,null,null,null,null,null,null,null,null,null,null,null,null,null,null,null,null,null,null,null,null,null,null,"","","","","","","","","","","","","","","","","","","","","","","","","","","","","","","","","","","","","","","","","","","","","","","","","","","","","","","","","","","","","","","","","","","","","","","","","","","","","","","","","","",""]
[null,null,null,null,null,null,null,null,null,null,null,null,null,null,null,null,null,null,null,null,null,null,null,null,null,null,null,null,null,"","","","","","","","","","","","","","","","","","","","","","","","","","","","","","","","","","","","","","","","","","","","","","","","","","","","","","","","","","","","","","","","","","","","","","","","","","","","","","","","","","",""]
[null,null,null,null,null,null,null,null,null,null,null,null,null,null,null,null,null,null,null,null,null,null,null,null,null,null,null,null,null,"","","","","","","","","","","","","","","","","","","","","","","","","","","","","","","","","","","","","","","","","","","","","","","","","","","","","","","","","","","","","","","","","","","","","","","","","","","","","","","","","","",""]
[null,null,null,null,null,null,null,null,null,null,null,null,null,null,null,null,null,null,null,null,null,null,null,null,null,null,null,null,null,"","","","","","","","","","","","","","","","","","","","","","","","","","","","","","","","","","","","","","","","","","","","","","","","","","","","","","","","","","","","","","","","","","","","","","","","","","","","","","","","","","",""]
[null,null,null,null,null,null,null,null,null,null,null,null,null,null,null,null,null,null,null,null,null,null,null,null,null,null,null,null,null,"","","","","","","","","","","","","","","","","","","","","","","","","","","","","","","","","","","","","","","","","","","","","","","","","","","","","","","","","","","","","","","","","","","","","","","","","","","","","","","","","","",""]
[null,null,null,null,null,null,null,null,null,null,null,null,null,null,null,null,null,null,null,null,null,null,null,null,null,null,null,null,null,"","","","","","","","","","","","","","","","","","","","","","","","","","","","","","","","","","","","","","","","","","","","","","","","","","","","","","","","","","","","","","","","","","","","","","","","","","","","","","","","","","",""]
[null,null,null,null,null,null,null,null,null,null,null,null,null,null,null,null,null,null,null,null,null,null,null,null,null,null,null,null,null,"","","","","","","","","","","","","","","","","","","","","","","","","","","","","","","","","","","","","","","","","","","","","","","","","","","","","","","","","","","","","","","","","","","","","","","","","","","","","","","","","","",""]
[null,null,null,null,null,null,null,null,null,null,null,null,null,null,null,null,null,null,null,null,null,null,null,null,null,null,null,null,null,"","","","","","","","","","","","","","","","","","","","","","","","","","","","","","","","","","","","","","","","","","","","","","","","","","","","","","","","","","","","","","","","","","","","","","","","","","","","","","","","","","",""]
[null,null,null,null,null,null,null,null,null,null,null,null,null,null,null,null,null,null,null,null,null,null,null,null,null,null,null,null,null,"","","","","","","","","","","","","","","","","","","","","","","","","","","","","","","","","","","","","","","","","","","","","","","","","","","","","","","","","","","","","","","","","","","","","","","","","","","","","","","","","","",""]
[null,null,null,null,null,null,null,null,null,null,null,null,null,null,null,null,null,null,null,null,null,null,null,null,null,null,null,null,null,"","","","","","","","","","","","","","","","","","","","","","","","","","","","","","","","","","","","","","","","","","","","","","","","","","","","","","","","","","","","","","","","","","","","","","","","","","","","","","","","","","",""]
[null,null,null,null,null,null,null,null,null,null,null,null,null,null,null,null,null,null,null,null,null,null,null,null,null,null,null,null,null,"","","","","","","","","","","","","","","","","","","","","","","","","","","","","","","","","","","","","","","","","","","","","","","","","","","","","","","","","","","","","","","","","","","","","","","","","","","","","","","","","","",""]
[null,null,null,null,null,null,null,null,null,null,null,null,null,null,null,null,null,null,null,null,null,null,null,null,null,null,null,null,null,"","","","","","","","","","","","","","","","","","","","","","","","","","","","","","","","","","","","","","","","","","","","","","","","","","","","","","","","","","","","","","","","","","","","","","","","","","","","","","","","","","",""]
[null,null,null,null,null,null,null,null,null,null,null,null,null,null,null,null,null,null,null,null,null,null,null,null,null,null,null,null,null,"","","","","","","","","","","","","","","","","","","","","","","","","","","","","","","","","","","","","","","","","","","","","","","","","","","","","","","","","","","","","","","","","","","","","","","","","","","","","","","","","","",""]
[null,null,null,null,null,null,null,null,null,null,null,null,null,null,null,null,null,null,null,null,null,null,null,null,null,null,null,null,null,"","","","","","","","","","","","","","","","","","","","","","","","","","","","","","","","","","","","","","","","","","","","","","","","","","","","","","","","","","","","","","","","","","","","","","","","","","","","","","","","","","",""]
[null,null,null,null,null,null,null,null,null,null,null,null,null,null,null,null,null,null,null,null,null,null,null,null,null,null,null,null,null,"","","","","","","","","","","","","","","","","","","","","","","","","","","","","","","","","","","","","","","","","","","","","","","","","","","","","","","","","","","","","","","","","","","","","","","","","","","","","","","","","","",""]
[null,null,null,null,null,null,null,null,null,null,null,null,null,null,null,null,null,null,null,null,null,null,null,null,null,null,null,null,null,"","","","","","","","","","","","","","","","","","","","","","","","","","","","","","","","","","","","","","","","","","","","","","","","","","","","","","","","","","","","","","","","","","","","","","","","","","","","","","","","","","",""]
[null,null,null,null,null,null,null,null,null,null,null,null,null,null,null,null,null,null,null,null,null,null,null,null,null,null,null,null,null,"","","","","","","","","","","","","","","","","","","","","","","","","","","","","","","","","","","","","","","","","","","","","","","","","","","","","","","","","","","","","","","","","","","","","","","","","","","","","","","","","","",""]
[null,null,null,null,null,null,null,null,null,null,null,null,null,null,null,null,null,null,null,null,null,null,null,null,null,null,null,null,null,"","","","","","","","","","","","","","","","","","","","","","","","","","","","","","","","","","","","","","","","","","","","","","","","","","","","","","","","","","","","","","","","","","","","","","","","","","","","","","","","","","",""]
[null,null,null,null,null,null,null,null,null,null,null,null,null,null,null,null,null,null,null,null,null,null,null,null,null,null,null,null,null,"","","","","","","","","","","","","","","","","","","","","","","","","","","","","","","","","","","","","","","","","","","","","","","","","","","","","","","","","","","","","","","","","","","","","","","","","","","","","","","","","","",""]
[null,null,null,null,null,null,null,null,null,null,null,null,null,null,null,null,null,null,null,null,null,null,null,null,null,null,null,null,null,"","","","","","","","","","","","","","","","","","","","","","","","","","","","","","","","","","","","","","","","","","","","","","","","","","","","","","","","","","","","","","","","","","","","","","","","","","","","","","","","","","",""]
[null,null,null,null,null,null,null,null,null,null,null,null,null,null,null,null,null,null,null,null,null,null,null,null,null,null,null,null,null,"","","","","","","","","","","","","","","","","","","","","","","","","","","","","","","","","","","","","","","","","","","","","","","","","","","","","","","","","","","","","","","","","","","","","","","","","","","","","","","","","","",""]
[null,null,null,null,null,null,null,null,null,null,null,null,null,null,null,null,null,null,null,null,null,null,null,null,null,null,null,null,null,"","","","","","","","","","","","","","","","","","","","","","","","","","","","","","","","","","","","","","","","","","","","","","","","","","","","","","","","","","","","","","","","","","","","","","","","","","","","","","","","","","",""]
[null,null,null,null,null,null,null,null,null,null,null,null,null,null,null,null,null,null,null,null,null,null,null,null,null,null,null,null,null,"","","","","","","","","","","","","","","","","","","","","","","","","","","","","","","","","","","","","","","","","","","","","","","","","","","","","","","","","","","","","","","","","","","","","","","","","","","","","","","","","","",""]
[null,null,null,null,null,null,null,null,null,null,null,null,null,null,null,null,null,null,null,null,null,null,null,null,null,null,null,null,null,"","","","","","","","","","","","","","","","","","","","","","","","","","","","","","","","","","","","","","","","","","","","","","","","","","","","","","","","","","","","","","","","","","","","","","","","","","","","","","","","","","",""]
[null,null,null,null,null,null,null,null,null,null,null,null,null,null,null,null,null,null,null,null,null,null,null,null,null,null,null,null,null,"","","","","","","","","","","","","","","","","","","","","","","","","","","","","","","","","","","","","","","","","","","","","","","","","","","","","","","","","","","","","","","","","","","","","","","","","","","","","","","","","","",""]
[null,null,null,null,null,null,null,null,null,null,null,null,null,null,null,null,null,null,null,null,null,null,null,null,null,null,null,null,null,"","","","","","","","","","","","","","","","","","","","","","","","","","","","","","","","","","","","","","","","","","","","","","","","","","","","","","","","","","","","","","","","","","","","","","","","","","","","","","","","","","",""]
[null,null,null,null,null,null,null,null,null,null,null,null,null,null,null,null,null,null,null,null,null,null,null,null,null,null,null,null,null,"","","","","","","","","","","","","","","","","","","","","","","","","","","","","","","","","","","","","","","","","","","","","","","","","","","","","","","","","","","","","","","","","","","","","","","","","","","","","","","","","","",""]
[null,null,null,null,null,null,null,null,null,null,null,null,null,null,null,null,null,null,null,null,null,null,null,null,null,null,null,null,null,"","","","","","","","","","","","","","","","","","","","","","","","","","","","","","","","","","","","","","","","","","","","","","","","","","","","","","","","","","","","","","","","","","","","","","","","","","","","","","","","","","",""]
[null,null,null,null,null,null,null,null,null,null,null,null,null,null,null,null,null,null,null,null,null,null,null,null,null,null,null,null,null,"","","","","","","","","","","","","","","","","","","","","","","","","","","","","","","","","","","","","","","","","","","","","","","","","","","","","","","","","","","","","","","","","","","","","","","","","","","","","","","","","","",""]
[null,null,null,null,null,null,null,null,null,null,null,null,null,null,null,null,null,null,null,null,null,null,null,null,null,null,null,null,null,"","","","","","","","","","","","","","","","","","","","","","","","","","","","","","","","","","","","","","","","","","","","","","","","","","","","","","","","","","","","","","","","","","","","","","","","","","","","","","","","","","",""]
[null,null,null,null,null,null,null,null,null,null,null,null,null,null,null,null,null,null,null,null,null,null,null,null,null,null,null,null,null,"","","","","","","","","","","","","","","","","","","","","","","","","","","","","","","","","","","","","","","","","","","","","","","","","","","","","","","","","","","","","","","","","","","","","","","","","","","","","","","","","","",""]
[null,null,null,null,null,null,null,null,null,null,null,null,null,null,null,null,null,null,null,null,null,null,null,null,null,null,null,null,null,"","","","","","","","","","","","","","","","","","","","","","","","","","","","","","","","","","","","","","","","","","","","","","","","","","","","","","","","","","","","","","","","","","","","","","","","","","","","","","","","","","",""]
[null,null,null,null,null,null,null,null,null,null,null,null,null,null,null,null,null,null,null,null,null,null,null,null,null,null,null,null,null,"","","","","","","","","","","","","","","","","","","","","","","","","","","","","","","","","","","","","","","","","","","","","","","","","","","","","","","","","","","","","","","","","","","","","","","","","","","","","","","","","","",""]
[null,null,null,null,null,null,null,null,null,null,null,null,null,null,null,null,null,null,null,null,null,null,null,null,null,null,null,null,null,"","","","","","","","","","","","","","","","","","","","","","","","","","","","","","","","","","","","","","","","","","","","","","","","","","","","","","","","","","","","","","","","","","","","","","","","","","","","","","","","","","",""]
[null,null,null,null,null,null,null,null,null,null,null,null,null,null,null,null,null,null,null,null,null,null,null,null,null,null,null,null,null,"","","","","","","","","","","","","","","","","","","","","","","","","","","","","","","","","","","","","","","","","","","","","","","","","","","","","","","","","","","","","","","","","","","","","","","","","","","","","","","","","","",""]
[null,null,null,null,null,null,null,null,null,null,null,null,null,null,null,null,null,null,null,null,null,null,null,null,null,null,null,null,null,"","","","","","","","","","","","","","","","","","","","","","","","","","","","","","","","","","","","","","","","","","","","","","","","","","","","","","","","","","","","","","","","","","","","","","","","","","","","","","","","","","",""]
[null,null,null,null,null,null,null,null,null,null,null,null,null,null,null,null,null,null,null,null,null,null,null,null,null,null,null,null,null,"","","","","","","","","","","","","","","","","","","","","","","","","","","","","","","","","","","","","","","","","","","","","","","","","","","","","","","","","","","","","","","","","","","","","","","","","","","","","","","","","","",""]
[null,null,null,null,null,null,null,null,null,null,null,null,null,null,null,null,null,null,null,null,null,null,null,null,null,null,null,null,null,"","","","","","","","","","","","","","","","","","","","","","","","","","","","","","","","","","","","","","","","","","","","","","","","","","","","","","","","","","","","","","","","","","","","","","","","","","","","","","","","","","",""]
[null,null,null,null,null,null,null,null,null,null,null,null,null,null,null,null,null,null,null,null,null,null,null,null,null,null,null,null,null,"","","","","","","","","","","","","","","","","","","","","","","","","","","","","","","","","","","","","","","","","","","","","","","","","","","","","","","","","","","","","","","","","","","","","","","","","","","","","","","","","","",""]
[null,null,null,null,null,null,null,null,null,null,null,null,null,null,null,null,null,null,null,null,null,null,null,null,null,null,null,null,null,"","","","","","","","","","","","","","","","","","","","","","","","","","","","","","","","","","","","","","","","","","","","","","","","","","","","","","","","","","","","","","","","","","","","","","","","","","","","","","","","","","",""]
[null,null,null,null,null,null,null,null,null,null,null,null,null,null,null,null,null,null,null,null,null,null,null,null,null,null,null,null,null,"","","","","","","","","","","","","","","","","","","","","","","","","","","","","","","","","","","","","","","","","","","","","","","","","","","","","","","","","","","","","","","","","","","","","","","","","","","","","","","","","","",""]
[null,null,null,null,null,null,null,null,null,null,null,null,null,null,null,null,null,null,null,null,null,null,null,null,null,null,null,null,null,"","","","","","","","","","","","","","","","","","","","","","","","","","","","","","","","","","","","","","","","","","","","","","","","","","","","","","","","","","","","","","","","","","","","","","","","","","","","","","","","","","",""]
[null,null,null,null,null,null,null,null,null,null,null,null,null,null,null,null,null,null,null,null,null,null,null,null,null,null,null,null,null,"","","","","","","","","","","","","","","","","","","","","","","","","","","","","","","","","","","","","","","","","","","","","","","","","","","","","","","","","","","","","","","","","","","","","","","","","","","","","","","","","","",""]
[null,null,null,null,null,null,null,null,null,null,null,null,null,null,null,null,null,null,null,null,null,null,null,null,null,null,null,null,null,"","","","","","","","","","","","","","","","","","","","","","","","","","","","","","","","","","","","","","","","","","","","","","","","","","","","","","","","","","","","","","","","","","","","","","","","","","","","","","","","","","",""]
[null,null,null,null,null,null,null,null,null,null,null,null,null,null,null,null,null,null,null,null,null,null,null,null,null,null,null,null,null,"","","","","","","","","","","","","","","","","","","","","","","","","","","","","","","","","","","","","","","","","","","","","","","","","","","","","","","","","","","","","","","","","","","","","","","","","","","","","","","","","","",""]
[null,null,null,null,null,null,null,null,null,null,null,null,null,null,null,null,null,null,null,null,null,null,null,null,null,null,null,null,null,"","","","","","","","","","","","","","","","","","","","","","","","","","","","","","","","","","","","","","","","","","","","","","","","","","","","","","","","","","","","","","","","","","","","","","","","","","","","","","","","","","",""]
[null,null,null,null,null,null,null,null,null,null,null,null,null,null,null,null,null,null,null,null,null,null,null,null,null,null,null,null,null,"","","","","","","","","","","","","","","","","","","","","","","","","","","","","","","","","","","","","","","","","","","","","","","","","","","","","","","","","","","","","","","","","","","","","","","","","","","","","","","","","","",""]
[null,null,null,null,null,null,null,null,null,null,null,null,null,null,null,null,null,null,null,null,null,null,null,null,null,null,null,null,null,"","","","","","","","","","","","","","","","","","","","","","","","","","","","","","","","","","","","","","","","","","","","","","","","","","","","","","","","","","","","","","","","","","","","","","","","","","","","","","","","","","",""]
[null,null,null,null,null,null,null,null,null,null,null,null,null,null,null,null,null,null,null,null,null,null,null,null,null,null,null,null,null,"","","","","","","","","","","","","","","","","","","","","","","","","","","","","","","","","","","","","","","","","","","","","","","","","","","","","","","","","","","","","","","","","","","","","","","","","","","","","","","","","","",""]
[null,null,null,null,null,null,null,null,null,null,null,null,null,null,null,null,null,null,null,null,null,null,null,null,null,null,null,null,null,"","","","","","","","","","","","","","","","","","","","","","","","","","","","","","","","","","","","","","","","","","","","","","","","","","","","","","","","","","","","","","","","","","","","","","","","","","","","","","","","","","",""]
[null,null,null,null,null,null,null,null,null,null,null,null,null,null,null,null,null,null,null,null,null,null,null,null,null,null,null,null,null,"","","","","","","","","","","","","","","","","","","","","","","","","","","","","","","","","","","","","","","","","","","","","","","","","","","","","","","","","","","","","","","","","","","","","","","","","","","","","","","","","","",""]
[null,null,null,null,null,null,null,null,null,null,null,null,null,null,null,null,null,null,null,null,null,null,null,null,null,null,null,null,null,"","","","","","","","","","","","","","","","","","","","","","","","","","","","","","","","","","","","","","","","","","","","","","","","","","","","","","","","","","","","","","","","","","","","","","","","","","","","","","","","","","",""]
[null,null,null,null,null,null,null,null,null,null,null,null,null,null,null,null,null,null,null,null,null,null,null,null,null,null,null,null,null,"","","","","","","","","","","","","","","","","","","","","","","","","","","","","","","","","","","","","","","","","","","","","","","","","","","","","","","","","","","","","","","","","","","","","","","","","","","","","","","","","","",""]
[null,null,null,null,null,null,null,null,null,null,null,null,null,null,null,null,null,null,null,null,null,null,null,null,null,null,null,null,null,"","","","","","","","","","","","","","","","","","","","","","","","","","","","","","","","","","","","","","","","","","","","","","","","","","","","","","","","","","","","","","","","","","","","","","","","","","","","","","","","","","",""]
[null,null,null,null,null,null,null,null,null,null,null,null,null,null,null,null,null,null,null,null,null,null,null,null,null,null,null,null,null,"","","","","","","","","","","","","","","","","","","","","","","","","","","","","","","","","","","","","","","","","","","","","","","","","","","","","","","","","","","","","","","","","","","","","","","","","","","","","","","","","","",""]
[null,null,null,null,null,null,null,null,null,null,null,null,null,null,null,null,null,null,null,null,null,null,null,null,null,null,null,null,null,"","","","","","","","","","","","","","","","","","","","","","","","","","","","","","","","","","","","","","","","","","","","","","","","","","","","","","","","","","","","","","","","","","","","","","","","","","","","","","","","","","",""]
[null,null,null,null,null,null,null,null,null,null,null,null,null,null,null,null,null,null,null,null,null,null,null,null,null,null,null,null,null,"","","","","","","","","","","","","","","","","","","","","","","","","","","","","","","","","","","","","","","","","","","","","","","","","","","","","","","","","","","","","","","","","","","","","","","","","","","","","","","","","","",""]
[null,null,null,null,null,null,null,null,null,null,null,null,null,null,null,null,null,null,null,null,null,null,null,null,null,null,null,null,null,"","","","","","","","","","","","","","","","","","","","","","","","","","","","","","","","","","","","","","","","","","","","","","","","","","","","","","","","","","","","","","","","","","","","","","","","","","","","","","","","","","",""]
[null,null,null,null,null,null,null,null,null,null,null,null,null,null,null,null,null,null,null,null,null,null,null,null,null,null,null,null,null,"","","","","","","","","","","","","","","","","","","","","","","","","","","","","","","","","","","","","","","","","","","","","","","","","","","","","","","","","","","","","","","","","","","","","","","","","","","","","","","","","","",""]
[null,null,null,null,null,null,null,null,null,null,null,null,null,null,null,null,null,null,null,null,null,null,null,null,null,null,null,null,null,"","","","","","","","","","","","","","","","","","","","","","","","","","","","","","","","","","","","","","","","","","","","","","","","","","","","","","","","","","","","","","","","","","","","","","","","","","","","","","","","","","",""]
[null,null,null,null,null,null,null,null,null,null,null,null,null,null,null,null,null,null,null,null,null,null,null,null,null,null,null,null,null,"","","","","","","","","","","","","","","","","","","","","","","","","","","","","","","","","","","","","","","","","","","","","","","","","","","","","","","","","","","","","","","","","","","","","","","","","","","","","","","","","","",""]
[null,null,null,null,null,null,null,null,null,null,null,null,null,null,null,null,null,null,null,null,null,null,null,null,null,null,null,null,null,"","","","","","","","","","","","","","","","","","","","","","","","","","","","","","","","","","","","","","","","","","","","","","","","","","","","","","","","","","","","","","","","","","","","","","","","","","","","","","","","","","",""]
[null,null,null,null,null,null,null,null,null,null,null,null,null,null,null,null,null,null,null,null,null,null,null,null,null,null,null,null,null,"","","","","","","","","","","","","","","","","","","","","","","","","","","","","","","","","","","","","","","","","","","","","","","","","","","","","","","","","","","","","","","","","","","","","","","","","","","","","","","","","","",""]
[null,null,null,null,null,null,null,null,null,null,null,null,null,null,null,null,null,null,null,null,null,null,null,null,null,null,null,null,null,{"$f":"IF(BZ263=\"\",\"\",OFFSET($D263,0,2*BZ263))","v":""},{"$f":"IF(CA263=\"\",\"\",OFFSET($D263,0,2*CA263))","v":""},{"$f":"IF(CB263=\"\",\"\",OFFSET($D263,0,2*CB263))","v":""},{"$f":"IF(CC263=\"\",\"\",OFFSET($D263,0,2*CC263))","v":""},{"$f":"IF(CD263=\"\",\"\",OFFSET($D263,0,2*CD263))","v":""},{"$f":"IF(CE263=\"\",\"\",OFFSET($D263,0,2*CE263))","v":""},{"$f":"IF(CF263=\"\",\"\",OFFSET($D263,0,2*CF263))","v":""},{"$f":"IF(CG263=\"\",\"\",OFFSET($D263,0,2*CG263))","v":""},{"$f":"IF(CH263=\"\",\"\",OFFSET($D263,0,2*CH263))","v":""},{"$f":"IF(CI263=\"\",\"\",OFFSET($D263,0,2*CI263))","v":""},{"$f":"IF(CJ263=\"\",\"\",OFFSET($D263,0,2*CJ263))","v":""},{"$f":"IF(CK263=\"\",\"\",OFFSET($D263,0,2*CK263))","v":""},{"$f":"IF(BZ263=\"\",\"\",IF(COUNT(OFFSET($D263,0,2*BZ263-1,1,2))=2,OFFSET($D263,0,2*BZ263-1),\"\"))","v":""},{"$f":"IF(CA263=\"\",\"\",IF(COUNT(OFFSET($D263,0,2*CA263-1,1,2))=2,OFFSET($D263,0,2*CA263-1),\"\"))","v":""},{"$f":"IF(CB263=\"\",\"\",IF(COUNT(OFFSET($D263,0,2*CB263-1,1,2))=2,OFFSET($D263,0,2*CB263-1),\"\"))","v":""},{"$f":"IF(CC263=\"\",\"\",IF(COUNT(OFFSET($D263,0,2*CC263-1,1,2))=2,OFFSET($D263,0,2*CC263-1),\"\"))","v":""},{"$f":"IF(CD263=\"\",\"\",IF(COUNT(OFFSET($D263,0,2*CD263-1,1,2))=2,OFFSET($D263,0,2*CD263-1),\"\"))","v":""},{"$f":"IF(CE263=\"\",\"\",IF(COUNT(OFFSET($D263,0,2*CE263-1,1,2))=2,OFFSET($D263,0,2*CE263-1),\"\"))","v":""},{"$f":"IF(CF263=\"\",\"\",IF(COUNT(OFFSET($D263,0,2*CF263-1,1,2))=2,OFFSET($D263,0,2*CF263-1),\"\"))","v":""},{"$f":"IF(CG263=\"\",\"\",IF(COUNT(OFFSET($D263,0,2*CG263-1,1,2))=2,OFFSET($D263,0,2*CG263-1),\"\"))","v":""},{"$f":"IF(CH263=\"\",\"\",IF(COUNT(OFFSET($D263,0,2*CH263-1,1,2))=2,OFFSET($D263,0,2*CH263-1),\"\"))","v":""},{"$f":"IF(CI263=\"\",\"\",IF(COUNT(OFFSET($D263,0,2*CI263-1,1,2))=2,OFFSET($D263,0,2*CI263-1),\"\"))","v":""},{"$f":"IF(CJ263=\"\",\"\",IF(COUNT(OFFSET($D263,0,2*CJ263-1,1,2))=2,OFFSET($D263,0,2*CJ263-1),\"\"))","v":""},{"$f":"IF(CK263=\"\",\"\",IF(COUNT(OFFSET($D263,0,2*CK263-1,1,2))=2,OFFSET($D263,0,2*CK263-1),\"\"))","v":""},{"$f":"IF(AND(E263<>\"\",F263<>\"\"),F263,\"\")","v":""},{"$f":"IF(AND(G263<>\"\",H263<>\"\"),H263,\"\")","v":""},{"$f":"IF(AND(I263<>\"\",J263<>\"\"),J263,\"\")","v":""},{"$f":"IF(AND(K263<>\"\",L263<>\"\"),L263,\"\")","v":""},{"$f":"IF(AND(M263<>\"\",N263<>\"\"),N263,\"\")","v":""},{"$f":"IF(AND(O263<>\"\",P263<>\"\"),P263,\"\")","v":""},{"$f":"IF(AND(Q263<>\"\",R263<>\"\"),R263,\"\")","v":""},{"$f":"IF(AND(S263<>\"\",T263<>\"\"),T263,\"\")","v":""},{"$f":"IF(AND(U263<>\"\",V263<>\"\"),V263,\"\")","v":""},{"$f":"IF(AND(W263<>\"\",X263<>\"\"),X263,\"\")","v":""},{"$f":"IF(AND(Y263<>\"\",Z263<>\"\"),Z263,\"\")","v":""},{"$f":"IF(AND(AA263<>\"\",AB263<>\"\"),AB263,\"\")","v":""},{"$f":"IF(BB263<>\"\",RANK(BB263,$BB263:$BM263,1),\"\")","v":""},{"$f":"IF(BC263<>\"\",RANK(BC263,$BB263:$BM263,1),\"\")","v":""},{"$f":"IF(BD263<>\"\",RANK(BD263,$BB263:$BM263,1),\"\")","v":""},{"$f":"IF(BE263<>\"\",RANK(BE263,$BB263:$BM263,1),\"\")","v":""},{"$f":"IF(BF263<>\"\",RANK(BF263,$BB263:$BM263,1),\"\")","v":""},{"$f":"IF(BG263<>\"\",RANK(BG263,$BB263:$BM263,1),\"\")","v":""},{"$f":"IF(BH263<>\"\",RANK(BH263,$BB263:$BM263,1),\"\")","v":""},{"$f":"IF(BI263<>\"\",RANK(BI263,$BB263:$BM263,1),\"\")","v":""},{"$f":"IF(BJ263<>\"\",RANK(BJ263,$BB263:$BM263,1),\"\")","v":""},{"$f":"IF(BK263<>\"\",RANK(BK263,$BB263:$BM263,1),\"\")","v":""},{"$f":"IF(BL263<>\"\",RANK(BL263,$BB263:$BM263,1),\"\")","v":""},{"$f":"IF(BM263<>\"\",RANK(BM263,$BB263:$BM263,1),\"\")","v":""},{"$f":"IF(ISNA(MATCH(1,$BN263:$BY263,0)),\"\",MATCH(1,$BN263:$BY263,0))","v":""},{"$f":"IF(COUNT($CL263:$CV263)<1,\"\",MATCH(VALUE(CX263),$BN263:$BY263,0))","v":""},{"$f":"IF(COUNT($CL263:$CV263)<2,\"\",MATCH(VALUE(CY263),$BN263:$BY263,0))","v":""},{"$f":"IF(COUNT($CL263:$CV263)<3,\"\",MATCH(VALUE(CZ263),$BN263:$BY263,0))","v":""},{"$f":"IF(COUNT($CL263:$CV263)<4,\"\",MATCH(VALUE(DA263),$BN263:$BY263,0))","v":""},{"$f":"IF(COUNT($CL263:$CV263)<5,\"\",MATCH(VALUE(DB263),$BN263:$BY263,0))","v":""},{"$f":"IF(COUNT($CL263:$CV263)<6,\"\",MATCH(VALUE(DC263),$BN263:$BY263,0))","v":""},{"$f":"IF(COUNT($CL263:$CV263)<7,\"\",MATCH(VALUE(DD263),$BN263:$BY263,0))","v":""},{"$f":"IF(COUNT($CL263:$CV263)<8,\"\",MATCH(VALUE(DE263),$BN263:$BY263,0))","v":""},{"$f":"IF(COUNT($CL263:$CV263)<9,\"\",MATCH(VALUE(DF263),$BN263:$BY263,0))","v":""},{"$f":"IF(COUNT($CL263:$CV263)<10,\"\",MATCH(VALUE(DG263),$BN263:$BY263,0))","v":""},{"$f":"IF(COUNT($CL263:$CV263)<11,\"\",MATCH(VALUE(DH263),$BN263:$BY263,0))","v":""},{"$f":"IF(AND(COUNT($BN263:$BY263)>1,NOT(ISNA(MATCH(2,$BN263:$BY263,0)))),0,\"\")","v":""},{"$f":"IF(AND(COUNT($BN263:$BY263)>2,NOT(ISNA(MATCH(3,$BN263:$BY263,0)))),1,\"\")","v":""},{"$f":"IF(AND(COUNT($BN263:$BY263)>3,NOT(ISNA(MATCH(4,$BN263:$BY263,0)))),2,\"\")","v":""},{"$f":"IF(AND(COUNT($BN263:$BY263)>4,NOT(ISNA(MATCH(5,$BN263:$BY263,0)))),3,\"\")","v":""},{"$f":"IF(AND(COUNT($BN263:$BY263)>5,NOT(ISNA(MATCH(6,$BN263:$BY263,0)))),4,\"\")","v":""},{"$f":"IF(AND(COUNT($BN263:$BY263)>6,NOT(ISNA(MATCH(7,$BN263:$BY263,0)))),5,\"\")","v":""},{"$f":"IF(AND(COUNT($BN263:$BY263)>7,NOT(ISNA(MATCH(8,$BN263:$BY263,0)))),6,\"\")","v":""},{"$f":"IF(AND(COUNT($BN263:$BY263)>8,NOT(ISNA(MATCH(9,$BN263:$BY263,0)))),7,\"\")","v":""},{"$f":"IF(AND(COUNT($BN263:$BY263)>9,NOT(ISNA(MATCH(10,$BN263:$BY263,0)))),8,\"\")","v":""},{"$f":"IF(AND(COUNT($BN263:$BY263)>10,NOT(ISNA(MATCH(11,$BN263:$BY263,0)))),9,\"\")","v":""},{"$f":"IF(AND(COUNT($BN263:$BY263)>11,NOT(ISNA(MATCH(12,$BN263:$BY263,0)))),10,\"\")","v":""},{"$f":"CONCATENATE(CL263,CM263,CN263,CO263,CP263,CQ263,CR263,CS263,CT263,CU263,IF(CV263=10,\"A\",\"\"))","v":""},{"$f":"IF(MID($CW263,1,1)=\"\",\"\",IF(MID($CW263,1,1)=\"A\",12,MID($CW263,1,1)+2))","v":""},{"$f":"IF(MID($CW263,2,1)=\"\",\"\",IF(MID($CW263,2,1)=\"A\",12,MID($CW263,2,1)+2))","v":""},{"$f":"IF(MID($CW263,3,1)=\"\",\"\",IF(MID($CW263,3,1)=\"A\",12,MID($CW263,3,1)+2))","v":""},{"$f":"IF(MID($CW263,4,1)=\"\",\"\",IF(MID($CW263,4,1)=\"A\",12,MID($CW263,4,1)+2))","v":""},{"$f":"IF(MID($CW263,5,1)=\"\",\"\",IF(MID($CW263,5,1)=\"A\",12,MID($CW263,5,1)+2))","v":""},{"$f":"IF(MID($CW263,6,1)=\"\",\"\",IF(MID($CW263,6,1)=\"A\",12,MID($CW263,6,1)+2))","v":""},{"$f":"IF(MID($CW263,7,1)=\"\",\"\",IF(MID($CW263,7,1)=\"A\",12,MID($CW263,7,1)+2))","v":""},{"$f":"IF(MID($CW263,8,1)=\"\",\"\",IF(MID($CW263,8,1)=\"A\",12,MID($CW263,8,1)+2))","v":""},{"$f":"IF(MID($CW263,9,1)=\"\",\"\",IF(MID($CW263,9,1)=\"A\",12,MID($CW263,9,1)+2))","v":""},{"$f":"IF(MID($CW263,10,1)=\"\",\"\",IF(MID($CW263,10,1)=\"A\",12,MID($CW263,10,1)+2))","v":""},{"$f":"IF(MID($CW263,11,1)=\"\",\"\",IF(MID($CW263,11,1)=\"A\",12,MID($CW263,11,1)+2))","v":""}]
[null,null,null,null,null,null,null,null,null,null,null,null,null,null,null,null,null,null,null,null,null,null,null,null,null,null,null,null,null,"","","","","","","","","","","","","","","","","","","","","","","","","","","","","","","","","","","","","","","","","","","","","","","","","","","","","","","","","","","","","","","","","","","","","","","","","","","","","","","","","","",""]
[null,null,null,null,null,null,null,null,null,null,null,null,null,null,null,null,null,null,null,null,null,null,null,null,null,null,null,null,null,"","","","","","","","","","","","","","","","","","","","","","","","","","","","","","","","","","","","","","","","","","","","","","","","","","","","","","","","","","","","","","","","","","","","","","","","","","","","","","","","","","",""]
[null,null,null,null,null,null,null,null,null,null,null,null,null,null,null,null,null,null,null,null,null,null,null,null,null,null,null,null,null,"","","","","","","","","","","","","","","","","","","","","","","","","","","","","","","","","","","","","","","","","","","","","","","","","","","","","","","","","","","","","","","","","","","","","","","","","","","","","","","","","","",""]
[null,null,null,null,null,null,null,null,null,null,null,null,null,null,null,null,null,null,null,null,null,null,null,null,null,null,null,null,null,"","","","","","","","","","","","","","","","","","","","","","","","","","","","","","","","","","",{"$f":"IF(AND(AC267<>\"\",Z267<>\"\"),Z267,\"\")","v":""},"","","","","","","","","","","","","","","","","","","","","","","","","","","","","","","","","","","","","","","","","","","","","","","",""]
[null,null,null,null,null,null,null,null,null,null,null,null,null,null,null,null,null,null,null,null,null,null,null,null,null,null,null,null,null,"","","","","","","","","","","","","","","","","","","","","","","","","","","","","","","","","","","","","","","","","","","","","","","","","","","","","","","","","","","","","","","","","","","","","","","","","","","","","","","","","","",""]
[null,null,null,null,null,null,null,null,null,null,null,null,null,null,null,null,null,null,null,null,null,null,null,null,null,null,null,null,null,"","","","","","","","","","","","","","","","","","","","","","","","","","","","","","","","","","","","","","","","","","","","","","","","","","","","","","","","","","","","","","","","","","","","","","","","","","","","","","","","","","",""]
[null,null,null,null,null,null,null,null,null,null,null,null,null,null,null,null,null,null,null,null,null,null,null,null,null,null,null,null,null,"","","","","","","","","","","","","","","","","","","","","","","","","","","","","","","","","","","","","","","","","","","","","","","","","","","","","","","","","","","","","","","","","","","","","","","","","","","","","","","","","","",""]
[null,null,null,null,null,null,null,null,null,null,null,null,null,null,null,null,null,null,null,null,null,null,null,null,null,null,null,null,null,"","","","","","","","","","","","","","","","","","","","","","","","","","","","","","","","","","","","","","","","","","","","","","","","","","","","","","","","","","","","","","","","","","","","","","","","","","","","","","","","","","",""]
[null,null,null,null,null,null,null,null,null,null,null,null,null,null,null,null,null,null,null,null,null,null,null,null,null,null,null,null,null,"","","","","","","","","","","","","","","","","","","","","","","","","","","","","","","","","","","","","","","","","","","","","","","","","","","","","","","","","","","","","","","","","","","","","","","","","","","","","","","","","","",""]
[null,null,null,null,null,null,null,null,null,null,null,null,null,null,null,null,null,null,null,null,null,null,null,null,null,null,null,null,null,"","","","","","","","","","","","","","","","","","","","","","","","","","","","","","","","","","","","","","","","","","","","","","","","","","","","","","","","","","","","","","","","","","","","","","","","","","","","","","","","","","",""]
[null,null,null,null,null,null,null,null,null,null,null,null,null,null,null,null,null,null,null,null,null,null,null,null,null,null,null,null,null,"","","","","","","","","","","","","","","","","","","","","","","","","","","","","","","","","","","","","","","","","","","","","","","","","","","","","","","","","","","","","","","","","","","","","","","","","","","","","","","","","","",""]
[null,null,null,null,null,null,null,null,null,null,null,null,null,null,null,null,null,null,null,null,null,null,null,null,null,null,null,null,null,"","","","","","","","","","","","","","","","","","","","","","","","","","","","","","","","","","","","","","","","","","","","","","","","","","","","","","","","","","","","","","","","","","","","","","","","","","","","","","","","","","",""]
[null,null,null,null,null,null,null,null,null,null,null,null,null,null,null,null,null,null,null,null,null,null,null,null,null,null,null,null,null,"","","","","","","","","","","","","","","","","","","","","","","","","","","","","","","","","","","","","","","","","","","","","","","","","","","","","","","","","","","","","","","","","","","","","","","","","","","","","","","","","","",""]
[null,null,null,null,null,null,null,null,null,null,null,null,null,null,null,null,null,null,null,null,null,null,null,null,null,null,null,null,null,"","","","","","","","","","","","","","","","","","","","","","","","","","","","","","","","","","","","","","","","","","","","","","","","","","","","","","","","","","","","","","","","","","","","","","","","","","","","","","","","","","",""]
[null,null,null,null,null,null,null,null,null,null,null,null,null,null,null,null,null,null,null,null,null,null,null,null,null,null,null,null,null,"","","","","","","","","","","","","","","","","","","","","","","","","","","","","","","","","","","","","","","","","","","","","","","","","","","","","","","","","","","","","","","","","","","","","","","","","","","","","","","","","","",""]
[null,null,null,null,null,null,null,null,null,null,null,null,null,null,null,null,null,null,null,null,null,null,null,null,null,null,null,null,null,"","","","","","","","","","","","","","","","","","","","","","","","","","","","","","","","","","","","","","","","","","","","","","","","","","","","","","","","","","","","","","","","","","","","","","","","","","","","","","","","","","",""]
[null,null,null,null,null,null,null,null,null,null,null,null,null,null,null,null,null,null,null,null,null,null,null,null,null,null,null,null,null,"","","","","","","","","","","","","","","","","","","","","","","","","","","","","","","","","","","","","","","","","","","","","","","","","","","","","","","","","","","","","","","","","","","","","","","","","","","","","","","","","","",""]
[null,null,null,null,null,null,null,null,null,null,null,null,null,null,null,null,null,null,null,null,null,null,null,null,null,null,null,null,null,"","","","","","","","","","","","","","","","","","","","","","","","","","","","","","","","","","","","","","","","","","","","","","","","","","","","","","","","","","","","","","","","","","","","","","","","","","","","","","","","","","",""]
[null,null,null,null,null,null,null,null,null,null,null,null,null,null,null,null,null,null,null,null,null,null,null,null,null,null,null,null,null,"","","","","","","","","","","","","","","","","","","","","","","","","","","","","","","","","","","","","","","","","","","","","","","","","","","","","","","","","","","","","","","","","","","","","","","","","","","","","","","","","","",""]
[null,null,null,null,null,null,null,null,null,null,null,null,null,null,null,null,null,null,null,null,null,null,null,null,null,null,null,null,null,"","","","","","","","","","","","","","","","","","","","","","","","","","","","","","","","","","","","","","","","","","","","","","","","","","","","","","","","","","","","","","","","","","","","","","","","","","","","","","","","","","",""]
[null,null,null,null,null,null,null,null,null,null,null,null,null,null,null,null,null,null,null,null,null,null,null,null,null,null,null,null,null,"","","","","","","","","","","","","","","","","","","","","","","","","","","","","","","","","","","","","","","","","","","","","","","","","","","","","","","","","","","","","","","","","","","","","","","","","","","","","","","","","","",""]
[null,null,null,null,null,null,null,null,null,null,null,null,null,null,null,null,null,null,null,null,null,null,null,null,null,null,null,null,null,"","","","","","","","","","","","","","","","","","","","","","","","","","","","","","","","","","","","","","","","","","","","","","","","","","","","","","","","","","","","","","","","","","","","","","","","","","","","","","","","","","",""]
[null,null,null,null,null,null,null,null,null,null,null,null,null,null,null,null,null,null,null,null,null,null,null,null,null,null,null,null,null,"","","","","","","","","","","","","","","","","","","","","","","","","","","","","","","","","","","","","","","","","","","","","","","","","","","","","","","","","","","","","","","","","","","","","","","","","","","","","","","","","","",""]
[null,null,null,null,null,null,null,null,null,null,null,null,null,null,null,null,null,null,null,null,null,null,null,null,null,null,null,null,null,"","","","","","","","","","","","","","","","","","","","","","","","","","","","","","","","","","","","","","","","","","","","","","","","","","","","","","","","","","","","","","","","","","","","","","","","","","","","","","","","","","",""]
[null,null,null,null,null,null,null,null,null,null,null,null,null,null,null,null,null,null,null,null,null,null,null,null,null,null,null,null,null,"","","","","","","","","","","","","","","","","","","","","","","","","","","","","","","","","","","","","","","","","","","","","","","","","","","","","","","","","","","","","","","","","","","","","","","","","","","","","","","","","","",""]
[null,null,null,null,null,null,null,null,null,null,null,null,null,null,null,null,null,null,null,null,null,null,null,null,null,null,null,null,null,"","","","","","","","","","","","","","","","","","","","","","","","","","","","","","","","","","","","","","","","","","","","","","","","","","","","","","","","","","","","","","","","","","","","","","","","","","","","","","","","","","",""]
[null,null,null,null,null,null,null,null,null,null,null,null,null,null,null,null,null,null,null,null,null,null,null,null,null,null,null,null,null,"","","","","","","","","","","","","","","","","","","","","","","","","","","","","","","","","","","","","","","","","","","","","","","","","","","","","","","","","","","","","","","","","","","","","","","","","","","","","","","","","","",""]
[null,null,null,null,null,null,null,null,null,null,null,null,null,null,null,null,null,null,null,null,null,null,null,null,null,null,null,null,null,"","","","","","","","","","","","","","","","","","","","","","","","","","","","","","","","","","","","","","","","","","","","","","","","","","","","","","","","","","","","","","","","","","","","","","","","","","","","","","","","","","",""]
[null,null,null,null,null,null,null,null,null,null,null,null,null,null,null,null,null,null,null,null,null,null,null,null,null,null,null,null,null,"","","","","","","","","","","","","","","","","","","","","","","","","","","","","","","","","","","","","","","","","","","","","","","","","","","","","","","","","","","","","","","","","","","","","","","","","","","","","","","","","","",""]
[null,null,null,null,null,null,null,null,null,null,null,null,null,null,null,null,null,null,null,null,null,null,null,null,null,null,null,null,null,"","","","","","","","","","","","","","","","","","","","","","","","","","","","","","","","","","","","","","","","","","","","","","","","","","","","","","","","","","","","","","","","","","","","","","","","","","","","","","","","","","",""]
[null,null,null,null,null,null,null,null,null,null,null,null,null,null,null,null,null,null,null,null,null,null,null,null,null,null,null,null,null,"","","","","","","","","","","","","","","","","","","","","","","","","","","","","","","","","","","","","","","","","","","","","","","","","","","","","","","","","","","","","","","","","","","","","","","","","","","","","","","","","","",""]
[null,null,null,null,null,null,null,null,null,null,null,null,null,null,null,null,null,null,null,null,null,null,null,null,null,null,null,null,null,"","","","","","","","","","","","","","","","","","","","","","","","","","","","","","","","","","","","","","","","","","","","","","","","","","","","","","","","","","","","","","","","","","","","","","","","","","","","","","","","","","",""]
[null,null,null,null,null,null,null,null,null,null,null,null,null,null,null,null,null,null,null,null,null,null,null,null,null,null,null,null,null,"","","","","","","","","","","","","","","","","","","","","","","","","","","","","","","","","","","","","","","","","","","","","","","","","","","","","","","","","","","","","","","","","","","","","","","","","","","","","","","","","","",""]
[null,null,null,null,null,null,null,null,null,null,null,null,null,null,null,null,null,null,null,null,null,null,null,null,null,null,null,null,null,"","","","","","","","","","","","","","","","","","","","","","","","","","","","","","","","","","","","","","","","","","","","","","","","","","","","","","","","","","","","","","","","","","","","","","","","","","","","","","","","","","",""]
[null,null,null,null,null,null,null,null,null,null,null,null,null,null,null,null,null,null,null,null,null,null,null,null,null,null,null,null,null,"","","","","","","","","","","","","","","","","","","","","","","","","","","","","","","","","","","","","","","","","","","","","","","","","","","","","","","","","","","","","","","","","","","","","","","","","","","","","","","","","","",""]
[null,null,null,null,null,null,null,null,null,null,null,null,null,null,null,null,null,null,null,null,null,null,null,null,null,null,null,null,null,"","","","","","","","","","","","","","","","","","","","","","","","","","","","","","","","","","","","","","","","","","","","","","","","","","","","","","","","","","","","","","","","","","","","","","","","","","","","","","","","","","",""]
[null,null,null,null,null,null,null,null,null,null,null,null,null,null,null,null,null,null,null,null,null,null,null,null,null,null,null,null,null,"","","","","","","","","","","","","","","","","","","","","","","","","","","","","","","","","","","","","","","","","","","","","","","","","","","","","","","","","","","","","","","","","","","","","","","","","","","","","","","","","","",""]
[null,null,null,null,null,null,null,null,null,null,null,null,null,null,null,null,null,null,null,null,null,null,null,null,null,null,null,null,null,"","","","","","","","","","","","","","","","","","","","","","","","","","","","","","","","","","","","","","","","","","","","","","","","","","","","","","","","","","","","","","","","","","","","","","","","","","","","","","","","","","",""]
[null,null,null,null,null,null,null,null,null,null,null,null,null,null,null,null,null,null,null,null,null,null,null,null,null,null,null,null,null,"","","","","","","","","","","","","","","","","","","","","","","","","","","","","","","","","","","","","","","","","","","","","","","","","","","","","","","","","","","","","","","","","","","","","","","","","","","","","","","","","","",""]
[null,null,null,null,null,null,null,null,null,null,null,null,null,null,null,null,null,null,null,null,null,null,null,null,null,null,null,null,null,"","","","","","","","","","","","","","","","","","","","","","","","","","","","","","","","","","","","","","","","","","","","","","","","","","","","","","","","","","","","","","","","","","","","","","","","","","","","","","","","","","",""]
[null,null,null,null,null,null,null,null,null,null,null,null,null,null,null,null,null,null,null,null,null,null,null,null,null,null,null,null,null,"","","","","","","","","","","","","","","","","","","","","","","","","","","","","","","","","","","","","","","","","","","","","","","","","","","","","","","","","","","","","","","","","","","","","","","","","","","","","","","","","","",""]
[null,null,null,null,null,null,null,null,null,null,null,null,null,null,null,null,null,null,null,null,null,null,null,null,null,null,null,null,null,"","","","","","","","","","","","","","","","","","","","","","","","","","","","","","","","","","","","","","","","","","","","","","","","","","","","","","","","","","","","","","","","","","","","","","","","","","","","","","","","","","",""]
[null,null,null,null,null,null,null,null,null,null,null,null,null,null,null,null,null,null,null,null,null,null,null,null,null,null,null,null,null,"","","","","","","","","","","","","","","","","","","","","","","","","","","","","","","","","","","","","","","","","","","","","","","","","","","","","","","","","","","","","","","","","","","","","","","","","","","","","","","","","","",""]
[null,null,null,null,null,null,null,null,null,null,null,null,null,null,null,null,null,null,null,null,null,null,null,null,null,null,null,null,null,"","","","","","","","","","","","","","","","","","","","","","","","","","","","","","","","","","","","","","","","","","","","","","","","","","","","","","","","","","","","","","","","","","","","","","","","","","","","","","","","","","",""]
[null,null,null,null,null,null,null,null,null,null,null,null,null,null,null,null,null,null,null,null,null,null,null,null,null,null,null,null,null,"","","","","","","","","","","","","","","","","","","","","","","","","","","","","","","","","","","","","","","","","","","","","","","","","","","","","","","","","","","","","","","","","","","","","","","","","","","","","","","","","","",""]
[null,null,null,null,null,null,null,null,null,null,null,null,null,null,null,null,null,null,null,null,null,null,null,null,null,null,null,null,null,"","","","","","","","","","","","","","","","","","","","","","","","","","","","","","","","","","","","","","","","","","","","","","","","","","","","","","","","","","","","","","","","","","","","","","","","","","","","","","","","","","",""]
[null,null,null,null,null,null,null,null,null,null,null,null,null,null,null,null,null,null,null,null,null,null,null,null,null,null,null,null,null,"","","","","","","","","","","","","","","","","","","","","","","","","","","","","","","","","","","","","","","","","","","","","","","","","","","","","","","","","","","","","","","","","","","","","","","","","","","","","","","","","","",""]
[null,null,null,null,null,null,null,null,null,null,null,null,null,null,null,null,null,null,null,null,null,null,null,null,null,null,null,null,null,"","","","","","","","","","","","","","","","","","","","","","","","","","","","","","","","","","","","","","","","","","","","","","","","","","","","","","","","","","","","","","","","","","","","","","","","","","","","","","","","","","",""]
[null,null,null,null,null,null,null,null,null,null,null,null,null,null,null,null,null,null,null,null,null,null,null,null,null,null,null,null,null,"","","","","","","","","","","","","","","","","","","","","","","","","","","","","","","","","","","","","","","","","","","","","","","","","","","","","","","","","","","","","","","","","","","","","","","","","","","","","","","","","","",""]
[null,null,null,null,null,null,null,null,null,null,null,null,null,null,null,null,null,null,null,null,null,null,null,null,null,null,null,null,null,"","","","","","","","","","","","","","","","","","","","","","","","","","","","","","","","","","","","","","","","","","","","","","","","","","","","","","","","","","","","","","","","","","","","","","","","","","","","","","","","","","",""]
[null,null,null,null,null,null,null,null,null,null,null,null,null,null,null,null,null,null,null,null,null,null,null,null,null,null,null,null,null,"","","","","","","","","","","","","","","","","","","","","","","","","","","","","","","","","","","","","","","","","","","","","","","","","","","","","","","","","","","","","","","","","","","","","","","","","","","","","","","","","","",""]
[null,null,null,null,null,null,null,null,null,null,null,null,null,null,null,null,null,null,null,null,null,null,null,null,null,null,null,null,null,"","","","","","","","","","","","","","","","","","","","","","","","","","","","","","","","","","","","","","","","","","","","","","","","","","","","","","","","","","","","","","","","","","","","","","","","","","","","","","","","","","",""]
[null,null,null,null,null,null,null,null,null,null,null,null,null,null,null,null,null,null,null,null,null,null,null,null,null,null,null,null,null,"","","","","","","","","","","","","","","","","","","","","","","","","","","","","","","","","","","","","","","","","","","","","","","","","","","","","","","","","","","","","","","","","","","","","","","","","","","","","","","","","","",""]
[null,null,null,null,null,null,null,null,null,null,null,null,null,null,null,null,null,null,null,null,null,null,null,null,null,null,null,null,null,"","","","","","","","","","","","","","","","","","","","","","","","","","","","","","","","","","","","","","","","","","","","","","","","","","","","","","","","","","","","","","","","","","","","","","","","","","","","","","","","","","",""]
[null,null,null,null,null,null,null,null,null,null,null,null,null,null,null,null,null,null,null,null,null,null,null,null,null,null,null,null,null,"","","","","","","","","","","","","","","","","","","","","","","","","","","","","","","","","","","","","","","","","","","","","","","","","","","","","","","","","","","","","","","","","","","","","","","","","","","","","","","","","","",""]
[null,null,null,null,null,null,null,null,null,null,null,null,null,null,null,null,null,null,null,null,null,null,null,null,null,null,null,null,null,"","","","","","","","","","","","","","","","","","","","","","","","","","","","","","","","","","","","","","","","","","","","","","","","","","","","","","","","","","","","","","","","","","","","","","","","","","","","","","","","","","",""]
[null,null,null,null,null,null,null,null,null,null,null,null,null,null,null,null,null,null,null,null,null,null,null,null,null,null,null,null,null,"","","","","","","","","","","","","","","","","","","","","","","","","","","","","","","","","","","","","","","","","","","","","","","","","","","","","","","","","","","","","","","","","","","","","","","","","","","","","","","","","","",""]
[null,null,null,null,null,null,null,null,null,null,null,null,null,null,null,null,null,null,null,null,null,null,null,null,null,null,null,null,null,"","","","","","","","","","","","","","","","","","","","","","","","","","","","","","","","","","","","","","","","","","","","","","","","","","","","","","","","","","","","","","","","","","","","","","","","","","","","","","","","","","",""]
[null,null,null,null,null,null,null,null,null,null,null,null,null,null,null,null,null,null,null,null,null,null,null,null,null,null,null,null,null,"","","","","","","","","","","","","","","","","","","","","","","","","","","","","","","","","","","","","","","","","","","","","","","","","","","","","","","","","","","","","","","","","","","","","","","","","","","","","","","","","","",""]
[null,null,null,null,null,null,null,null,null,null,null,null,null,null,null,null,null,null,null,null,null,null,null,null,null,null,null,null,null,"","","","","","","","","","","","","","","","","","","","","","","","","","","","","","","","","","","","","","","","","","","","","","","","","","","","","","","","","","","","","","","","","","","","","","","","","","","","","","","","","","",""]
[null,null,null,null,null,null,null,null,null,null,null,null,null,null,null,null,null,null,null,null,null,null,null,null,null,null,null,null,null,"","","","","","","","","","","","","","","","","","","","","","","","","","","","","","","","","","","","","","","","","","","","","","","","","","","","","","","","","","","","","","","","","","","","","","","","","","","","","","","","","","",""]
[null,null,null,null,null,null,null,null,null,null,null,null,null,null,null,null,null,null,null,null,null,null,null,null,null,null,null,null,null,"","","","","","","","","","","","","","","","","","","","","","","","","","","","","","","","","","","","","","","","","","","","","","","","","","","","","","","","","","","","","","","","","","","","","","","","","","","","","","","","","","",""]
[null,null,null,null,null,null,null,null,null,null,null,null,null,null,null,null,null,null,null,null,null,null,null,null,null,null,null,null,null,"","","","","","","","","","","","","","","","","","","","","","","","","","","","","","","","","","","","","","","","","","","","","","","","","","","","","","","","","","","","","","","","","","","","","","","","","","","","","","","","","","",""]
[null,null,null,null,null,null,null,null,null,null,null,null,null,null,null,null,null,null,null,null,null,null,null,null,null,null,null,null,null,{"$f":"IF(BZ327=\"\",\"\",OFFSET($D327,0,2*BZ327))","v":""},{"$f":"IF(CA327=\"\",\"\",OFFSET($D327,0,2*CA327))","v":""},{"$f":"IF(CB327=\"\",\"\",OFFSET($D327,0,2*CB327))","v":""},{"$f":"IF(CC327=\"\",\"\",OFFSET($D327,0,2*CC327))","v":""},{"$f":"IF(CD327=\"\",\"\",OFFSET($D327,0,2*CD327))","v":""},{"$f":"IF(CE327=\"\",\"\",OFFSET($D327,0,2*CE327))","v":""},{"$f":"IF(CF327=\"\",\"\",OFFSET($D327,0,2*CF327))","v":""},{"$f":"IF(CG327=\"\",\"\",OFFSET($D327,0,2*CG327))","v":""},{"$f":"IF(CH327=\"\",\"\",OFFSET($D327,0,2*CH327))","v":""},{"$f":"IF(CI327=\"\",\"\",OFFSET($D327,0,2*CI327))","v":""},{"$f":"IF(CJ327=\"\",\"\",OFFSET($D327,0,2*CJ327))","v":""},{"$f":"IF(CK327=\"\",\"\",OFFSET($D327,0,2*CK327))","v":""},{"$f":"IF(BZ327=\"\",\"\",IF(COUNT(OFFSET($D327,0,2*BZ327-1,1,2))=2,OFFSET($D327,0,2*BZ327-1),\"\"))","v":""},{"$f":"IF(CA327=\"\",\"\",IF(COUNT(OFFSET($D327,0,2*CA327-1,1,2))=2,OFFSET($D327,0,2*CA327-1),\"\"))","v":""},{"$f":"IF(CB327=\"\",\"\",IF(COUNT(OFFSET($D327,0,2*CB327-1,1,2))=2,OFFSET($D327,0,2*CB327-1),\"\"))","v":""},{"$f":"IF(CC327=\"\",\"\",IF(COUNT(OFFSET($D327,0,2*CC327-1,1,2))=2,OFFSET($D327,0,2*CC327-1),\"\"))","v":""},{"$f":"IF(CD327=\"\",\"\",IF(COUNT(OFFSET($D327,0,2*CD327-1,1,2))=2,OFFSET($D327,0,2*CD327-1),\"\"))","v":""},{"$f":"IF(CE327=\"\",\"\",IF(COUNT(OFFSET($D327,0,2*CE327-1,1,2))=2,OFFSET($D327,0,2*CE327-1),\"\"))","v":""},{"$f":"IF(CF327=\"\",\"\",IF(COUNT(OFFSET($D327,0,2*CF327-1,1,2))=2,OFFSET($D327,0,2*CF327-1),\"\"))","v":""},{"$f":"IF(CG327=\"\",\"\",IF(COUNT(OFFSET($D327,0,2*CG327-1,1,2))=2,OFFSET($D327,0,2*CG327-1),\"\"))","v":""},{"$f":"IF(CH327=\"\",\"\",IF(COUNT(OFFSET($D327,0,2*CH327-1,1,2))=2,OFFSET($D327,0,2*CH327-1),\"\"))","v":""},{"$f":"IF(CI327=\"\",\"\",IF(COUNT(OFFSET($D327,0,2*CI327-1,1,2))=2,OFFSET($D327,0,2*CI327-1),\"\"))","v":""},{"$f":"IF(CJ327=\"\",\"\",IF(COUNT(OFFSET($D327,0,2*CJ327-1,1,2))=2,OFFSET($D327,0,2*CJ327-1),\"\"))","v":""},{"$f":"IF(CK327=\"\",\"\",IF(COUNT(OFFSET($D327,0,2*CK327-1,1,2))=2,OFFSET($D327,0,2*CK327-1),\"\"))","v":""},{"$f":"IF(AND(E327<>\"\",F327<>\"\"),F327,\"\")","v":""},{"$f":"IF(AND(G327<>\"\",H327<>\"\"),H327,\"\")","v":""},{"$f":"IF(AND(I327<>\"\",J327<>\"\"),J327,\"\")","v":""},{"$f":"IF(AND(K327<>\"\",L327<>\"\"),L327,\"\")","v":""},{"$f":"IF(AND(M327<>\"\",N327<>\"\"),N327,\"\")","v":""},{"$f":"IF(AND(O327<>\"\",P327<>\"\"),P327,\"\")","v":""},{"$f":"IF(AND(Q327<>\"\",R327<>\"\"),R327,\"\")","v":""},{"$f":"IF(AND(S327<>\"\",T327<>\"\"),T327,\"\")","v":""},{"$f":"IF(AND(U327<>\"\",V327<>\"\"),V327,\"\")","v":""},{"$f":"IF(AND(W327<>\"\",X327<>\"\"),X327,\"\")","v":""},{"$f":"IF(AND(Y327<>\"\",Z327<>\"\"),Z327,\"\")","v":""},{"$f":"IF(AND(AA327<>\"\",AB327<>\"\"),AB327,\"\")","v":""},{"$f":"IF(BB327<>\"\",RANK(BB327,$BB327:$BM327,1),\"\")","v":""},{"$f":"IF(BC327<>\"\",RANK(BC327,$BB327:$BM327,1),\"\")","v":""},{"$f":"IF(BD327<>\"\",RANK(BD327,$BB327:$BM327,1),\"\")","v":""},{"$f":"IF(BE327<>\"\",RANK(BE327,$BB327:$BM327,1),\"\")","v":""},{"$f":"IF(BF327<>\"\",RANK(BF327,$BB327:$BM327,1),\"\")","v":""},{"$f":"IF(BG327<>\"\",RANK(BG327,$BB327:$BM327,1),\"\")","v":""},{"$f":"IF(BH327<>\"\",RANK(BH327,$BB327:$BM327,1),\"\")","v":""},{"$f":"IF(BI327<>\"\",RANK(BI327,$BB327:$BM327,1),\"\")","v":""},{"$f":"IF(BJ327<>\"\",RANK(BJ327,$BB327:$BM327,1),\"\")","v":""},{"$f":"IF(BK327<>\"\",RANK(BK327,$BB327:$BM327,1),\"\")","v":""},{"$f":"IF(BL327<>\"\",RANK(BL327,$BB327:$BM327,1),\"\")","v":""},{"$f":"IF(BM327<>\"\",RANK(BM327,$BB327:$BM327,1),\"\")","v":""},{"$f":"IF(ISNA(MATCH(1,$BN327:$BY327,0)),\"\",MATCH(1,$BN327:$BY327,0))","v":""},{"$f":"IF(COUNT($CL327:$CV327)<1,\"\",MATCH(VALUE(CX327),$BN327:$BY327,0))","v":""},{"$f":"IF(COUNT($CL327:$CV327)<2,\"\",MATCH(VALUE(CY327),$BN327:$BY327,0))","v":""},{"$f":"IF(COUNT($CL327:$CV327)<3,\"\",MATCH(VALUE(CZ327),$BN327:$BY327,0))","v":""},{"$f":"IF(COUNT($CL327:$CV327)<4,\"\",MATCH(VALUE(DA327),$BN327:$BY327,0))","v":""},{"$f":"IF(COUNT($CL327:$CV327)<5,\"\",MATCH(VALUE(DB327),$BN327:$BY327,0))","v":""},{"$f":"IF(COUNT($CL327:$CV327)<6,\"\",MATCH(VALUE(DC327),$BN327:$BY327,0))","v":""},{"$f":"IF(COUNT($CL327:$CV327)<7,\"\",MATCH(VALUE(DD327),$BN327:$BY327,0))","v":""},{"$f":"IF(COUNT($CL327:$CV327)<8,\"\",MATCH(VALUE(DE327),$BN327:$BY327,0))","v":""},{"$f":"IF(COUNT($CL327:$CV327)<9,\"\",MATCH(VALUE(DF327),$BN327:$BY327,0))","v":""},{"$f":"IF(COUNT($CL327:$CV327)<10,\"\",MATCH(VALUE(DG327),$BN327:$BY327,0))","v":""},{"$f":"IF(COUNT($CL327:$CV327)<11,\"\",MATCH(VALUE(DH327),$BN327:$BY327,0))","v":""},{"$f":"IF(AND(COUNT($BN327:$BY327)>1,NOT(ISNA(MATCH(2,$BN327:$BY327,0)))),0,\"\")","v":""},{"$f":"IF(AND(COUNT($BN327:$BY327)>2,NOT(ISNA(MATCH(3,$BN327:$BY327,0)))),1,\"\")","v":""},{"$f":"IF(AND(COUNT($BN327:$BY327)>3,NOT(ISNA(MATCH(4,$BN327:$BY327,0)))),2,\"\")","v":""},{"$f":"IF(AND(COUNT($BN327:$BY327)>4,NOT(ISNA(MATCH(5,$BN327:$BY327,0)))),3,\"\")","v":""},{"$f":"IF(AND(COUNT($BN327:$BY327)>5,NOT(ISNA(MATCH(6,$BN327:$BY327,0)))),4,\"\")","v":""},{"$f":"IF(AND(COUNT($BN327:$BY327)>6,NOT(ISNA(MATCH(7,$BN327:$BY327,0)))),5,\"\")","v":""},{"$f":"IF(AND(COUNT($BN327:$BY327)>7,NOT(ISNA(MATCH(8,$BN327:$BY327,0)))),6,\"\")","v":""},{"$f":"IF(AND(COUNT($BN327:$BY327)>8,NOT(ISNA(MATCH(9,$BN327:$BY327,0)))),7,\"\")","v":""},{"$f":"IF(AND(COUNT($BN327:$BY327)>9,NOT(ISNA(MATCH(10,$BN327:$BY327,0)))),8,\"\")","v":""},{"$f":"IF(AND(COUNT($BN327:$BY327)>10,NOT(ISNA(MATCH(11,$BN327:$BY327,0)))),9,\"\")","v":""},{"$f":"IF(AND(COUNT($BN327:$BY327)>11,NOT(ISNA(MATCH(12,$BN327:$BY327,0)))),10,\"\")","v":""},{"$f":"CONCATENATE(CL327,CM327,CN327,CO327,CP327,CQ327,CR327,CS327,CT327,CU327,IF(CV327=10,\"A\",\"\"))","v":""},{"$f":"IF(MID($CW327,1,1)=\"\",\"\",IF(MID($CW327,1,1)=\"A\",12,MID($CW327,1,1)+2))","v":""},{"$f":"IF(MID($CW327,2,1)=\"\",\"\",IF(MID($CW327,2,1)=\"A\",12,MID($CW327,2,1)+2))","v":""},{"$f":"IF(MID($CW327,3,1)=\"\",\"\",IF(MID($CW327,3,1)=\"A\",12,MID($CW327,3,1)+2))","v":""},{"$f":"IF(MID($CW327,4,1)=\"\",\"\",IF(MID($CW327,4,1)=\"A\",12,MID($CW327,4,1)+2))","v":""},{"$f":"IF(MID($CW327,5,1)=\"\",\"\",IF(MID($CW327,5,1)=\"A\",12,MID($CW327,5,1)+2))","v":""},{"$f":"IF(MID($CW327,6,1)=\"\",\"\",IF(MID($CW327,6,1)=\"A\",12,MID($CW327,6,1)+2))","v":""},{"$f":"IF(MID($CW327,7,1)=\"\",\"\",IF(MID($CW327,7,1)=\"A\",12,MID($CW327,7,1)+2))","v":""},{"$f":"IF(MID($CW327,8,1)=\"\",\"\",IF(MID($CW327,8,1)=\"A\",12,MID($CW327,8,1)+2))","v":""},{"$f":"IF(MID($CW327,9,1)=\"\",\"\",IF(MID($CW327,9,1)=\"A\",12,MID($CW327,9,1)+2))","v":""},{"$f":"IF(MID($CW327,10,1)=\"\",\"\",IF(MID($CW327,10,1)=\"A\",12,MID($CW327,10,1)+2))","v":""},{"$f":"IF(MID($CW327,11,1)=\"\",\"\",IF(MID($CW327,11,1)=\"A\",12,MID($CW327,11,1)+2))","v":""}]
[null,null,null,null,null,null,null,null,null,null,null,null,null,null,null,null,null,null,null,null,null,null,null,null,null,null,null,null,null,"","","","","","","","","","","","","","","","","","","","","","","","","","","","","","","","","","","","","","","","","","","","","","","","","","","","","","","","","","","","","","","","","","","","","","","","","","","","","","","","","","",""]
[null,null,null,null,null,null,null,null,null,null,null,null,null,null,null,null,null,null,null,null,null,null,null,null,null,null,null,null,null,"","","","","","","","","","","","","","","","","","","","","","","","","","","","","","","","","","","","","","","","","","","","","","","","","","","","","","","","","","","","","","","","","","","","","","","","","","","","","","","","","","",""]
[null,null,null,null,null,null,null,null,null,null,null,null,null,null,null,null,null,null,null,null,null,null,null,null,null,null,null,null,null,"","","","","","","","","","","","","","","","","","","","","","","","","","","","","","","","","","","","","","","","","","","","","","","","","","","","","","","","","","","","","","","","","","","","","","","","","","","","","","","","","","",""]
[null,null,null,null,null,null,null,null,null,null,null,null,null,null,null,null,null,null,null,null,null,null,null,null,null,null,null,null,null,"","","","","","","","","","","","","","","","","","","","","","","","","","","","","","","","","","","","","","","","","","","","","","","","","","","","","","","","","","","","","","","","","","","","","","","","","","","","","","","","","","",""]
[null,null,null,null,null,null,null,null,null,null,null,null,null,null,null,null,null,null,null,null,null,null,null,null,null,null,null,null,null,"","","","","","","","","","","","","","","","","","","","","","","","","","","","","","","","","","","","","","","","","","","","","","","","","","","","","","","","","","","","","","","","","","","","","","","","","","","","","","","","","","",""]
[null,null,null,null,null,null,null,null,null,null,null,null,null,null,null,null,null,null,null,null,null,null,null,null,null,null,null,null,null,"","","","","","","","","","","","","","","","","","","","","","","","","","","","","","","","","","","","","","","","","","","","","","","","","","","","","","","","","","","","","","","","","","","","","","","","","","","","","","","","","","",""]
[null,null,null,null,null,null,null,null,null,null,null,null,null,null,null,null,null,null,null,null,null,null,null,null,null,null,null,null,null,"","","","","","","","","","","","","","","","","","","","","","","","","","","","","","","","","","","","","","","","","","","","","","","","","","","","","","","","","","","","","","","","","","","","","","","","","","","","","","","","","","",""]
[null,null,null,null,null,null,null,null,null,null,null,null,null,null,null,null,null,null,null,null,null,null,null,null,null,null,null,null,null,"","","","","","","","","","","","","","","","","","","","","","","","","","","","","","","","","","","","","","","","","","","","","","","","","","","","","","","","","","","","","","","","","","","","","","","","","","","","","","","","","","",""]
[null,null,null,null,null,null,null,null,null,null,null,null,null,null,null,null,null,null,null,null,null,null,null,null,null,null,null,null,null,"","","","","","","","","","","","","","","","","","","","","","","","","","","","","","","","","","","","","","","","","","","","","","","","","","","","","","","","","","","","","","","","","","","","","","","","","","","","","","","","","","",""]
[null,null,null,null,null,null,null,null,null,null,null,null,null,null,null,null,null,null,null,null,null,null,null,null,null,null,null,null,null,"","","","","","","","","","","","","","","","","","","","","","","","","","","","","","","","","","","","","","","","","","","","","","","","","","","","","","","","","","","","","","","","","","","","","","","","","","","","","","","","","","",""]
[null,null,null,null,null,null,null,null,null,null,null,null,null,null,null,null,null,null,null,null,null,null,null,null,null,null,null,null,null,"","","","","","","","","","","","","","","","","","","","","","","","","","","","","","","","","","","","","","","","","","","","","","","","","","","","","","","","","","","","","","","","","","","","","","","","","","","","","","","","","","",""]
[null,null,null,null,null,null,null,null,null,null,null,null,null,null,null,null,null,null,null,null,null,null,null,null,null,null,null,null,null,"","","","","","","","","","","","","","","","","","","","","","","","","","","","","","","","","","","","","","","","","","","","","","","","","","","","","","","","","","","","","","","","","","","","","","","","","","","","","","","","","","",""]
[null,null,null,null,null,null,null,null,null,null,null,null,null,null,null,null,null,null,null,null,null,null,null,null,null,null,null,null,null,"","","","","","","","","","","","","","","","","","","","","","","","","","","","","","","","","","","","","","","","","","","","","","","","","","","","","","","","","","","","","","","","","","","","","","","","","","","","","","","","","","",""]
[null,null,null,null,null,null,null,null,null,null,null,null,null,null,null,null,null,null,null,null,null,null,null,null,null,null,null,null,null,"","","","","","","","","","","","","","","","","","","","","","","","","","","","","","","","","","","","","","","","","","","","","","","","","","","","","","","","","","","","","","","","","","","","","","","","","","","","","","","","","","",""]
[null,null,null,null,null,null,null,null,null,null,null,null,null,null,null,null,null,null,null,null,null,null,null,null,null,null,null,null,null,"","","","","","","","","","","","","","","","","","","","","","","","","","","","","","","","","","","","","","","","","","","","","","","","","","","","","","","","","","","","","","","","","","","","","","","","","","","","","","","","","","",""]
[null,null,null,null,null,null,null,null,null,null,null,null,null,null,null,null,null,null,null,null,null,null,null,null,null,null,null,null,null,"","","","","","","","","","","","","","","","","","","","","","","","","","","","","","","","","","","","","","","","","","","","","","","","","","","","","","","","","","","","","","","","","","","","","","","","","","","","","","","","","","",""]
[null,null,null,null,null,null,null,null,null,null,null,null,null,null,null,null,null,null,null,null,null,null,null,null,null,null,null,null,null,"","","","","","","","","","","","","","","","","","","","","","","","","","","","","","","","","","","","","","","","","","","","","","","","","","","","","","","","","","","","","","","","","","","","","","","","","","","","","","","","","","",""]
[null,null,null,null,null,null,null,null,null,null,null,null,null,null,null,null,null,null,null,null,null,null,null,null,null,null,null,null,null,"","","","","","","","","","","","","","","","","","","","","","","","","","","","","","","","","","","","","","","","","","","","","","","","","","","","","","","","","","","","","","","","","","","","","","","","","","","","","","","","","","",""]
[null,null,null,null,null,null,null,null,null,null,null,null,null,null,null,null,null,null,null,null,null,null,null,null,null,null,null,null,null,"","","","","","","","","","","","","","","","","","","","","","","","","","","","","","","","","","","","","","","","","","","","","","","","","","","","","","","","","","","","","","","","","","","","","","","","","","","","","","","","","","",""]
[null,null,null,null,null,null,null,null,null,null,null,null,null,null,null,null,null,null,null,null,null,null,null,null,null,null,null,null,null,"","","","","","","","","","","","","","","","","","","","","","","","","","","","","","","","","","","","","","","","","","","","","","","","","","","","","","","","","","","","","","","","","","","","","","","","","","","","","","","","","","",""]
[null,null,null,null,null,null,null,null,null,null,null,null,null,null,null,null,null,null,null,null,null,null,null,null,null,null,null,null,null,"","","","","","","","","","","","","","","","","","","","","","","","","","","","","","","","","","","","","","","","","","","","","","","","","","","","","","","","","","","","","","","","","","","","","","","","","","","","","","","","","","",""]
[null,null,null,null,null,null,null,null,null,null,null,null,null,null,null,null,null,null,null,null,null,null,null,null,null,null,null,null,null,"","","","","","","","","","","","","","","","","","","","","","","","","","","","","","","","","","","","","","","","","","","","","","","","","","","","","","","","","","","","","","","","","","","","","","","","","","","","","","","","","","",""]
[null,null,null,null,null,null,null,null,null,null,null,null,null,null,null,null,null,null,null,null,null,null,null,null,null,null,null,null,null,"","","","","","","","","","","","","","","","","","","","","","","","","","","","","","","","","","","","","","","","","","","","","","","","","","","","","","","","","","","","","","","","","","","","","","","","","","","","","","","","","","",""]
[null,null,null,null,null,null,null,null,null,null,null,null,null,null,null,null,null,null,null,null,null,null,null,null,null,null,null,null,null,"","","","","","","","","","","","","","","","","","","","","","","","","","","","","","","","","","","","","","","","","","","","","","","","","","","","","","","","","","","","","","","","","","","","","","","","","","","","","","","","","","",""]
[null,null,null,null,null,null,null,null,null,null,null,null,null,null,null,null,null,null,null,null,null,null,null,null,null,null,null,null,null,"","","","","","","","","","","","","","","","","","","","","","","","","","","","","","","","","","","","","","","","","","","","","","","","","","","","","","","","","","","","","","","","","","","","","","","","","","","","","","","","","","",""]
[null,null,null,null,null,null,null,null,null,null,null,null,null,null,null,null,null,null,null,null,null,null,null,null,null,null,null,null,null,"","","","","","","","","","","","","","","","","","","","","","","","","","","","","","","","","","","","","","","","","","","","","","","","","","","","","","","","","","","","","","","","","","","","","","","","","","","","","","","","","","",""]
[null,null,null,null,null,null,null,null,null,null,null,null,null,null,null,null,null,null,null,null,null,null,null,null,null,null,null,null,null,"","","","","","","","","","","","","","","","","","","","","","","","","","","","","","","","","","","","","","","","","","","","","","","","","","","","","","","","","","","","","","","","","","","","","","","","","","","","","","","","","","",""]
[null,null,null,null,null,null,null,null,null,null,null,null,null,null,null,null,null,null,null,null,null,null,null,null,null,null,null,null,null,"","","","","","","","","","","","","","","","","","","","","","","","","","","","","","","","","","","","","","","","","","","","","","","","","","","","","","","","","","","","","","","","","","","","","","","","","","","","","","","","","","",""]
[null,null,null,null,null,null,null,null,null,null,null,null,null,null,null,null,null,null,null,null,null,null,null,null,null,null,null,null,null,"","","","","","","","","","","","","","","","","","","","","","","","","","","","","","","","","","","","","","","","","","","","","","","","","","","","","","","","","","","","","","","","","","","","","","","","","","","","","","","","","","",""]
[null,null,null,null,null,null,null,null,null,null,null,null,null,null,null,null,null,null,null,null,null,null,null,null,null,null,null,null,null,"","","","","","","","","","","","","","","","","","","","","","","","","","","","","","","","","","","","","","","","","","","","","","","","","","","","","","","","","","","","","","","","","","","","","","","","","","","","","","","","","","",""]
[null,null,null,null,null,null,null,null,null,null,null,null,null,null,null,null,null,null,null,null,null,null,null,null,null,null,null,null,null,"","","","","","","","","","","","","","","","","","","","","","","","","","","","","","","","","","","","","","","","","","","","","","","","","","","","","","","","","","","","","","","","","","","","","","","","","","","","","","","","","","",""]
[null,null,null,null,null,null,null,null,null,null,null,null,null,null,null,null,null,null,null,null,null,null,null,null,null,null,null,null,null,"","","","","","","","","","","","","","","","","","","","","","","","","","","","","","","","","","","","","","","","","","","","","","","","","","","","","","","","","","","","","","","","","","","","","","","","","","","","","","","","","","",""]
[null,null,null,null,null,null,null,null,null,null,null,null,null,null,null,null,null,null,null,null,null,null,null,null,null,null,null,null,null,"","","","","","","","","","","","","","","","","","","","","","","","","","","","","","","","","","","","","","","","","","","","","","","","","","","","","","","","","","","","","","","","","","","","","","","","","","","","","","","","","","",""]
[null,null,null,null,null,null,null,null,null,null,null,null,null,null,null,null,null,null,null,null,null,null,null,null,null,null,null,null,null,"","","","","","","","","","","","","","","","","","","","","","","","","","","","","","","","","","","","","","","","","","","","","","","","","","","","","","","","","","","","","","","","","","","","","","","","","","","","","","","","","","",""]
[null,null,null,null,null,null,null,null,null,null,null,null,null,null,null,null,null,null,null,null,null,null,null,null,null,null,null,null,null,"","","","","","","","","","","","","","","","","","","","","","","","","","","","","","","","","","","","","","","","","","","","","","","","","","","","","","","","","","","","","","","","","","","","","","","","","","","","","","","","","","",""]
[null,null,null,null,null,null,null,null,null,null,null,null,null,null,null,null,null,null,null,null,null,null,null,null,null,null,null,null,null,"","","","","","","","","","","","","","","","","","","","","","","","","","","","","","","","","","","","","","","","","","","","","","","","","","","","","","","","","","","","","","","","","","","","","","","","","","","","","","","","","","",""]
[null,null,null,null,null,null,null,null,null,null,null,null,null,null,null,null,null,null,null,null,null,null,null,null,null,null,null,null,null,"","","","","","","","","","","","","","","","","","","","","","","","","","","","","","","","","","","","","","","","","","","","","","","","","","","","","","","","","","","","","","","","","","","","","","","","","","","","","","","","","","",""]
[null,null,null,null,null,null,null,null,null,null,null,null,null,null,null,null,null,null,null,null,null,null,null,null,null,null,null,null,null,"","","","","","","","","","","","","","","","","","","","","","","","","","","","","","","","","","","","","","","","","","","","","","","","","","","","","","","","","","","","","","","","","","","","","","","","","","","","","","","","","","",""]
[null,null,null,null,null,null,null,null,null,null,null,null,null,null,null,null,null,null,null,null,null,null,null,null,null,null,null,null,null,"","","","","","","","","","","","","","","","","","","","","","","","","","","","","","","","","","","","","","","","","","","","","","","","","","","","","","","","","","","","","","","","","","","","","","","","","","","","","","","","","","",""]
[null,null,null,null,null,null,null,null,null,null,null,null,null,null,null,null,null,null,null,null,null,null,null,null,null,null,null,null,null,"","","","","","","","","","","","","","","","","","","","","","","","","","","","","","","","","","","","","","","","","","","","","","","","","","","","","","","","","","","","","","","","","","","","","","","","","","","","","","","","","","",""]
[null,null,null,null,null,null,null,null,null,null,null,null,null,null,null,null,null,null,null,null,null,null,null,null,null,null,null,null,null,"","","","","","","","","","","","","","","","","","","","","","","","","","","","","","","","","","","","","","","","","","","","","","","","","","","","","","","","","","","","","","","","","","","","","","","","","","","","","","","","","","",""]
[null,null,null,null,null,null,null,null,null,null,null,null,null,null,null,null,null,null,null,null,null,null,null,null,null,null,null,null,null,"","","","","","","","","","","","","","","","","","","","","","","","","","","","","","","","","","","","","","","","","","","","","","","","","","","","","","","","","","","","","","","","","","","","","","","","","","","","","","","","","","",""]
[null,null,null,null,null,null,null,null,null,null,null,null,null,null,null,null,null,null,null,null,null,null,null,null,null,null,null,null,null,"","","","","","","","","","","","","","","","","","","","","","","","","","","","","","","","","","","","","","","","","","","","","","","","","","","","","","","","","","","","","","","","","","","","","","","","","","","","","","","","","","",""]
[null,null,null,null,null,null,null,null,null,null,null,null,null,null,null,null,null,null,null,null,null,null,null,null,null,null,null,null,null,"","","","","","","","","","","","","","","","","","","","","","","","","","","","","","","","","","","","","","","","","","","","","","","","","","","","","","","","","","","","","","","","","","","","","","","","","","","","","","","","","","",""]
[null,null,null,null,null,null,null,null,null,null,null,null,null,null,null,null,null,null,null,null,null,null,null,null,null,null,null,null,null,"","","","","","","","","","","","","","","","","","","","","","","","","","","","","","","","","","","","","","","","","","","","","","","","","","","","","","","","","","","","","","","","","","","","","","","","","","","","","","","","","","",""]
[null,null,null,null,null,null,null,null,null,null,null,null,null,null,null,null,null,null,null,null,null,null,null,null,null,null,null,null,null,"","","","","","","","","","","","","","","","","","","","","","","","","","","","","","","","","","","","","","","","","","","","","","","","","","","","","","","","","","","","","","","","","","","","","","","","","","","","","","","","","","",""]
[null,null,null,null,null,null,null,null,null,null,null,null,null,null,null,null,null,null,null,null,null,null,null,null,null,null,null,null,null,"","","","","","","","","","","","","","","","","","","","","","","","","","","","","","","","","","","","","","","","","","","","","","","","","","","","","","","","","","","","","","","","","","","","","","","","","","","","","","","","","","",""]
[null,null,null,null,null,null,null,null,null,null,null,null,null,null,null,null,null,null,null,null,null,null,null,null,null,null,null,null,null,"","","","","","","","","","","","","","","","","","","","","","","","","","","","","","","","","","","","","","","","","","","","","","","","","","","","","","","","","","","","","","","","","","","","","","","","","","","","","","","","","","",""]
[null,null,null,null,null,null,null,null,null,null,null,null,null,null,null,null,null,null,null,null,null,null,null,null,null,null,null,null,null,"","","","","","","","","","","","","","","","","","","","","","","","","","","","","","","","","","","","","","","","","","","","","","","","","","","","","","","","","","","","","","","","","","","","","","","","","","","","","","","","","","",""]
[null,null,null,null,null,null,null,null,null,null,null,null,null,null,null,null,null,null,null,null,null,null,null,null,null,null,null,null,null,"","","","","","","","","","","","","","","","","","","","","","","","","","","","","","","","","","","","","","","","","","","","","","","","","","","","","","","","","","","","","","","","","","","","","","","","","","","","","","","","","","",""]
[null,null,null,null,null,null,null,null,null,null,null,null,null,null,null,null,null,null,null,null,null,null,null,null,null,null,null,null,null,"","","","","","","","","","","","","","","","","","","","","","","","","","","","","","","","","","","","","","","","","","","","","","","","","","","","","","","","","","","","","","","","","","","","","","","","","","","","","","","","","","",""]
[null,null,null,null,null,null,null,null,null,null,null,null,null,null,null,null,null,null,null,null,null,null,null,null,null,null,null,null,null,"","","","","","","","","","","","","","","","","","","","","","","","","","","","","","","","","","","","","","","","","","","","","","","","","","","","","","","","","","","","","","","","","","","","","","","","","","","","","","","","","","",""]
[null,null,null,null,null,null,null,null,null,null,null,null,null,null,null,null,null,null,null,null,null,null,null,null,null,null,null,null,null,"","","","","","","","","","","","","","","","","","","","","","","","","","","","","","","","","","","","","","","","","","","","","","","","","","","","","","","","","","","","","","","","","","","","","","","","","","","","","","","","","","",""]
[null,null,null,null,null,null,null,null,null,null,null,null,null,null,null,null,null,null,null,null,null,null,null,null,null,null,null,null,null,"","","","","","","","","","","","","","","","","","","","","","","","","","","","","","","","","","","","","","","","","","","","","","","","","","","","","","","","","","","","","","","","","","","","","","","","","","","","","","","","","","",""]
[null,null,null,null,null,null,null,null,null,null,null,null,null,null,null,null,null,null,null,null,null,null,null,null,null,null,null,null,null,"","","","","","","","","","","","","","","","","","","","","","","","","","","","","","","","","","","","","","","","","","","","","","","","","","","","","","","","","","","","","","","","","","","","","","","","","","","","","","","","","","",""]
[null,null,null,null,null,null,null,null,null,null,null,null,null,null,null,null,null,null,null,null,null,null,null,null,null,null,null,null,null,"","","","","","","","","","","","","","","","","","","","","","","","","","","","","","","","","","","","","","","","","","","","","","","","","","","","","","","","","","","","","","","","","","","","","","","","","","","","","","","","","","",""]
[null,null,null,null,null,null,null,null,null,null,null,null,null,null,null,null,null,null,null,null,null,null,null,null,null,null,null,null,null,"","","","","","","","","","","","","","","","","","","","","","","","","","","","","","","","","","","","","","","","","","","","","","","","","","","","","","","","","","","","","","","","","","","","","","","","","","","","","","","","","","",""]
[null,null,null,null,null,null,null,null,null,null,null,null,null,null,null,null,null,null,null,null,null,null,null,null,null,null,null,null,null,"","","","","","","","","","","","","","","","","","","","","","","","","","","","","","","","","","","","","","","","","","","","","","","","","","","","","","","","","","","","","","","","","","","","","","","","","","","","","","","","","","",""]
[null,null,null,null,null,null,null,null,null,null,null,null,null,null,null,null,null,null,null,null,null,null,null,null,null,null,null,null,null,"","","","","","","","","","","","","","","","","","","","","","","","","","","","","","","","","","","","","","","","","","","","","","","","","","","","","","","","","","","","","","","","","","","","","","","","","","","","","","","","","","",""]
[null,null,null,null,null,null,null,null,null,null,null,null,null,null,null,null,null,null,null,null,null,null,null,null,null,null,null,null,null,"","","","","","","","","","","","","","","","","","","","","","","","","","","","","","","","","","","","","","","","","","","","","","","","","","","","","","","","","","","","","","","","","","","","","","","","","","","","","","","","","","",""]
[null,null,null,null,null,null,null,null,null,null,null,null,null,null,null,null,null,null,null,null,null,null,null,null,null,null,null,null,null,"","","","","","","","","","","","","","","","","","","","","","","","","","","","","","","","","","","","","","","","","","","","","","","","","","","","","","","","","","","","","","","","","","","","","","","","","","","","","","","","","","",""]
[null,null,null,null,null,null,null,null,null,null,null,null,null,null,null,null,null,null,null,null,null,null,null,null,null,null,null,null,null,"","","","","","","","","","","","","","","","","","","","","","","","","","","","","","","","","","","","","","","","","","","","","","","","","","","","","","","","","","","","","","","","","","","","","","","","","","","","","","","","","","",""]
[null,null,null,null,null,null,null,null,null,null,null,null,null,null,null,null,null,null,null,null,null,null,null,null,null,null,null,null,null,"","","","","","","","","","","","","","","","","","","","","","","","","","","","","","","","","","","","","","","","","","","","","","","","","","","","","","","","","","","","","","","","","","","","","","","","","","","","","","","","","","",""]
[null,null,null,null,null,null,null,null,null,null,null,null,null,null,null,null,null,null,null,null,null,null,null,null,null,null,null,null,null,{"$f":"IF(BZ391=\"\",\"\",OFFSET($D391,0,2*BZ391))","v":""},{"$f":"IF(CA391=\"\",\"\",OFFSET($D391,0,2*CA391))","v":""},{"$f":"IF(CB391=\"\",\"\",OFFSET($D391,0,2*CB391))","v":""},{"$f":"IF(CC391=\"\",\"\",OFFSET($D391,0,2*CC391))","v":""},{"$f":"IF(CD391=\"\",\"\",OFFSET($D391,0,2*CD391))","v":""},{"$f":"IF(CE391=\"\",\"\",OFFSET($D391,0,2*CE391))","v":""},{"$f":"IF(CF391=\"\",\"\",OFFSET($D391,0,2*CF391))","v":""},{"$f":"IF(CG391=\"\",\"\",OFFSET($D391,0,2*CG391))","v":""},{"$f":"IF(CH391=\"\",\"\",OFFSET($D391,0,2*CH391))","v":""},{"$f":"IF(CI391=\"\",\"\",OFFSET($D391,0,2*CI391))","v":""},{"$f":"IF(CJ391=\"\",\"\",OFFSET($D391,0,2*CJ391))","v":""},{"$f":"IF(CK391=\"\",\"\",OFFSET($D391,0,2*CK391))","v":""},{"$f":"IF(BZ391=\"\",\"\",IF(COUNT(OFFSET($D391,0,2*BZ391-1,1,2))=2,OFFSET($D391,0,2*BZ391-1),\"\"))","v":""},{"$f":"IF(CA391=\"\",\"\",IF(COUNT(OFFSET($D391,0,2*CA391-1,1,2))=2,OFFSET($D391,0,2*CA391-1),\"\"))","v":""},{"$f":"IF(CB391=\"\",\"\",IF(COUNT(OFFSET($D391,0,2*CB391-1,1,2))=2,OFFSET($D391,0,2*CB391-1),\"\"))","v":""},{"$f":"IF(CC391=\"\",\"\",IF(COUNT(OFFSET($D391,0,2*CC391-1,1,2))=2,OFFSET($D391,0,2*CC391-1),\"\"))","v":""},{"$f":"IF(CD391=\"\",\"\",IF(COUNT(OFFSET($D391,0,2*CD391-1,1,2))=2,OFFSET($D391,0,2*CD391-1),\"\"))","v":""},{"$f":"IF(CE391=\"\",\"\",IF(COUNT(OFFSET($D391,0,2*CE391-1,1,2))=2,OFFSET($D391,0,2*CE391-1),\"\"))","v":""},{"$f":"IF(CF391=\"\",\"\",IF(COUNT(OFFSET($D391,0,2*CF391-1,1,2))=2,OFFSET($D391,0,2*CF391-1),\"\"))","v":""},{"$f":"IF(CG391=\"\",\"\",IF(COUNT(OFFSET($D391,0,2*CG391-1,1,2))=2,OFFSET($D391,0,2*CG391-1),\"\"))","v":""},{"$f":"IF(CH391=\"\",\"\",IF(COUNT(OFFSET($D391,0,2*CH391-1,1,2))=2,OFFSET($D391,0,2*CH391-1),\"\"))","v":""},{"$f":"IF(CI391=\"\",\"\",IF(COUNT(OFFSET($D391,0,2*CI391-1,1,2))=2,OFFSET($D391,0,2*CI391-1),\"\"))","v":""},{"$f":"IF(CJ391=\"\",\"\",IF(COUNT(OFFSET($D391,0,2*CJ391-1,1,2))=2,OFFSET($D391,0,2*CJ391-1),\"\"))","v":""},{"$f":"IF(CK391=\"\",\"\",IF(COUNT(OFFSET($D391,0,2*CK391-1,1,2))=2,OFFSET($D391,0,2*CK391-1),\"\"))","v":""},{"$f":"IF(AND(E391<>\"\",F391<>\"\"),F391,\"\")","v":""},{"$f":"IF(AND(G391<>\"\",H391<>\"\"),H391,\"\")","v":""},{"$f":"IF(AND(I391<>\"\",J391<>\"\"),J391,\"\")","v":""},{"$f":"IF(AND(K391<>\"\",L391<>\"\"),L391,\"\")","v":""},{"$f":"IF(AND(M391<>\"\",N391<>\"\"),N391,\"\")","v":""},{"$f":"IF(AND(O391<>\"\",P391<>\"\"),P391,\"\")","v":""},{"$f":"IF(AND(Q391<>\"\",R391<>\"\"),R391,\"\")","v":""},{"$f":"IF(AND(S391<>\"\",T391<>\"\"),T391,\"\")","v":""},{"$f":"IF(AND(U391<>\"\",V391<>\"\"),V391,\"\")","v":""},{"$f":"IF(AND(W391<>\"\",X391<>\"\"),X391,\"\")","v":""},{"$f":"IF(AND(Y391<>\"\",Z391<>\"\"),Z391,\"\")","v":""},{"$f":"IF(AND(AA391<>\"\",AB391<>\"\"),AB391,\"\")","v":""},{"$f":"IF(BB391<>\"\",RANK(BB391,$BB391:$BM391,1),\"\")","v":""},{"$f":"IF(BC391<>\"\",RANK(BC391,$BB391:$BM391,1),\"\")","v":""},{"$f":"IF(BD391<>\"\",RANK(BD391,$BB391:$BM391,1),\"\")","v":""},{"$f":"IF(BE391<>\"\",RANK(BE391,$BB391:$BM391,1),\"\")","v":""},{"$f":"IF(BF391<>\"\",RANK(BF391,$BB391:$BM391,1),\"\")","v":""},{"$f":"IF(BG391<>\"\",RANK(BG391,$BB391:$BM391,1),\"\")","v":""},{"$f":"IF(BH391<>\"\",RANK(BH391,$BB391:$BM391,1),\"\")","v":""},{"$f":"IF(BI391<>\"\",RANK(BI391,$BB391:$BM391,1),\"\")","v":""},{"$f":"IF(BJ391<>\"\",RANK(BJ391,$BB391:$BM391,1),\"\")","v":""},{"$f":"IF(BK391<>\"\",RANK(BK391,$BB391:$BM391,1),\"\")","v":""},{"$f":"IF(BL391<>\"\",RANK(BL391,$BB391:$BM391,1),\"\")","v":""},{"$f":"IF(BM391<>\"\",RANK(BM391,$BB391:$BM391,1),\"\")","v":""},{"$f":"IF(ISNA(MATCH(1,$BN391:$BY391,0)),\"\",MATCH(1,$BN391:$BY391,0))","v":""},{"$f":"IF(COUNT($CL391:$CV391)<1,\"\",MATCH(VALUE(CX391),$BN391:$BY391,0))","v":""},{"$f":"IF(COUNT($CL391:$CV391)<2,\"\",MATCH(VALUE(CY391),$BN391:$BY391,0))","v":""},{"$f":"IF(COUNT($CL391:$CV391)<3,\"\",MATCH(VALUE(CZ391),$BN391:$BY391,0))","v":""},{"$f":"IF(COUNT($CL391:$CV391)<4,\"\",MATCH(VALUE(DA391),$BN391:$BY391,0))","v":""},{"$f":"IF(COUNT($CL391:$CV391)<5,\"\",MATCH(VALUE(DB391),$BN391:$BY391,0))","v":""},{"$f":"IF(COUNT($CL391:$CV391)<6,\"\",MATCH(VALUE(DC391),$BN391:$BY391,0))","v":""},{"$f":"IF(COUNT($CL391:$CV391)<7,\"\",MATCH(VALUE(DD391),$BN391:$BY391,0))","v":""},{"$f":"IF(COUNT($CL391:$CV391)<8,\"\",MATCH(VALUE(DE391),$BN391:$BY391,0))","v":""},{"$f":"IF(COUNT($CL391:$CV391)<9,\"\",MATCH(VALUE(DF391),$BN391:$BY391,0))","v":""},{"$f":"IF(COUNT($CL391:$CV391)<10,\"\",MATCH(VALUE(DG391),$BN391:$BY391,0))","v":""},{"$f":"IF(COUNT($CL391:$CV391)<11,\"\",MATCH(VALUE(DH391),$BN391:$BY391,0))","v":""},{"$f":"IF(AND(COUNT($BN391:$BY391)>1,NOT(ISNA(MATCH(2,$BN391:$BY391,0)))),0,\"\")","v":""},{"$f":"IF(AND(COUNT($BN391:$BY391)>2,NOT(ISNA(MATCH(3,$BN391:$BY391,0)))),1,\"\")","v":""},{"$f":"IF(AND(COUNT($BN391:$BY391)>3,NOT(ISNA(MATCH(4,$BN391:$BY391,0)))),2,\"\")","v":""},{"$f":"IF(AND(COUNT($BN391:$BY391)>4,NOT(ISNA(MATCH(5,$BN391:$BY391,0)))),3,\"\")","v":""},{"$f":"IF(AND(COUNT($BN391:$BY391)>5,NOT(ISNA(MATCH(6,$BN391:$BY391,0)))),4,\"\")","v":""},{"$f":"IF(AND(COUNT($BN391:$BY391)>6,NOT(ISNA(MATCH(7,$BN391:$BY391,0)))),5,\"\")","v":""},{"$f":"IF(AND(COUNT($BN391:$BY391)>7,NOT(ISNA(MATCH(8,$BN391:$BY391,0)))),6,\"\")","v":""},{"$f":"IF(AND(COUNT($BN391:$BY391)>8,NOT(ISNA(MATCH(9,$BN391:$BY391,0)))),7,\"\")","v":""},{"$f":"IF(AND(COUNT($BN391:$BY391)>9,NOT(ISNA(MATCH(10,$BN391:$BY391,0)))),8,\"\")","v":""},{"$f":"IF(AND(COUNT($BN391:$BY391)>10,NOT(ISNA(MATCH(11,$BN391:$BY391,0)))),9,\"\")","v":""},{"$f":"IF(AND(COUNT($BN391:$BY391)>11,NOT(ISNA(MATCH(12,$BN391:$BY391,0)))),10,\"\")","v":""},{"$f":"CONCATENATE(CL391,CM391,CN391,CO391,CP391,CQ391,CR391,CS391,CT391,CU391,IF(CV391=10,\"A\",\"\"))","v":""},{"$f":"IF(MID($CW391,1,1)=\"\",\"\",IF(MID($CW391,1,1)=\"A\",12,MID($CW391,1,1)+2))","v":""},{"$f":"IF(MID($CW391,2,1)=\"\",\"\",IF(MID($CW391,2,1)=\"A\",12,MID($CW391,2,1)+2))","v":""},{"$f":"IF(MID($CW391,3,1)=\"\",\"\",IF(MID($CW391,3,1)=\"A\",12,MID($CW391,3,1)+2))","v":""},{"$f":"IF(MID($CW391,4,1)=\"\",\"\",IF(MID($CW391,4,1)=\"A\",12,MID($CW391,4,1)+2))","v":""},{"$f":"IF(MID($CW391,5,1)=\"\",\"\",IF(MID($CW391,5,1)=\"A\",12,MID($CW391,5,1)+2))","v":""},{"$f":"IF(MID($CW391,6,1)=\"\",\"\",IF(MID($CW391,6,1)=\"A\",12,MID($CW391,6,1)+2))","v":""},{"$f":"IF(MID($CW391,7,1)=\"\",\"\",IF(MID($CW391,7,1)=\"A\",12,MID($CW391,7,1)+2))","v":""},{"$f":"IF(MID($CW391,8,1)=\"\",\"\",IF(MID($CW391,8,1)=\"A\",12,MID($CW391,8,1)+2))","v":""},{"$f":"IF(MID($CW391,9,1)=\"\",\"\",IF(MID($CW391,9,1)=\"A\",12,MID($CW391,9,1)+2))","v":""},{"$f":"IF(MID($CW391,10,1)=\"\",\"\",IF(MID($CW391,10,1)=\"A\",12,MID($CW391,10,1)+2))","v":""},{"$f":"IF(MID($CW391,11,1)=\"\",\"\",IF(MID($CW391,11,1)=\"A\",12,MID($CW391,11,1)+2))","v":""}]
[null,null,null,null,null,null,null,null,null,null,null,null,null,null,null,null,null,null,null,null,null,null,null,null,null,null,null,null,null,"","","","","","","","","","","","","","","","","","","","","","","","","","","","","","","","","","","","","","","","","","","","","","","","","","","","","","","","","","","","","","","","","","","","","","","","","","","","","","","","","","",""]
[null,null,null,null,null,null,null,null,null,null,null,null,null,null,null,null,null,null,null,null,null,null,null,null,null,null,null,null,null,"","","","","","","","","","","","","","","","","","","","","","","","","","","","","","","","","","","","","","","","","","","","","","","","","","","","","","","","","","","","","","","","","","","","","","","","","","","","","","","","","","",""]
[null,null,null,null,null,null,null,null,null,null,null,null,null,null,null,null,null,null,null,null,null,null,null,null,null,null,null,null,null,"","","","","","","","","","","","","","","","","","","","","","","","","","","","","","","","","","","","","","","","","","","","","","","","","","","","","","","","","","","","","","","","","","","","","","","","","","","","","","","","","","",""]
[null,null,null,null,null,null,null,null,null,null,null,null,null,null,null,null,null,null,null,null,null,null,null,null,null,null,null,null,null,"","","","","","","","","","","","","","","","","","","","","","","","","","","","","","","","","","","","","","","","","","","","","","","","","","","","","","","","","","","","","","","","","","","","","","","","","","","","","","","","","","",""]
[null,null,null,null,null,null,null,null,null,null,null,null,null,null,null,null,null,null,null,null,null,null,null,null,null,null,null,null,null,"","","","","","","","","","","","","","","","","","","","","","","","","","","","","","","","","","","","","","","","","","","","","","","","","","","","","","","","","","","","","","","","","","","","","","","","","","","","","","","","","","",""]
[null,null,null,null,null,null,null,null,null,null,null,null,null,null,null,null,null,null,null,null,null,null,null,null,null,null,null,null,null,"","","","","","","","","","","","","","","","","","","","","","","","","","","","","","","","","","","","","","","","","","","","","","","","","","","","","","","","","","","","","","","","","","","","","","","","","","","","","","","","","","",""]
[null,null,null,null,null,null,null,null,null,null,null,null,null,null,null,null,null,null,null,null,null,null,null,null,null,null,null,null,null,"","","","","","","","","","","","","","","","","","","","","","","","","","","","","","","","","","","","","","","","","","","","","","","","","","","","","","","","","","","","","","","","","","","","","","","","","","","","","","","","","","",""]
[null,null,null,null,null,null,null,null,null,null,null,null,null,null,null,null,null,null,null,null,null,null,null,null,null,null,null,null,null,"","","","","","","","","","","","","","","","","","","","","","","","","","","","","","","","","","","","","","","","","","","","","","","","","","","","","","","","","","","","","","","","","","","","","","","","","","","","","","","","","","",""]
[null,null,null,null,null,null,null,null,null,null,null,null,null,null,null,null,null,null,null,null,null,null,null,null,null,null,null,null,null,"","","","","","","","","","","","","","","","","","","","","","","","","","","","","","","","","","","","","","","","","","","","","","","","","","","","","","","","","","","","","","","","","","","","","","","","","","","","","","","","","","",""]
[null,null,null,null,null,null,null,null,null,null,null,null,null,null,null,null,null,null,null,null,null,null,null,null,null,null,null,null,null,"","","","","","","","","","","","","","","","","","","","","","","","","","","","","","","","","","","","","","","","","","","","","","","","","","","","","","","","","","","","","","","","","","","","","","","","","","","","","","","","","","",""]
[null,null,null,null,null,null,null,null,null,null,null,null,null,null,null,null,null,null,null,null,null,null,null,null,null,null,null,null,null,"","","","","","","","","","","","","","","","","","","","","","","","","","","","","","","","","","","","","","","","","","","","","","","","","","","","","","","","","","","","","","","","","","","","","","","","","","","","","","","","","","",""]
[null,null,null,null,null,null,null,null,null,null,null,null,null,null,null,null,null,null,null,null,null,null,null,null,null,null,null,null,null,"","","","","","","","","","","","","","","","","","","","","","","","","","","","","","","","","","","","","","","","","","","","","","","","","","","","","","","","","","","","","","","","","","","","","","","","","","","","","","","","","","",""]
[null,null,null,null,null,null,null,null,null,null,null,null,null,null,null,null,null,null,null,null,null,null,null,null,null,null,null,null,null,"","","","","","","","","","","","","","","","","","","","","","","","","","","","","","","","","","","","","","","","","","","","","","","","","","","","","","","","","","","","","","","","","","","","","","","","","","","","","","","","","","",""]
[null,null,null,null,null,null,null,null,null,null,null,null,null,null,null,null,null,null,null,null,null,null,null,null,null,null,null,null,null,"","","","","","","","","","","","","","","","","","","","","","","","","","","","","","","","","","","","","","","","","","","","","","","","","","","","","","","","","","","","","","","","","","","","","","","","","","","","","","","","","","",""]
[null,null,null,null,null,null,null,null,null,null,null,null,null,null,null,null,null,null,null,null,null,null,null,null,null,null,null,null,null,"","","","","","","","","","","","","","","","","","","","","","","","","","","","","","","","","","","","","","","","","","","","","","","","","","","","","","","","","","","","","","","","","","","","","","","","","","","","","","","","","","",""]
[null,null,null,null,null,null,null,null,null,null,null,null,null,null,null,null,null,null,null,null,null,null,null,null,null,null,null,null,null,"","","","","","","","","","","","","","","","","","","","","","","","","","","","","","","","","","","","","","","","","","","","","","","","","","","","","","","","","","","","","","","","","","","","","","","","","","","","","","","","","","",""]
[null,null,null,null,null,null,null,null,null,null,null,null,null,null,null,null,null,null,null,null,null,null,null,null,null,null,null,null,null,"","","","","","","","","","","","","","","","","","","","","","","","","","","","","","","","","","","","","","","","","","","","","","","","","","","","","","","","","","","","","","","","","","","","","","","","","","","","","","","","","","",""]
[null,null,null,null,null,null,null,null,null,null,null,null,null,null,null,null,null,null,null,null,null,null,null,null,null,null,null,null,null,"","","","","","","","","","","","","","","","","","","","","","","","","","","","","","","","","","","","","","","","","","","","","","","","","","","","","","","","","","","","","","","","","","","","","","","","","","","","","","","","","","",""]
[null,null,null,null,null,null,null,null,null,null,null,null,null,null,null,null,null,null,null,null,null,null,null,null,null,null,null,null,null,"","","","","","","","","","","","","","","","","","","","","","","","","","","","","","","","","","","","","","","","","","","","","","","","","","","","","","","","","","","","","","","","","","","","","","","","","","","","","","","","","","",""]
[null,null,null,null,null,null,null,null,null,null,null,null,null,null,null,null,null,null,null,null,null,null,null,null,null,null,null,null,null,"","","","","","","","","","","","","","","","","","","","","","","","","","","","","","","","","","","","","","","","","","","","","","","","","","","","","","","","","","","","","","","","","","","","","","","","","","","","","","","","","","",""]
[null,null,null,null,null,null,null,null,null,null,null,null,null,null,null,null,null,null,null,null,null,null,null,null,null,null,null,null,null,"","","","","","","","","","","","","","","","","","","","","","","","","","","","","","","","","","","","","","","","","","","","","","","","","","","","","","","","","","","","","","","","","","","","","","","","","","","","","","","","","","",""]
[null,null,null,null,null,null,null,null,null,null,null,null,null,null,null,null,null,null,null,null,null,null,null,null,null,null,null,null,null,"","","","","","","","","","","","","","","","","","","","","","","","","","","","","","","","","","","","","","","","","","","","","","","","","","","","","","","","","","","","","","","","","","","","","","","","","","","","","","","","","","",""]
[null,null,null,null,null,null,null,null,null,null,null,null,null,null,null,null,null,null,null,null,null,null,null,null,null,null,null,null,null,"","","","","","","","","","","","","","","","","","","","","","","","","","","","","","","","","","","","","","","","","","","","","","","","","","","","","","","","","","","","","","","","","","","","","","","","","","","","","","","","","","",""]
[null,null,null,null,null,null,null,null,null,null,null,null,null,null,null,null,null,null,null,null,null,null,null,null,null,null,null,null,null,"","","","","","","","","","","","","","","","","","","","","","","","","","","","","","","","","","","","","","","","","","","","","","","","","","","","","","","","","","","","","","","","","","","","","","","","","","","","","","","","","","",""]
[null,null,null,null,null,null,null,null,null,null,null,null,null,null,null,null,null,null,null,null,null,null,null,null,null,null,null,null,null,"","","","","","","","","","","","","","","","","","","","","","","","","","","","","","","","","","","","","","","","","","","","","","","","","","","","","","","","","","","","","","","","","","","","","","","","","","","","","","","","","","",""]
[null,null,null,null,null,null,null,null,null,null,null,null,null,null,null,null,null,null,null,null,null,null,null,null,null,null,null,null,null,"","","","","","","","","","","","","","","","","","","","","","","","","","","","","","","","","","","","","","","","","","","","","","","","","","","","","","","","","","","","","","","","","","","","","","","","","","","","","","","","","","",""]
[null,null,null,null,null,null,null,null,null,null,null,null,null,null,null,null,null,null,null,null,null,null,null,null,null,null,null,null,null,"","","","","","","","","","","","","","","","","","","","","","","","","","","","","","","","","","","","","","","","","","","","","","","","","","","","","","","","","","","","","","","","","","","","","","","","","","","","","","","","","","",""]
[null,null,null,null,null,null,null,null,null,null,null,null,null,null,null,null,null,null,null,null,null,null,null,null,null,null,null,null,null,"","","","","","","","","","","","","","","","","","","","","","","","","","","","","","","","","","","","","","","","","","","","","","","","","","","","","","","","","","","","","","","","","","","","","","","","","","","","","","","","","","",""]
[null,null,null,null,null,null,null,null,null,null,null,null,null,null,null,null,null,null,null,null,null,null,null,null,null,null,null,null,null,"","","","","","","","","","","","","","","","","","","","","","","","","","","","","","","","","","","","","","","","","","","","","","","","","","","","","","","","","","","","","","","","","","","","","","","","","","","","","","","","","","",""]
[null,null,null,null,null,null,null,null,null,null,null,null,null,null,null,null,null,null,null,null,null,null,null,null,null,null,null,null,null,"","","","","","","","","","","","","","","","","","","","","","","","","","","","","","","","","","","","","","","","","","","","","","","","","","","","","","","","","","","","","","","","","","","","","","","","","","","","","","","","","","",""]
[null,null,null,null,null,null,null,null,null,null,null,null,null,null,null,null,null,null,null,null,null,null,null,null,null,null,null,null,null,"","","","","","","","","","","","","","","","","","","","","","","","","","","","","","","","","","","","","","","","","","","","","","","","","","","","","","","","","","","","","","","","","","","","","","","","","","","","","","","","","","",""]
[null,null,null,null,null,null,null,null,null,null,null,null,null,null,null,null,null,null,null,null,null,null,null,null,null,null,null,null,null,"","","","","","","","","","","","","","","","","","","","","","","","","","","","","","","","","","","","","","","","","","","","","","","","","","","","","","","","","","","","","","","","","","","","","","","","","","","","","","","","","","",""]
[null,null,null,null,null,null,null,null,null,null,null,null,null,null,null,null,null,null,null,null,null,null,null,null,null,null,null,null,null,"","","","","","","","","","","","","","","","","","","","","","","","","","","","","","","","","","","","","","","","","","","","","","","","","","","","","","","","","","","","","","","","","","","","","","","","","","","","","","","","","","",""]
[null,null,null,null,null,null,null,null,null,null,null,null,null,null,null,null,null,null,null,null,null,null,null,null,null,null,null,null,null,"","","","","","","","","","","","","","","","","","","","","","","","","","","","","","","","","","","","","","","","","","","","","","","","","","","","","","","","","","","","","","","","","","","","","","","","","","","","","","","","","","",""]
[null,null,null,null,null,null,null,null,null,null,null,null,null,null,null,null,null,null,null,null,null,null,null,null,null,null,null,null,null,"","","","","","","","","","","","","","","","","","","","","","","","","","","","","","","","","","","","","","","","","","","","","","","","","","","","","","","","","","","","","","","","","","","","","","","","","","","","","","","","","","",""]
[null,null,null,null,null,null,null,null,null,null,null,null,null,null,null,null,null,null,null,null,null,null,null,null,null,null,null,null,null,"","","","","","","","","","","","","","","","","","","","","","","","","","","","","","","","","","","","","","","","","","","","","","","","","","","","","","","","","","","","","","","","","","","","","","","","","","","","","","","","","","",""]
[null,null,null,null,null,null,null,null,null,null,null,null,null,null,null,null,null,null,null,null,null,null,null,null,null,null,null,null,null,"","","","","","","","","","","","","","","","","","","","","","","","","","","","","","","","","","","","","","","","","","","","","","","","","","","","","","","","","","","","","","","","","","","","","","","","","","","","","","","","","","",""]
[null,null,null,null,null,null,null,null,null,null,null,null,null,null,null,null,null,null,null,null,null,null,null,null,null,null,null,null,null,"","","","","","","","","","","","","","","","","","","","","","","","","","","","","","","","","","","","","","","","","","","","","","","","","","","","","","","","","","","","","","","","","","","","","","","","","","","","","","","","","","",""]
[null,null,null,null,null,null,null,null,null,null,null,null,null,null,null,null,null,null,null,null,null,null,null,null,null,null,null,null,null,"","","","","","","","","","","","","","","","","","","","","","","","","","","","","","","","","","","","","","","","","","","","","","","","","","","","","","","","","","","","","","","","","","","","","","","","","","","","","","","","","","",""]
[null,null,null,null,null,null,null,null,null,null,null,null,null,null,null,null,null,null,null,null,null,null,null,null,null,null,null,null,null,"","","","","","","","","","","","","","","","","","","","","","","","","","","","","","","","","","","","","","","","","","","","","","","","","","","","","","","","","","","","","","","","","","","","","","","","","","","","","","","","","","",""]
[null,null,null,null,null,null,null,null,null,null,null,null,null,null,null,null,null,null,null,null,null,null,null,null,null,null,null,null,null,"","","","","","","","","","","","","","","","","","","","","","","","","","","","","","","","","","","","","","","","","","","","","","","","","","","","","","","","","","","","","","","","","","","","","","","","","","","","","","","","","","",""]
[null,null,null,null,null,null,null,null,null,null,null,null,null,null,null,null,null,null,null,null,null,null,null,null,null,null,null,null,null,"","","","","","","","","","","","","","","","","","","","","","","","","","","","","","","","","","","","","","","","","","","","","","","","","","","","","","","","","","","","","","","","","","","","","","","","","","","","","","","","","","",""]
[null,null,null,null,null,null,null,null,null,null,null,null,null,null,null,null,null,null,null,null,null,null,null,null,null,null,null,null,null,"","","","","","","","","","","","","","","","","","","","","","","","","","","","","","","","","","","","","","","","","","","","","","","","","","","","","","","","","","","","","","","","","","","","","","","","","","","","","","","","","","",""]
[null,null,null,null,null,null,null,null,null,null,null,null,null,null,null,null,null,null,null,null,null,null,null,null,null,null,null,null,null,"","","","","","","","","","","","","","","","","","","","","","","","","","","","","","","","","","","","","","","","","","","","","","","","","","","","","","","","","","","","","","","","","","","","","","","","","","","","","","","","","","",""]
[null,null,null,null,null,null,null,null,null,null,null,null,null,null,null,null,null,null,null,null,null,null,null,null,null,null,null,null,null,"","","","","","","","","","","","","","","","","","","","","","","","","","","","","","","","","","","","","","","","","","","","","","","","","","","","","","","","","","","","","","","","","","","","","","","","","","","","","","","","","","",""]
[null,null,null,null,null,null,null,null,null,null,null,null,null,null,null,null,null,null,null,null,null,null,null,null,null,null,null,null,null,"","","","","","","","","","","","","","","","","","","","","","","","","","","","","","","","","","","","","","","","","","","","","","","","","","","","","","","","","","","","","","","","","","","","","","","","","","","","","","","","","","",""]
[null,null,null,null,null,null,null,null,null,null,null,null,null,null,null,null,null,null,null,null,null,null,null,null,null,null,null,null,null,"","","","","","","","","","","","","","","","","","","","","","","","","","","","","","","","","","","","","","","","","","","","","","","","","","","","","","","","","","","","","","","","","","","","","","","","","","","","","","","","","","",""]
[null,null,null,null,null,null,null,null,null,null,null,null,null,null,null,null,null,null,null,null,null,null,null,null,null,null,null,null,null,"","","","","","","","","","","","","","","","","","","","","","","","","","","","","","","","","","","","","","","","","","","","","","","","","","","","","","","","","","","","","","","","","","","","","","","","","","","","","","","","","","",""]
[null,null,null,null,null,null,null,null,null,null,null,null,null,null,null,null,null,null,null,null,null,null,null,null,null,null,null,null,null,"","","","","","","","","","","","","","","","","","","","","","","","","","","","","","","","","","","","","","","","","","","","","","","","","","","","","","","","","","","","","","","","","","","","","","","","","","","","","","","","","","",""]
[null,null,null,null,null,null,null,null,null,null,null,null,null,null,null,null,null,null,null,null,null,null,null,null,null,null,null,null,null,"","","","","","","","","","","","","","","","","","","","","","","","","","","","","","","","","","","","","","","","","","","","","","","","","","","","","","","","","","","","","","","","","","","","","","","","","","","","","","","","","","",""]
[null,null,null,null,null,null,null,null,null,null,null,null,null,null,null,null,null,null,null,null,null,null,null,null,null,null,null,null,null,"","","","","","","","","","","","","","","","","","","","","","","","","","","","","","","","","","","","","","","","","","","","","","","","","","","","","","","","","","","","","","","","","","","","","","","","","","","","","","","","","","",""]
[null,null,null,null,null,null,null,null,null,null,null,null,null,null,null,null,null,null,null,null,null,null,null,null,null,null,null,null,null,"","","","","","","","","","","","","","","","","","","","","","","","","","","","","","","","","","","","","","","","","","","","","","","","","","","","","","","","","","","","","","","","","","","","","","","","","","","","","","","","","","",""]
[null,null,null,null,null,null,null,null,null,null,null,null,null,null,null,null,null,null,null,null,null,null,null,null,null,null,null,null,null,"","","","","","","","","","","","","","","","","","","","","","","","","","","","","","","","","","","","","","","","","","","","","","","","","","","","","","","","","","","","","","","","","","","","","","","","","","","","","","","","","","",""]
[null,null,null,null,null,null,null,null,null,null,null,null,null,null,null,null,null,null,null,null,null,null,null,null,null,null,null,null,null,"","","","","","","","","","","","","","","","","","","","","","","","","","","","","","","","","","","","","","","","","","","","","","","","","","","","","","","","","","","","","","","","","","","","","","","","","","","","","","","","","","",""]
[null,null,null,null,null,null,null,null,null,null,null,null,null,null,null,null,null,null,null,null,null,null,null,null,null,null,null,null,null,"","","","","","","","","","","","","","","","","","","","","","","","","","","","","","","","","","","","","","","","","","","","","","","","","","","","","","","","","","","","","","","","","","","","","","","","","","","","","","","","","","",""]
[null,null,null,null,null,null,null,null,null,null,null,null,null,null,null,null,null,null,null,null,null,null,null,null,null,null,null,null,null,"","","","","","","","","","","","","","","","","","","","","","","","","","","","","","","","","","","","","","","","","","","","","","","","","","","","","","","","","","","","","","","","","","","","","","","","","","","","","","","","","","",""]
[null,null,null,null,null,null,null,null,null,null,null,null,null,null,null,null,null,null,null,null,null,null,null,null,null,null,null,null,null,"","","","","","","","","","","","","","","","","","","","","","","","","","","","","","","","","","","","","","","","","","","","","","","","","","","","","","","","","","","","","","","","","","","","","","","","","","","","","","","","","","",""]
[null,null,null,null,null,null,null,null,null,null,null,null,null,null,null,null,null,null,null,null,null,null,null,null,null,null,null,null,null,"","","","","","","","","","","","","","","","","","","","","","","","","","","","","","","","","","","","","","","","","","","","","","","","","","","","","","","","","","","","","","","","","","","","","","","","","","","","","","","","","","",""]
[null,null,null,null,null,null,null,null,null,null,null,null,null,null,null,null,null,null,null,null,null,null,null,null,null,null,null,null,null,"","","","","","","","","","","","","","","","","","","","","","","","","","","","","","","","","","","","","","","","","","","","","","","","","","","","","","","","","","","","","","","","","","","","","","","","","","","","","","","","","","",""]
[null,null,null,null,null,null,null,null,null,null,null,null,null,null,null,null,null,null,null,null,null,null,null,null,null,null,null,null,null,"","","","","","","","","","","","","","","","","","","","","","","","","","","","","","","","","","","","","","","","","","","","","","","","","","","","","","","","","","","","","","","","","","","","","","","","","","","","","","","","","","",""]
[null,null,null,null,null,null,null,null,null,null,null,null,null,null,null,null,null,null,null,null,null,null,null,null,null,null,null,null,null,"","","","","","","","","","","","","","","","","","","","","","","","","","","","","","","","","","","","","","","","","","","","","","","","","","","","","","","","","","","","","","","","","","","","","","","","","","","","","","","","","","",""]
[null,null,null,null,null,null,null,null,null,null,null,null,null,null,null,null,null,null,null,null,null,null,null,null,null,null,null,null,null,"","","","","","","","","","","","","","","","","","","","","","","","","","","","","","","","","","","","","","","","","","","","","","","","","","","","","","","","","","","","","","","","","","","","","","","","","","","","","","","","","","",""]
[null,null,null,null,null,null,null,null,null,null,null,null,null,null,null,null,null,null,null,null,null,null,null,null,null,null,null,null,null,"","","","","","","","","","","","","","","","","","","","","","","","","","","","","","","","","","","","","","","","","","","","","","","","","","","","","","","","","","","","","","","","","","","","","","","","","","","","","","","","","","",""]
[null,null,null,null,null,null,null,null,null,null,null,null,null,null,null,null,null,null,null,null,null,null,null,null,null,null,null,null,null,{"$f":"IF(BZ455=\"\",\"\",OFFSET($D455,0,2*BZ455))","v":""},{"$f":"IF(CA455=\"\",\"\",OFFSET($D455,0,2*CA455))","v":""},{"$f":"IF(CB455=\"\",\"\",OFFSET($D455,0,2*CB455))","v":""},{"$f":"IF(CC455=\"\",\"\",OFFSET($D455,0,2*CC455))","v":""},{"$f":"IF(CD455=\"\",\"\",OFFSET($D455,0,2*CD455))","v":""},{"$f":"IF(CE455=\"\",\"\",OFFSET($D455,0,2*CE455))","v":""},{"$f":"IF(CF455=\"\",\"\",OFFSET($D455,0,2*CF455))","v":""},{"$f":"IF(CG455=\"\",\"\",OFFSET($D455,0,2*CG455))","v":""},{"$f":"IF(CH455=\"\",\"\",OFFSET($D455,0,2*CH455))","v":""},{"$f":"IF(CI455=\"\",\"\",OFFSET($D455,0,2*CI455))","v":""},{"$f":"IF(CJ455=\"\",\"\",OFFSET($D455,0,2*CJ455))","v":""},{"$f":"IF(CK455=\"\",\"\",OFFSET($D455,0,2*CK455))","v":""},{"$f":"IF(BZ455=\"\",\"\",IF(COUNT(OFFSET($D455,0,2*BZ455-1,1,2))=2,OFFSET($D455,0,2*BZ455-1),\"\"))","v":""},{"$f":"IF(CA455=\"\",\"\",IF(COUNT(OFFSET($D455,0,2*CA455-1,1,2))=2,OFFSET($D455,0,2*CA455-1),\"\"))","v":""},{"$f":"IF(CB455=\"\",\"\",IF(COUNT(OFFSET($D455,0,2*CB455-1,1,2))=2,OFFSET($D455,0,2*CB455-1),\"\"))","v":""},{"$f":"IF(CC455=\"\",\"\",IF(COUNT(OFFSET($D455,0,2*CC455-1,1,2))=2,OFFSET($D455,0,2*CC455-1),\"\"))","v":""},{"$f":"IF(CD455=\"\",\"\",IF(COUNT(OFFSET($D455,0,2*CD455-1,1,2))=2,OFFSET($D455,0,2*CD455-1),\"\"))","v":""},{"$f":"IF(CE455=\"\",\"\",IF(COUNT(OFFSET($D455,0,2*CE455-1,1,2))=2,OFFSET($D455,0,2*CE455-1),\"\"))","v":""},{"$f":"IF(CF455=\"\",\"\",IF(COUNT(OFFSET($D455,0,2*CF455-1,1,2))=2,OFFSET($D455,0,2*CF455-1),\"\"))","v":""},{"$f":"IF(CG455=\"\",\"\",IF(COUNT(OFFSET($D455,0,2*CG455-1,1,2))=2,OFFSET($D455,0,2*CG455-1),\"\"))","v":""},{"$f":"IF(CH455=\"\",\"\",IF(COUNT(OFFSET($D455,0,2*CH455-1,1,2))=2,OFFSET($D455,0,2*CH455-1),\"\"))","v":""},{"$f":"IF(CI455=\"\",\"\",IF(COUNT(OFFSET($D455,0,2*CI455-1,1,2))=2,OFFSET($D455,0,2*CI455-1),\"\"))","v":""},{"$f":"IF(CJ455=\"\",\"\",IF(COUNT(OFFSET($D455,0,2*CJ455-1,1,2))=2,OFFSET($D455,0,2*CJ455-1),\"\"))","v":""},{"$f":"IF(CK455=\"\",\"\",IF(COUNT(OFFSET($D455,0,2*CK455-1,1,2))=2,OFFSET($D455,0,2*CK455-1),\"\"))","v":""},{"$f":"IF(AND(E455<>\"\",F455<>\"\"),F455,\"\")","v":""},{"$f":"IF(AND(G455<>\"\",H455<>\"\"),H455,\"\")","v":""},{"$f":"IF(AND(I455<>\"\",J455<>\"\"),J455,\"\")","v":""},{"$f":"IF(AND(K455<>\"\",L455<>\"\"),L455,\"\")","v":""},{"$f":"IF(AND(M455<>\"\",N455<>\"\"),N455,\"\")","v":""},{"$f":"IF(AND(O455<>\"\",P455<>\"\"),P455,\"\")","v":""},{"$f":"IF(AND(Q455<>\"\",R455<>\"\"),R455,\"\")","v":""},{"$f":"IF(AND(S455<>\"\",T455<>\"\"),T455,\"\")","v":""},{"$f":"IF(AND(U455<>\"\",V455<>\"\"),V455,\"\")","v":""},{"$f":"IF(AND(W455<>\"\",X455<>\"\"),X455,\"\")","v":""},{"$f":"IF(AND(Y455<>\"\",Z455<>\"\"),Z455,\"\")","v":""},{"$f":"IF(AND(AA455<>\"\",AB455<>\"\"),AB455,\"\")","v":""},{"$f":"IF(BB455<>\"\",RANK(BB455,$BB455:$BM455,1),\"\")","v":""},{"$f":"IF(BC455<>\"\",RANK(BC455,$BB455:$BM455,1),\"\")","v":""},{"$f":"IF(BD455<>\"\",RANK(BD455,$BB455:$BM455,1),\"\")","v":""},{"$f":"IF(BE455<>\"\",RANK(BE455,$BB455:$BM455,1),\"\")","v":""},{"$f":"IF(BF455<>\"\",RANK(BF455,$BB455:$BM455,1),\"\")","v":""},{"$f":"IF(BG455<>\"\",RANK(BG455,$BB455:$BM455,1),\"\")","v":""},{"$f":"IF(BH455<>\"\",RANK(BH455,$BB455:$BM455,1),\"\")","v":""},{"$f":"IF(BI455<>\"\",RANK(BI455,$BB455:$BM455,1),\"\")","v":""},{"$f":"IF(BJ455<>\"\",RANK(BJ455,$BB455:$BM455,1),\"\")","v":""},{"$f":"IF(BK455<>\"\",RANK(BK455,$BB455:$BM455,1),\"\")","v":""},{"$f":"IF(BL455<>\"\",RANK(BL455,$BB455:$BM455,1),\"\")","v":""},{"$f":"IF(BM455<>\"\",RANK(BM455,$BB455:$BM455,1),\"\")","v":""},{"$f":"IF(ISNA(MATCH(1,$BN455:$BY455,0)),\"\",MATCH(1,$BN455:$BY455,0))","v":""},{"$f":"IF(COUNT($CL455:$CV455)<1,\"\",MATCH(VALUE(CX455),$BN455:$BY455,0))","v":""},{"$f":"IF(COUNT($CL455:$CV455)<2,\"\",MATCH(VALUE(CY455),$BN455:$BY455,0))","v":""},{"$f":"IF(COUNT($CL455:$CV455)<3,\"\",MATCH(VALUE(CZ455),$BN455:$BY455,0))","v":""},{"$f":"IF(COUNT($CL455:$CV455)<4,\"\",MATCH(VALUE(DA455),$BN455:$BY455,0))","v":""},{"$f":"IF(COUNT($CL455:$CV455)<5,\"\",MATCH(VALUE(DB455),$BN455:$BY455,0))","v":""},{"$f":"IF(COUNT($CL455:$CV455)<6,\"\",MATCH(VALUE(DC455),$BN455:$BY455,0))","v":""},{"$f":"IF(COUNT($CL455:$CV455)<7,\"\",MATCH(VALUE(DD455),$BN455:$BY455,0))","v":""},{"$f":"IF(COUNT($CL455:$CV455)<8,\"\",MATCH(VALUE(DE455),$BN455:$BY455,0))","v":""},{"$f":"IF(COUNT($CL455:$CV455)<9,\"\",MATCH(VALUE(DF455),$BN455:$BY455,0))","v":""},{"$f":"IF(COUNT($CL455:$CV455)<10,\"\",MATCH(VALUE(DG455),$BN455:$BY455,0))","v":""},{"$f":"IF(COUNT($CL455:$CV455)<11,\"\",MATCH(VALUE(DH455),$BN455:$BY455,0))","v":""},{"$f":"IF(AND(COUNT($BN455:$BY455)>1,NOT(ISNA(MATCH(2,$BN455:$BY455,0)))),0,\"\")","v":""},{"$f":"IF(AND(COUNT($BN455:$BY455)>2,NOT(ISNA(MATCH(3,$BN455:$BY455,0)))),1,\"\")","v":""},{"$f":"IF(AND(COUNT($BN455:$BY455)>3,NOT(ISNA(MATCH(4,$BN455:$BY455,0)))),2,\"\")","v":""},{"$f":"IF(AND(COUNT($BN455:$BY455)>4,NOT(ISNA(MATCH(5,$BN455:$BY455,0)))),3,\"\")","v":""},{"$f":"IF(AND(COUNT($BN455:$BY455)>5,NOT(ISNA(MATCH(6,$BN455:$BY455,0)))),4,\"\")","v":""},{"$f":"IF(AND(COUNT($BN455:$BY455)>6,NOT(ISNA(MATCH(7,$BN455:$BY455,0)))),5,\"\")","v":""},{"$f":"IF(AND(COUNT($BN455:$BY455)>7,NOT(ISNA(MATCH(8,$BN455:$BY455,0)))),6,\"\")","v":""},{"$f":"IF(AND(COUNT($BN455:$BY455)>8,NOT(ISNA(MATCH(9,$BN455:$BY455,0)))),7,\"\")","v":""},{"$f":"IF(AND(COUNT($BN455:$BY455)>9,NOT(ISNA(MATCH(10,$BN455:$BY455,0)))),8,\"\")","v":""},{"$f":"IF(AND(COUNT($BN455:$BY455)>10,NOT(ISNA(MATCH(11,$BN455:$BY455,0)))),9,\"\")","v":""},{"$f":"IF(AND(COUNT($BN455:$BY455)>11,NOT(ISNA(MATCH(12,$BN455:$BY455,0)))),10,\"\")","v":""},{"$f":"CONCATENATE(CL455,CM455,CN455,CO455,CP455,CQ455,CR455,CS455,CT455,CU455,IF(CV455=10,\"A\",\"\"))","v":""},{"$f":"IF(MID($CW455,1,1)=\"\",\"\",IF(MID($CW455,1,1)=\"A\",12,MID($CW455,1,1)+2))","v":""},{"$f":"IF(MID($CW455,2,1)=\"\",\"\",IF(MID($CW455,2,1)=\"A\",12,MID($CW455,2,1)+2))","v":""},{"$f":"IF(MID($CW455,3,1)=\"\",\"\",IF(MID($CW455,3,1)=\"A\",12,MID($CW455,3,1)+2))","v":""},{"$f":"IF(MID($CW455,4,1)=\"\",\"\",IF(MID($CW455,4,1)=\"A\",12,MID($CW455,4,1)+2))","v":""},{"$f":"IF(MID($CW455,5,1)=\"\",\"\",IF(MID($CW455,5,1)=\"A\",12,MID($CW455,5,1)+2))","v":""},{"$f":"IF(MID($CW455,6,1)=\"\",\"\",IF(MID($CW455,6,1)=\"A\",12,MID($CW455,6,1)+2))","v":""},{"$f":"IF(MID($CW455,7,1)=\"\",\"\",IF(MID($CW455,7,1)=\"A\",12,MID($CW455,7,1)+2))","v":""},{"$f":"IF(MID($CW455,8,1)=\"\",\"\",IF(MID($CW455,8,1)=\"A\",12,MID($CW455,8,1)+2))","v":""},{"$f":"IF(MID($CW455,9,1)=\"\",\"\",IF(MID($CW455,9,1)=\"A\",12,MID($CW455,9,1)+2))","v":""},{"$f":"IF(MID($CW455,10,1)=\"\",\"\",IF(MID($CW455,10,1)=\"A\",12,MID($CW455,10,1)+2))","v":""},{"$f":"IF(MID($CW455,11,1)=\"\",\"\",IF(MID($CW455,11,1)=\"A\",12,MID($CW455,11,1)+2))","v":""}]
[null,null,null,null,null,null,null,null,null,null,null,null,null,null,null,null,null,null,null,null,null,null,null,null,null,null,null,null,null,"","","","","","","","","","","","","","","","","","","","","","","","","","","","","","","","","","","","","","","","","","","","","","","","","","","","","","","","","","","","","","","","","","","","","","","","","","","","","","","","","","",""]
[null,null,null,null,null,null,null,null,null,null,null,null,null,null,null,null,null,null,null,null,null,null,null,null,null,null,null,null,null,"","","","","","","","","","","","","","","","","","","","","","","","","","","","","","","","","","","","","","","","","","","","","","","","","","","","","","","","","","","","","","","","","","","","","","","","","","","","","","","","","","",""]
[null,null,null,null,null,null,null,null,null,null,null,null,null,null,null,null,null,null,null,null,null,null,null,null,null,null,null,null,null,"","","","","","","","","","","","","","","","","","","","","","","","","","","","","","","","","","","","","","","","","","","","","","","","","","","","","","","","","","","","","","","","","","","","","","","","","","","","","","","","","","",""]
[null,null,null,null,null,null,null,null,null,null,null,null,null,null,null,null,null,null,null,null,null,null,null,null,null,null,null,null,null,"","","","","","","","","","","","","","","","","","","","","","","","","","","","","","","","","","","","","","","","","","","","","","","","","","","","","","","","","","","","","","","","","","","","","","","","","","","","","","","","","","",""]
[null,null,null,null,null,null,null,null,null,null,null,null,null,null,null,null,null,null,null,null,null,null,null,null,null,null,null,null,null,"","","","","","","","","","","","","","","","","","","","","","","","","","","","","","","","","","","","","","","","","","","","","","","","","","","","","","","","","","","","","","","","","","","","","","","","","","","","","","","","","","",""]
[null,null,null,null,null,null,null,null,null,null,null,null,null,null,null,null,null,null,null,null,null,null,null,null,null,null,null,null,null,"","","","","","","","","","","","","","","","","","","","","","","","","","","","","","","","","","","","","","","","","","","","","","","","","","","","","","","","","","","","","","","","","","","","","","","","","","","","","","","","","","",""]
[null,null,null,null,null,null,null,null,null,null,null,null,null,null,null,null,null,null,null,null,null,null,null,null,null,null,null,null,null,"","","","","","","","","","","","","","","","","","","","","","","","","","","","","","","","","","","","","","","","","","","","","","","","","","","","","","","","","","","","","","","","","","","","","","","","","","","","","","","","","","",""]
[null,null,null,null,null,null,null,null,null,null,null,null,null,null,null,null,null,null,null,null,null,null,null,null,null,null,null,null,null,"","","","","","","","","","","","","","","","","","","","","","","","","","","","","","","","","","","","","","","","","","","","","","","","","","","","","","","","","","","","","","","","","","","","","","","","","","","","","","","","","","",""]
[null,null,null,null,null,null,null,null,null,null,null,null,null,null,null,null,null,null,null,null,null,null,null,null,null,null,null,null,null,"","","","","","","","","","","","","","","","","","","","","","","","","","","","","","","","","","","","","","","","","","","","","","","","","","","","","","","","","","","","","","","","","","","","","","","","","","","","","","","","","","",""]
[null,null,null,null,null,null,null,null,null,null,null,null,null,null,null,null,null,null,null,null,null,null,null,null,null,null,null,null,null,"","","","","","","","","","","","","","","","","","","","","","","","","","","","","","","","","","","","","","","","","","","","","","","","","","","","","","","","","","","","","","","","","","","","","","","","","","","","","","","","","","",""]
[null,null,null,null,null,null,null,null,null,null,null,null,null,null,null,null,null,null,null,null,null,null,null,null,null,null,null,null,null,"","","","","","","","","","","","","","","","","","","","","","","","","","","","","","","","","","","","","","","","","","","","","","","","","","","","","","","","","","","","","","","","","","","","","","","","","","","","","","","","","","",""]
[null,null,null,null,null,null,null,null,null,null,null,null,null,null,null,null,null,null,null,null,null,null,null,null,null,null,null,null,null,"","","","","","","","","","","","","","","","","","","","","","","","","","","","","","","","","","","","","","","","","","","","","","","","","","","","","","","","","","","","","","","","","","","","","","","","","","","","","","","","","","",""]
[null,null,null,null,null,null,null,null,null,null,null,null,null,null,null,null,null,null,null,null,null,null,null,null,null,null,null,null,null,"","","","","","","","","","","","","","","","","","","","","","","","","","","","","","","","","","","","","","","","","","","","","","","","","","","","","","","","","","","","","","","","","","","","","","","","","","","","","","","","","","",""]
[null,null,null,null,null,null,null,null,null,null,null,null,null,null,null,null,null,null,null,null,null,null,null,null,null,null,null,null,null,"","","","","","","","","","","","","","","","","","","","","","","","","","","","","","","","","","","","","","","","","","","","","","","","","","","","","","","","","","","","","","","","","","","","","","","","","","","","","","","","","","",""]
[null,null,null,null,null,null,null,null,null,null,null,null,null,null,null,null,null,null,null,null,null,null,null,null,null,null,null,null,null,"","","","","","","","","","","","","","","","","","","","","","","","","","","","","","","","","","","","","","","","","","","","","","","","","","","","","","","","","","","","","","","","","","","","","","","","","","","","","","","","","","",""]
[null,null,null,null,null,null,null,null,null,null,null,null,null,null,null,null,null,null,null,null,null,null,null,null,null,null,null,null,null,"","","","","","","","","","","","","","","","","","","","","","","","","","","","","","","","","","","","","","","","","","","","","","","","","","","","","","","","","","","","","","","","","","","","","","","","","","","","","","","","","","",""]
[null,null,null,null,null,null,null,null,null,null,null,null,null,null,null,null,null,null,null,null,null,null,null,null,null,null,null,null,null,"","","","","","","","","","","","","","","","","","","","","","","","","","","","","","","","","","","","","","","","","","","","","","","","","","","","","","","","","","","","","","","","","","","","","","","","","","","","","","","","","","",""]
[null,null,null,null,null,null,null,null,null,null,null,null,null,null,null,null,null,null,null,null,null,null,null,null,null,null,null,null,null,"","","","","","","","","","","","","","","","","","","","","","","","","","","","","","","","","","","","","","","","","","","","","","","","","","","","","","","","","","","","","","","","","","","","","","","","","","","","","","","","","","",""]
[null,null,null,null,null,null,null,null,null,null,null,null,null,null,null,null,null,null,null,null,null,null,null,null,null,null,null,null,null,"","","","","","","","","","","","","","","","","","","","","","","","","","","","","","","","","","","","","","","","","","","","","","","","","","","","","","","","","","","","","","","","","","","","","","","","","","","","","","","","","","",""]
[null,null,null,null,null,null,null,null,null,null,null,null,null,null,null,null,null,null,null,null,null,null,null,null,null,null,null,null,null,"","","","","","","","","","","","","","","","","","","","","","","","","","","","","","","","","","","","","","","","","","","","","","","","","","","","","","","","","","","","","","","","","","","","","","","","","","","","","","","","","","",""]
[null,null,null,null,null,null,null,null,null,null,null,null,null,null,null,null,null,null,null,null,null,null,null,null,null,null,null,null,null,"","","","","","","","","","","","","","","","","","","","","","","","","","","","","","","","","","","","","","","","","","","","","","","","","","","","","","","","","","","","","","","","","","","","","","","","","","","","","","","","","","",""]
[null,null,null,null,null,null,null,null,null,null,null,null,null,null,null,null,null,null,null,null,null,null,null,null,null,null,null,null,null,"","","","","","","","","","","","","","","","","","","","","","","","","","","","","","","","","","","","","","","","","","","","","","","","","","","","","","","","","","","","","","","","","","","","","","","","","","","","","","","","","","",""]
[null,null,null,null,null,null,null,null,null,null,null,null,null,null,null,null,null,null,null,null,null,null,null,null,null,null,null,null,null,"","","","","","","","","","","","","","","","","","","","","","","","","","","","","","","","","","","","","","","","","","","","","","","","","","","","","","","","","","","","","","","","","","","","","","","","","","","","","","","","","","",""]
[null,null,null,null,null,null,null,null,null,null,null,null,null,null,null,null,null,null,null,null,null,null,null,null,null,null,null,null,null,"","","","","","","","","","","","","","","","","","","","","","","","","","","","","","","","","","","","","","","","","","","","","","","","","","","","","","","","","","","","","","","","","","","","","","","","","","","","","","","","","","",""]
[null,null,null,null,null,null,null,null,null,null,null,null,null,null,null,null,null,null,null,null,null,null,null,null,null,null,null,null,null,"","","","","","","","","","","","","","","","","","","","","","","","","","","","","","","","","","","","","","","","","","","","","","","","","","","","","","","","","","","","","","","","","","","","","","","","","","","","","","","","","","",""]
[null,null,null,null,null,null,null,null,null,null,null,null,null,null,null,null,null,null,null,null,null,null,null,null,null,null,null,null,null,"","","","","","","","","","","","","","","","","","","","","","","","","","","","","","","","","","","","","","","","","","","","","","","","","","","","","","","","","","","","","","","","","","","","","","","","","","","","","","","","","","",""]
[null,null,null,null,null,null,null,null,null,null,null,null,null,null,null,null,null,null,null,null,null,null,null,null,null,null,null,null,null,"","","","","","","","","","","","","","","","","","","","","","","","","","","","","","","","","","","","","","","","","","","","","","","","","","","","","","","","","","","","","","","","","","","","","","","","","","","","","","","","","","",""]
[null,null,null,null,null,null,null,null,null,null,null,null,null,null,null,null,null,null,null,null,null,null,null,null,null,null,null,null,null,"","","","","","","","","","","","","","","","","","","","","","","","","","","","","","","","","","","","","","","","","","","","","","","","","","","","","","","","","","","","","","","","","","","","","","","","","","","","","","","","","","",""]
[null,null,null,null,null,null,null,null,null,null,null,null,null,null,null,null,null,null,null,null,null,null,null,null,null,null,null,null,null,"","","","","","","","","","","","","","","","","","","","","","","","","","","","","","","","","","","","","","","","","","","","","","","","","","","","","","","","","","","","","","","","","","","","","","","","","","","","","","","","","","",""]
[null,null,null,null,null,null,null,null,null,null,null,null,null,null,null,null,null,null,null,null,null,null,null,null,null,null,null,null,null,"","","","","","","","","","","","","","","","","","","","","","","","","","","","","","","","","","","","","","","","","","","","","","","","","","","","","","","","","","","","","","","","","","","","","","","","","","","","","","","","","","",""]
[null,null,null,null,null,null,null,null,null,null,null,null,null,null,null,null,null,null,null,null,null,null,null,null,null,null,null,null,null,"","","","","","","","","","","","","","","","","","","","","","","","","","","","","","","","","","","","","","","","","","","","","","","","","","","","","","","","","","","","","","","","","","","","","","","","","","","","","","","","","","",""]
[null,null,null,null,null,null,null,null,null,null,null,null,null,null,null,null,null,null,null,null,null,null,null,null,null,null,null,null,null,"","","","","","","","","","","","","","","","","","","","","","","","","","","","","","","","","","","","","","","","","","","","","","","","","","","","","","","","","","","","","","","","","","","","","","","","","","","","","","","","","","",""]
[null,null,null,null,null,null,null,null,null,null,null,null,null,null,null,null,null,null,null,null,null,null,null,null,null,null,null,null,null,"","","","","","","","","","","","","","","","","","","","","","","","","","","","","","","","","","","","","","","","","","","","","","","","","","","","","","","","","","","","","","","","","","","","","","","","","","","","","","","","","","",""]
[null,null,null,null,null,null,null,null,null,null,null,null,null,null,null,null,null,null,null,null,null,null,null,null,null,null,null,null,null,"","","","","","","","","","","","","","","","","","","","","","","","","","","","","","","","","","","","","","","","","","","","","","","","","","","","","","","","","","","","","","","","","","","","","","","","","","","","","","","","","","",""]
[null,null,null,null,null,null,null,null,null,null,null,null,null,null,null,null,null,null,null,null,null,null,null,null,null,null,null,null,null,"","","","","","","","","","","","","","","","","","","","","","","","","","","","","","","","","","","","","","","","","","","","","","","","","","","","","","","","","","","","","","","","","","","","","","","","","","","","","","","","","","",""]
[null,null,null,null,null,null,null,null,null,null,null,null,null,null,null,null,null,null,null,null,null,null,null,null,null,null,null,null,null,"","","","","","","","","","","","","","","","","","","","","","","","","","","","","","","","","","","","","","","","","","","","","","","","","","","","","","","","","","","","","","","","","","","","","","","","","","","","","","","","","","",""]
[null,null,null,null,null,null,null,null,null,null,null,null,null,null,null,null,null,null,null,null,null,null,null,null,null,null,null,null,null,"","","","","","","","","","","","","","","","","","","","","","","","","","","","","","","","","","","","","","","","","","","","","","","","","","","","","","","","","","","","","","","","","","","","","","","","","","","","","","","","","","",""]
[null,null,null,null,null,null,null,null,null,null,null,null,null,null,null,null,null,null,null,null,null,null,null,null,null,null,null,null,null,"","","","","","","","","","","","","","","","","","","","","","","","","","","","","","","","","","","","","","","","","","","","","","","","","","","","","","","","","","","","","","","","","","","","","","","","","","","","","","","","","","",""]
[null,null,null,null,null,null,null,null,null,null,null,null,null,null,null,null,null,null,null,null,null,null,null,null,null,null,null,null,null,"","","","","","","","","","","","","","","","","","","","","","","","","","","","","","","","","","","","","","","","","","","","","","","","","","","","","","","","","","","","","","","","","","","","","","","","","","","","","","","","","","",""]
[null,null,null,null,null,null,null,null,null,null,null,null,null,null,null,null,null,null,null,null,null,null,null,null,null,null,null,null,null,"","","","","","","","","","","","","","","","","","","","","","","","","","","","","","","","","","","","","","","","","","","","","","","","","","","","","","","","","","","","","","","","","","","","","","","","","","","","","","","","","","",""]
[null,null,null,null,null,null,null,null,null,null,null,null,null,null,null,null,null,null,null,null,null,null,null,null,null,null,null,null,null,"","","","","","","","","","","","","","","","","","","","","","","","","","","","","","","","","","","","","","","","","","","","","","","","","","","","","","","","","","","","","","","","","","","","","","","","","","","","","","","","","","",""]
[null,null,null,null,null,null,null,null,null,null,null,null,null,null,null,null,null,null,null,null,null,null,null,null,null,null,null,null,null,"","","","","","","","","","","","","","","","","","","","","","","","","","","","","","","","","","","","","","","","","","","","","","","","","","","","","","","","","","","","","","","","","","","","","","","","","","","","","","","","","","",""]
[null,null,null,null,null,null,null,null,null,null,null,null,null,null,null,null,null,null,null,null,null,null,null,null,null,null,null,null,null,"","","","","","","","","","","","","","","","","","","","","","","","","","","","","","","","","","","","","","","","","","","","","","","","","","","","","","","","","","","","","","","","","","","","","","","","","","","","","","","","","","",""]
[null,null,null,null,null,null,null,null,null,null,null,null,null,null,null,null,null,null,null,null,null,null,null,null,null,null,null,null,null,"","","","","","","","","","","","","","","","","","","","","","","","","","","","","","","","","","","","","","","","","","","","","","","","","","","","","","","","","","","","","","","","","","","","","","","","","","","","","","","","","","",""]
[null,null,null,null,null,null,null,null,null,null,null,null,null,null,null,null,null,null,null,null,null,null,null,null,null,null,null,null,null,"","","","","","","","","","","","","","","","","","","","","","","","","","","","","","","","","","","","","","","","","","","","","","","","","","","","","","","","","","","","","","","","","","","","","","","","","","","","","","","","","","",""]

{"sheet":"Print-out","index":2,"n_rows":73,"n_cols":26,"rows_kept":73,"cut":false,"hidden":false,"merged":[[16,0,16,2],[17,0,17,2],[16,3,16,5],[17,3,17,5],[15,0,15,2],[4,3,4,5],[5,3,5,5],[6,3,6,5],[7,3,7,5],[8,3,8,5],[10,0,10,2],[5,0,5,2],[11,0,11,2],[15,3,15,5],[9,0,9,2],[10,3,10,5],[11,3,11,5],[12,3,12,5],[0,4,0,6],[3,0,3,6],[1,7,1,10],[14,3,14,5],[13,3,13,5],[12,0,12,2],[13,0,13,2],[14,0,14,2],[4,0,4,2],[1,4,1,6],[0,2,0,3],[1,2,1,3],[6,0,6,2],[7,0,7,2],[8,0,8,2],[9,3,9,5]]}
[null,null,"Field Probe ID:  ",null,"176194",null,null,null,null,{"$f":"IF($E2=\"\",\"\",IF(ISNA(MATCH($E2,$Z$1:$Z$73,0)),\"\",SUM(OFFSET($Y1,0,0,MATCH($E2,$Z$1:$Z$73,0),1))))","v":4},"Observer: ",{"$f":"IF($J$1=\"\",\"\",IF(INDEX('Temperature Checks'!$C$6:$C$500,$J$1,1)=\"\",\"\",INDEX('Temperature Checks'!$C$6:$C$500,$J$1,1)))","v":"MAM"},null,null,null,null,null,null,null,null,null,null,null,null,{"$f":"IF(ISNA(MATCH($E$1,'Temperature Checks'!$A$6:$A$500,0)),0,MATCH($E$1,'Temperature Checks'!$A$6:$A$500,0))","v":1},{"$f":"IF($Y1=0,\"\",INDEX('Temperature Checks'!$B$6:$B$500,$Y1))","v":"12 12 2017"}]
[null,null,"Date of Check:  ",null,"6 11 2018",null,null,"NIST certified probe ID: ",null,null,null,{"$f":"IF($J$1=\"\",\"\",IF(INDEX('Temperature Checks'!$D$6:$D$500,$J$1,1)=\"\",\"\",INDEX('Temperature Checks'!$D$6:$D$500,$J$1,1)))","v":"11506500"},null,null,null,null,null,null,null,null,null,null,null,null,{"$f":"IF(ISNA(MATCH($E$1,OFFSET('Temperature Checks'!$A$6,$Y1,0,495-$Y1,1),0)),0,MATCH($E$1,OFFSET('Temperature Checks'!$A$6,$Y1,0,495-$Y1,1),0))","v":1},{"$f":"IF($Y2=0,\"\",INDEX('Temperature Checks'!$B$6:$B$500,SUM($Y$1:$Y2)))","v":"03 27 2018"}]
[null,null,null,null,null,null,null,null,null,null,null,null,null,null,null,null,null,null,null,null,null,null,null,null,{"$f":"IF(ISNA(MATCH($E$1,OFFSET('Temperature Checks'!$A$6,SUM($Y$1:$Y2),0,495-SUM($Y$1:$Y2),1),0)),0,MATCH($E$1,OFFSET('Temperature Checks'!$A$6,SUM($Y$1:$Y2),0,495-SUM($Y$1:$Y2),1),0))","v":2},{"$f":"IF($Y3=0,\"\",INDEX('Temperature Checks'!$B$6:$B$500,SUM($Y$1:$Y3)))","v":"6 11 2018"}]
["Temperature Checks (°C)",null,null,null,null,null,null,null,null,null,null,null,null,null,null,null,null,null,null,null,null,null,null,null,{"$f":"IF(ISNA(MATCH($E$1,OFFSET('Temperature Checks'!$A$6,SUM($Y$1:$Y3),0,495-SUM($Y$1:$Y3),1),0)),0,MATCH($E$1,OFFSET('Temperature Checks'!$A$6,SUM($Y$1:$Y3),0,495-SUM($Y$1:$Y3),1),0))","v":0},{"$f":"IF($Y4=0,\"\",INDEX('Temperature Checks'!$B$6:$B$500,SUM($Y$1:$Y4)))","v":""}]
["NIST",null,null,"Field",null,null,"Probe",null,null,null,"Field","Corrected",null,null,"Field","Corrected",null,null,"Field","Corrected",null,null,"Field","Corrected",{"$f":"IF(ISNA(MATCH($E$1,OFFSET('Temperature Checks'!$A$6,SUM($Y$1:$Y4),0,495-SUM($Y$1:$Y4),1),0)),0,MATCH($E$1,OFFSET('Temperature Checks'!$A$6,SUM($Y$1:$Y4),0,495-SUM($Y$1:$Y4),1),0))","v":0},{"$f":"IF($Y5=0,\"\",INDEX('Temperature Checks'!$B$6:$B$500,SUM($Y$1:$Y5)))","v":""}]
["Thermometer",null,null,"Probe",null,null,"Error",null,null,null,"Probe","NIST",null,null,"Probe","NIST",null,null,"Probe","NIST",null,null,"Probe","NIST",{"$f":"IF(ISNA(MATCH($E$1,OFFSET('Temperature Checks'!$A$6,SUM($Y$1:$Y5),0,495-SUM($Y$1:$Y5),1),0)),0,MATCH($E$1,OFFSET('Temperature Checks'!$A$6,SUM($Y$1:$Y5),0,495-SUM($Y$1:$Y5),1),0))","v":0},{"$f":"IF($Y6=0,\"\",INDEX('Temperature Checks'!$B$6:$B$500,SUM($Y$1:$Y6)))","v":""}]
[{"$f":"IF($J$1=\"\",\"\",IF(INDEX('Temperature Checks'!$AP$6:$AP$500,$J$1,1)=\"\",\"\",INDEX('Temperature Checks'!$AP$6:$AP$500,$J$1,1)))","v":0.03},null,null,{"$f":"IF($J$1=\"\",\"\",IF(INDEX('Temperature Checks'!$AD$6:$AD$500,$J$1,1)=\"\",\"\",INDEX('Temperature Checks'!$AD$6:$AD$500,$J$1,1)))","v":0.1},null,null,{"$f":"IF(NOT(ISERR(D7-A7)),D7-A7,\"\")","v":7.0000000000000007E-2},null,null,null,"Reading","Reading",null,null,"Reading","Reading",null,null,"Reading","Reading",null,null,"Reading","Reading",{"$f":"IF(ISNA(MATCH($E$1,OFFSET('Temperature Checks'!$A$6,SUM($Y$1:$Y6),0,495-SUM($Y$1:$Y6),1),0)),0,MATCH($E$1,OFFSET('Temperature Checks'!$A$6,SUM($Y$1:$Y6),0,495-SUM($Y$1:$Y6),1),0))","v":0},{"$f":"IF($Y7=0,\"\",INDEX('Temperature Checks'!$B$6:$B$500,SUM($Y$1:$Y7)))","v":""}]
[{"$f":"IF($J$1=\"\",\"\",IF(INDEX('Temperature Checks'!$AQ$6:$AQ$500,$J$1,1)=\"\",\"\",INDEX('Temperature Checks'!$AQ$6:$AQ$500,$J$1,1)))","v":4.9800000000000004},null,null,{"$f":"IF($J$1=\"\",\"\",IF(INDEX('Temperature Checks'!$AE$6:$AE$500,$J$1,1)=\"\",\"\",INDEX('Temperature Checks'!$AE$6:$AE$500,$J$1,1)))","v":5},null,null,1.9999999999999574E-2,null,null,null,"(°C)","(°C)",null,null,"(°C)","(°C)",null,null,"(°C)","(°C)",null,null,"(°C)","(°C)",{"$f":"IF(ISNA(MATCH($E$1,OFFSET('Temperature Checks'!$A$6,SUM($Y$1:$Y7),0,495-SUM($Y$1:$Y7),1),0)),0,MATCH($E$1,OFFSET('Temperature Checks'!$A$6,SUM($Y$1:$Y7),0,495-SUM($Y$1:$Y7),1),0))","v":0},{"$f":"IF($Y8=0,\"\",INDEX('Temperature Checks'!$B$6:$B$500,SUM($Y$1:$Y8)))","v":""}]
[{"$f":"IF($J$1=\"\",\"\",IF(INDEX('Temperature Checks'!$AR$6:$AR$500,$J$1,1)=\"\",\"\",INDEX('Temperature Checks'!$AR$6:$AR$500,$J$1,1)))","v":10},null,null,{"$f":"IF($J$1=\"\",\"\",IF(INDEX('Temperature Checks'!$AF$6:$AF$500,$J$1,1)=\"\",\"\",INDEX('Temperature Checks'!$AF$6:$AF$500,$J$1,1)))","v":10},null,null,0,null,null,{"$f":"IF(COUNT($D$7:$D$18)=0,\"\",IF(ISNA(LOOKUP(K9,$D$7:$D$18,{1,2,3,4,5,6,7,8,9,10,11,12})),0,LOOKUP(K9,$D$7:$D$18,{1,2,3,4,5,6,7,8,9,10,11,12})))","v":3},10,{"$f":"IF(COUNT($D$7:$D$18)=0,\"\",IF(J9=0,K9-$G$7,IF(J9=COUNT($D$7:$D$18),K9-INDEX($G$7:$G$18,COUNT($D$7:$D$18)),K9-(INDEX($G$7:$G$18,J9)+(INDEX($G$7:$G$18,J9+1)-INDEX($G$7:$G$18,J9))*(K9-INDEX($D$7:$D$18,J9))/(INDEX($D$7:$D$18,J9+1)-INDEX($D$7:$D$18,J9))))))","v":10},null,{"$f":"IF(COUNT($D$7:$D$18)=0,\"\",IF(ISNA(LOOKUP(O9,$D$7:$D$18,{1,2,3,4,5,6,7,8,9,10,11,12})),0,LOOKUP(O9,$D$7:$D$18,{1,2,3,4,5,6,7,8,9,10,11,12})))","v":4},16.5,{"$f":"IF(COUNT($D$7:$D$18)=0,\"\",IF(N9=0,O9-$G$7,IF(N9=COUNT($D$7:$D$18),O9-INDEX($G$7:$G$18,COUNT($D$7:$D$18)),O9-(INDEX($G$7:$G$18,N9)+(INDEX($G$7:$G$18,N9+1)-INDEX($G$7:$G$18,N9))*(O9-INDEX($D$7:$D$18,N9))/(INDEX($D$7:$D$18,N9+1)-INDEX($D$7:$D$18,N9))))))","v":16.516000000000002},null,{"$f":"IF(COUNT($D$7:$D$18)=0,\"\",IF(ISNA(LOOKUP(S9,$D$7:$D$18,{1,2,3,4,5,6,7,8,9,10,11,12})),0,LOOKUP(S9,$D$7:$D$18,{1,2,3,4,5,6,7,8,9,10,11,12})))","v":5},23,{"$f":"IF(COUNT($D$7:$D$18)=0,\"\",IF(R9=0,S9-$G$7,IF(R9=COUNT($D$7:$D$18),S9-INDEX($G$7:$G$18,COUNT($D$7:$D$18)),S9-(INDEX($G$7:$G$18,R9)+(INDEX($G$7:$G$18,R9+1)-INDEX($G$7:$G$18,R9))*(S9-INDEX($D$7:$D$18,R9))/(INDEX($D$7:$D$18,R9+1)-INDEX($D$7:$D$18,R9))))))","v":22.955000000000002},null,{"$f":"IF(COUNT($D$7:$D$18)=0,\"\",IF(ISNA(LOOKUP(W9,$D$7:$D$18,{1,2,3,4,5,6,7,8,9,10,11,12})),0,LOOKUP(W9,$D$7:$D$18,{1,2,3,4,5,6,7,8,9,10,11,12})))","v":6},29.5,{"$f":"IF(COUNT($D$7:$D$18)=0,\"\",IF(V9=0,W9-$G$7,IF(V9=COUNT($D$7:$D$18),W9-INDEX($G$7:$G$18,COUNT($D$7:$D$18)),W9-(INDEX($G$7:$G$18,V9)+(INDEX($G$7:$G$18,V9+1)-INDEX($G$7:$G$18,V9))*(W9-INDEX($D$7:$D$18,V9))/(INDEX($D$7:$D$18,V9+1)-INDEX($D$7:$D$18,V9))))))","v":29.400000000000002},{"$f":"IF(ISNA(MATCH($E$1,OFFSET('Temperature Checks'!$A$6,SUM($Y$1:$Y8),0,495-SUM($Y$1:$Y8),1),0)),0,MATCH($E$1,OFFSET('Temperature Checks'!$A$6,SUM($Y$1:$Y8),0,495-SUM($Y$1:$Y8),1),0))","v":0},{"$f":"IF($Y9=0,\"\",INDEX('Temperature Checks'!$B$6:$B$500,SUM($Y$1:$Y9)))","v":""}]
[{"$f":"IF($J$1=\"\",\"\",IF(INDEX('Temperature Checks'!$AS$6:$AS$500,$J$1,1)=\"\",\"\",INDEX('Temperature Checks'!$AS$6:$AS$500,$J$1,1)))","v":15.01},null,null,{"$f":"IF($J$1=\"\",\"\",IF(INDEX('Temperature Checks'!$AG$6:$AG$500,$J$1,1)=\"\",\"\",INDEX('Temperature Checks'!$AG$6:$AG$500,$J$1,1)))","v":15},null,null,-9.9999999999997868E-3,null,null,{"$f":"IF(COUNT($D$7:$D$18)=0,\"\",IF(ISNA(LOOKUP(K10,$D$7:$D$18,{1,2,3,4,5,6,7,8,9,10,11,12})),0,LOOKUP(K10,$D$7:$D$18,{1,2,3,4,5,6,7,8,9,10,11,12})))","v":3},10.1,10.100199999999999,null,{"$f":"IF(COUNT($D$7:$D$18)=0,\"\",IF(ISNA(LOOKUP(O10,$D$7:$D$18,{1,2,3,4,5,6,7,8,9,10,11,12})),0,LOOKUP(O10,$D$7:$D$18,{1,2,3,4,5,6,7,8,9,10,11,12})))","v":4},16.600000000000001,16.616400000000002,null,{"$f":"IF(COUNT($D$7:$D$18)=0,\"\",IF(ISNA(LOOKUP(S10,$D$7:$D$18,{1,2,3,4,5,6,7,8,9,10,11,12})),0,LOOKUP(S10,$D$7:$D$18,{1,2,3,4,5,6,7,8,9,10,11,12})))","v":5},23.1,{"$f":"IF(COUNT($D$7:$D$18)=0,\"\",IF(R10=0,S10-$G$7,IF(R10=COUNT($D$7:$D$18),S10-INDEX($G$7:$G$18,COUNT($D$7:$D$18)),S10-(INDEX($G$7:$G$18,R10)+(INDEX($G$7:$G$18,R10+1)-INDEX($G$7:$G$18,R10))*(S10-INDEX($D$7:$D$18,R10))/(INDEX($D$7:$D$18,R10+1)-INDEX($D$7:$D$18,R10))))))","v":23.052500000000002},null,{"$f":"IF(COUNT($D$7:$D$18)=0,\"\",IF(ISNA(LOOKUP(W10,$D$7:$D$18,{1,2,3,4,5,6,7,8,9,10,11,12})),0,LOOKUP(W10,$D$7:$D$18,{1,2,3,4,5,6,7,8,9,10,11,12})))","v":6},29.6,{"$f":"IF(COUNT($D$7:$D$18)=0,\"\",IF(V10=0,W10-$G$7,IF(V10=COUNT($D$7:$D$18),W10-INDEX($G$7:$G$18,COUNT($D$7:$D$18)),W10-(INDEX($G$7:$G$18,V10)+(INDEX($G$7:$G$18,V10+1)-INDEX($G$7:$G$18,V10))*(W10-INDEX($D$7:$D$18,V10))/(INDEX($D$7:$D$18,V10+1)-INDEX($D$7:$D$18,V10))))))","v":29.500000000000004},{"$f":"IF(ISNA(MATCH($E$1,OFFSET('Temperature Checks'!$A$6,SUM($Y$1:$Y9),0,495-SUM($Y$1:$Y9),1),0)),0,MATCH($E$1,OFFSET('Temperature Checks'!$A$6,SUM($Y$1:$Y9),0,495-SUM($Y$1:$Y9),1),0))","v":0},{"$f":"IF($Y10=0,\"\",INDEX('Temperature Checks'!$B$6:$B$500,SUM($Y$1:$Y10)))","v":""}]
[{"$f":"IF($J$1=\"\",\"\",IF(INDEX('Temperature Checks'!$AT$6:$AT$500,$J$1,1)=\"\",\"\",INDEX('Temperature Checks'!$AT$6:$AT$500,$J$1,1)))","v":20.03},null,null,{"$f":"IF($J$1=\"\",\"\",IF(INDEX('Temperature Checks'!$AH$6:$AH$500,$J$1,1)=\"\",\"\",INDEX('Temperature Checks'!$AH$6:$AH$500,$J$1,1)))","v":20},null,null,-3.0000000000001137E-2,null,null,{"$f":"IF(COUNT($D$7:$D$18)=0,\"\",IF(ISNA(LOOKUP(K11,$D$7:$D$18,{1,2,3,4,5,6,7,8,9,10,11,12})),0,LOOKUP(K11,$D$7:$D$18,{1,2,3,4,5,6,7,8,9,10,11,12})))","v":3},10.199999999999999,10.2004,null,{"$f":"IF(COUNT($D$7:$D$18)=0,\"\",IF(ISNA(LOOKUP(O11,$D$7:$D$18,{1,2,3,4,5,6,7,8,9,10,11,12})),0,LOOKUP(O11,$D$7:$D$18,{1,2,3,4,5,6,7,8,9,10,11,12})))","v":4},16.7,16.716799999999999,null,{"$f":"IF(COUNT($D$7:$D$18)=0,\"\",IF(ISNA(LOOKUP(S11,$D$7:$D$18,{1,2,3,4,5,6,7,8,9,10,11,12})),0,LOOKUP(S11,$D$7:$D$18,{1,2,3,4,5,6,7,8,9,10,11,12})))","v":5},23.2,23.150000000000002,null,{"$f":"IF(COUNT($D$7:$D$18)=0,\"\",IF(ISNA(LOOKUP(W11,$D$7:$D$18,{1,2,3,4,5,6,7,8,9,10,11,12})),0,LOOKUP(W11,$D$7:$D$18,{1,2,3,4,5,6,7,8,9,10,11,12})))","v":6},29.7,29.6,{"$f":"IF(ISNA(MATCH($E$1,OFFSET('Temperature Checks'!$A$6,SUM($Y$1:$Y10),0,495-SUM($Y$1:$Y10),1),0)),0,MATCH($E$1,OFFSET('Temperature Checks'!$A$6,SUM($Y$1:$Y10),0,495-SUM($Y$1:$Y10),1),0))","v":0},{"$f":"IF($Y11=0,\"\",INDEX('Temperature Checks'!$B$6:$B$500,SUM($Y$1:$Y11)))","v":""}]
[{"$f":"IF($J$1=\"\",\"\",IF(INDEX('Temperature Checks'!$AU$6:$AU$500,$J$1,1)=\"\",\"\",INDEX('Temperature Checks'!$AU$6:$AU$500,$J$1,1)))","v":25.1},null,null,{"$f":"IF($J$1=\"\",\"\",IF(INDEX('Temperature Checks'!$AI$6:$AI$500,$J$1,1)=\"\",\"\",INDEX('Temperature Checks'!$AI$6:$AI$500,$J$1,1)))","v":25.2},null,null,9.9999999999997868E-2,null,null,{"$f":"IF(COUNT($D$7:$D$18)=0,\"\",IF(ISNA(LOOKUP(K12,$D$7:$D$18,{1,2,3,4,5,6,7,8,9,10,11,12})),0,LOOKUP(K12,$D$7:$D$18,{1,2,3,4,5,6,7,8,9,10,11,12})))","v":3},10.3,10.300600000000001,null,{"$f":"IF(COUNT($D$7:$D$18)=0,\"\",IF(ISNA(LOOKUP(O12,$D$7:$D$18,{1,2,3,4,5,6,7,8,9,10,11,12})),0,LOOKUP(O12,$D$7:$D$18,{1,2,3,4,5,6,7,8,9,10,11,12})))","v":4},16.8,16.8172,null,{"$f":"IF(COUNT($D$7:$D$18)=0,\"\",IF(ISNA(LOOKUP(S12,$D$7:$D$18,{1,2,3,4,5,6,7,8,9,10,11,12})),0,LOOKUP(S12,$D$7:$D$18,{1,2,3,4,5,6,7,8,9,10,11,12})))","v":5},23.3,23.247500000000002,null,{"$f":"IF(COUNT($D$7:$D$18)=0,\"\",IF(ISNA(LOOKUP(W12,$D$7:$D$18,{1,2,3,4,5,6,7,8,9,10,11,12})),0,LOOKUP(W12,$D$7:$D$18,{1,2,3,4,5,6,7,8,9,10,11,12})))","v":6},29.8,29.700000000000003,{"$f":"IF(ISNA(MATCH($E$1,OFFSET('Temperature Checks'!$A$6,SUM($Y$1:$Y11),0,495-SUM($Y$1:$Y11),1),0)),0,MATCH($E$1,OFFSET('Temperature Checks'!$A$6,SUM($Y$1:$Y11),0,495-SUM($Y$1:$Y11),1),0))","v":0},{"$f":"IF($Y12=0,\"\",INDEX('Temperature Checks'!$B$6:$B$500,SUM($Y$1:$Y12)))","v":""}]
[{"$f":"IF($J$1=\"\",\"\",IF(INDEX('Temperature Checks'!$AV$6:$AV$500,$J$1,1)=\"\",\"\",INDEX('Temperature Checks'!$AV$6:$AV$500,$J$1,1)))","v":""},null,null,{"$f":"IF($J$1=\"\",\"\",IF(INDEX('Temperature Checks'!$AJ$6:$AJ$500,$J$1,1)=\"\",\"\",INDEX('Temperature Checks'!$AJ$6:$AJ$500,$J$1,1)))","v":""},null,null,"",null,null,{"$f":"IF(COUNT($D$7:$D$18)=0,\"\",IF(ISNA(LOOKUP(K13,$D$7:$D$18,{1,2,3,4,5,6,7,8,9,10,11,12})),0,LOOKUP(K13,$D$7:$D$18,{1,2,3,4,5,6,7,8,9,10,11,12})))","v":3},10.4,10.4008,null,{"$f":"IF(COUNT($D$7:$D$18)=0,\"\",IF(ISNA(LOOKUP(O13,$D$7:$D$18,{1,2,3,4,5,6,7,8,9,10,11,12})),0,LOOKUP(O13,$D$7:$D$18,{1,2,3,4,5,6,7,8,9,10,11,12})))","v":4},16.899999999999999,16.9176,null,{"$f":"IF(COUNT($D$7:$D$18)=0,\"\",IF(ISNA(LOOKUP(S13,$D$7:$D$18,{1,2,3,4,5,6,7,8,9,10,11,12})),0,LOOKUP(S13,$D$7:$D$18,{1,2,3,4,5,6,7,8,9,10,11,12})))","v":5},23.4,23.344999999999999,null,{"$f":"IF(COUNT($D$7:$D$18)=0,\"\",IF(ISNA(LOOKUP(W13,$D$7:$D$18,{1,2,3,4,5,6,7,8,9,10,11,12})),0,LOOKUP(W13,$D$7:$D$18,{1,2,3,4,5,6,7,8,9,10,11,12})))","v":6},29.9,29.8,{"$f":"IF(ISNA(MATCH($E$1,OFFSET('Temperature Checks'!$A$6,SUM($Y$1:$Y12),0,495-SUM($Y$1:$Y12),1),0)),0,MATCH($E$1,OFFSET('Temperature Checks'!$A$6,SUM($Y$1:$Y12),0,495-SUM($Y$1:$Y12),1),0))","v":0},{"$f":"IF($Y13=0,\"\",INDEX('Temperature Checks'!$B$6:$B$500,SUM($Y$1:$Y13)))","v":""}]
[{"$f":"IF($J$1=\"\",\"\",IF(INDEX('Temperature Checks'!$AW$6:$AW$500,$J$1,1)=\"\",\"\",INDEX('Temperature Checks'!$AW$6:$AW$500,$J$1,1)))","v":""},null,null,{"$f":"IF($J$1=\"\",\"\",IF(INDEX('Temperature Checks'!$AK$6:$AK$500,$J$1,1)=\"\",\"\",INDEX('Temperature Checks'!$AK$6:$AK$500,$J$1,1)))","v":""},null,null,"",null,null,{"$f":"IF(COUNT($D$7:$D$18)=0,\"\",IF(ISNA(LOOKUP(K14,$D$7:$D$18,{1,2,3,4,5,6,7,8,9,10,11,12})),0,LOOKUP(K14,$D$7:$D$18,{1,2,3,4,5,6,7,8,9,10,11,12})))","v":3},10.5,10.500999999999999,null,{"$f":"IF(COUNT($D$7:$D$18)=0,\"\",IF(ISNA(LOOKUP(O14,$D$7:$D$18,{1,2,3,4,5,6,7,8,9,10,11,12})),0,LOOKUP(O14,$D$7:$D$18,{1,2,3,4,5,6,7,8,9,10,11,12})))","v":4},17,17.018000000000001,null,{"$f":"IF(COUNT($D$7:$D$18)=0,\"\",IF(ISNA(LOOKUP(S14,$D$7:$D$18,{1,2,3,4,5,6,7,8,9,10,11,12})),0,LOOKUP(S14,$D$7:$D$18,{1,2,3,4,5,6,7,8,9,10,11,12})))","v":5},23.5,23.442500000000003,null,{"$f":"IF(COUNT($D$7:$D$18)=0,\"\",IF(ISNA(LOOKUP(W14,$D$7:$D$18,{1,2,3,4,5,6,7,8,9,10,11,12})),0,LOOKUP(W14,$D$7:$D$18,{1,2,3,4,5,6,7,8,9,10,11,12})))","v":6},30,29.900000000000002,{"$f":"IF(ISNA(MATCH($E$1,OFFSET('Temperature Checks'!$A$6,SUM($Y$1:$Y13),0,495-SUM($Y$1:$Y13),1),0)),0,MATCH($E$1,OFFSET('Temperature Checks'!$A$6,SUM($Y$1:$Y13),0,495-SUM($Y$1:$Y13),1),0))","v":0},{"$f":"IF($Y14=0,\"\",INDEX('Temperature Checks'!$B$6:$B$500,SUM($Y$1:$Y14)))","v":""}]
[{"$f":"IF($J$1=\"\",\"\",IF(INDEX('Temperature Checks'!$AX$6:$AX$500,$J$1,1)=\"\",\"\",INDEX('Temperature Checks'!$AX$6:$AX$500,$J$1,1)))","v":""},null,null,{"$f":"IF($J$1=\"\",\"\",IF(INDEX('Temperature Checks'!$AL$6:$AL$500,$J$1,1)=\"\",\"\",INDEX('Temperature Checks'!$AL$6:$AL$500,$J$1,1)))","v":""},null,null,"",null,null,{"$f":"IF(COUNT($D$7:$D$18)=0,\"\",IF(ISNA(LOOKUP(K15,$D$7:$D$18,{1,2,3,4,5,6,7,8,9,10,11,12})),0,LOOKUP(K15,$D$7:$D$18,{1,2,3,4,5,6,7,8,9,10,11,12})))","v":3},10.6,10.6012,null,{"$f":"IF(COUNT($D$7:$D$18)=0,\"\",IF(ISNA(LOOKUP(O15,$D$7:$D$18,{1,2,3,4,5,6,7,8,9,10,11,12})),0,LOOKUP(O15,$D$7:$D$18,{1,2,3,4,5,6,7,8,9,10,11,12})))","v":4},17.100000000000001,17.118400000000001,null,{"$f":"IF(COUNT($D$7:$D$18)=0,\"\",IF(ISNA(LOOKUP(S15,$D$7:$D$18,{1,2,3,4,5,6,7,8,9,10,11,12})),0,LOOKUP(S15,$D$7:$D$18,{1,2,3,4,5,6,7,8,9,10,11,12})))","v":5},23.6,23.540000000000003,null,{"$f":"IF(COUNT($D$7:$D$18)=0,\"\",IF(ISNA(LOOKUP(W15,$D$7:$D$18,{1,2,3,4,5,6,7,8,9,10,11,12})),0,LOOKUP(W15,$D$7:$D$18,{1,2,3,4,5,6,7,8,9,10,11,12})))","v":6},30.1,30.000000000000004,{"$f":"IF(ISNA(MATCH($E$1,OFFSET('Temperature Checks'!$A$6,SUM($Y$1:$Y14),0,495-SUM($Y$1:$Y14),1),0)),0,MATCH($E$1,OFFSET('Temperature Checks'!$A$6,SUM($Y$1:$Y14),0,495-SUM($Y$1:$Y14),1),0))","v":0},{"$f":"IF($Y15=0,\"\",INDEX('Temperature Checks'!$B$6:$B$500,SUM($Y$1:$Y15)))","v":""}]
[{"$f":"IF($J$1=\"\",\"\",IF(INDEX('Temperature Checks'!$AY$6:$AY$500,$J$1,1)=\"\",\"\",INDEX('Temperature Checks'!$AY$6:$AY$500,$J$1,1)))","v":""},null,null,{"$f":"IF($J$1=\"\",\"\",IF(INDEX('Temperature Checks'!$AM$6:$AM$500,$J$1,1)=\"\",\"\",INDEX('Temperature Checks'!$AM$6:$AM$500,$J$1,1)))","v":""},null,null,"",null,null,{"$f":"IF(COUNT($D$7:$D$18)=0,\"\",IF(ISNA(LOOKUP(K16,$D$7:$D$18,{1,2,3,4,5,6,7,8,9,10,11,12})),0,LOOKUP(K16,$D$7:$D$18,{1,2,3,4,5,6,7,8,9,10,11,12})))","v":3},10.7,10.7014,null,{"$f":"IF(COUNT($D$7:$D$18)=0,\"\",IF(ISNA(LOOKUP(O16,$D$7:$D$18,{1,2,3,4,5,6,7,8,9,10,11,12})),0,LOOKUP(O16,$D$7:$D$18,{1,2,3,4,5,6,7,8,9,10,11,12})))","v":4},17.2,17.218799999999998,null,{"$f":"IF(COUNT($D$7:$D$18)=0,\"\",IF(ISNA(LOOKUP(S16,$D$7:$D$18,{1,2,3,4,5,6,7,8,9,10,11,12})),0,LOOKUP(S16,$D$7:$D$18,{1,2,3,4,5,6,7,8,9,10,11,12})))","v":5},23.7,23.637500000000003,null,{"$f":"IF(COUNT($D$7:$D$18)=0,\"\",IF(ISNA(LOOKUP(W16,$D$7:$D$18,{1,2,3,4,5,6,7,8,9,10,11,12})),0,LOOKUP(W16,$D$7:$D$18,{1,2,3,4,5,6,7,8,9,10,11,12})))","v":6},30.2,30.1,{"$f":"IF(ISNA(MATCH($E$1,OFFSET('Temperature Checks'!$A$6,SUM($Y$1:$Y15),0,495-SUM($Y$1:$Y15),1),0)),0,MATCH($E$1,OFFSET('Temperature Checks'!$A$6,SUM($Y$1:$Y15),0,495-SUM($Y$1:$Y15),1),0))","v":0},{"$f":"IF($Y16=0,\"\",INDEX('Temperature Checks'!$B$6:$B$500,SUM($Y$1:$Y16)))","v":""}]
[{"$f":"IF($J$1=\"\",\"\",IF(INDEX('Temperature Checks'!$AZ$6:$AZ$500,$J$1,1)=\"\",\"\",INDEX('Temperature Checks'!$AZ$6:$AZ$500,$J$1,1)))","v":""},null,null,{"$f":"IF($J$1=\"\",\"\",IF(INDEX('Temperature Checks'!$AN$6:$AN$500,$J$1,1)=\"\",\"\",INDEX('Temperature Checks'!$AN$6:$AN$500,$J$1,1)))","v":""},null,null,"",null,null,{"$f":"IF(COUNT($D$7:$D$18)=0,\"\",IF(ISNA(LOOKUP(K17,$D$7:$D$18,{1,2,3,4,5,6,7,8,9,10,11,12})),0,LOOKUP(K17,$D$7:$D$18,{1,2,3,4,5,6,7,8,9,10,11,12})))","v":3},10.8,10.801600000000001,null,{"$f":"IF(COUNT($D$7:$D$18)=0,\"\",IF(ISNA(LOOKUP(O17,$D$7:$D$18,{1,2,3,4,5,6,7,8,9,10,11,12})),0,LOOKUP(O17,$D$7:$D$18,{1,2,3,4,5,6,7,8,9,10,11,12})))","v":4},17.3,17.319200000000002,null,{"$f":"IF(COUNT($D$7:$D$18)=0,\"\",IF(ISNA(LOOKUP(S17,$D$7:$D$18,{1,2,3,4,5,6,7,8,9,10,11,12})),0,LOOKUP(S17,$D$7:$D$18,{1,2,3,4,5,6,7,8,9,10,11,12})))","v":5},23.8,23.735000000000003,null,{"$f":"IF(COUNT($D$7:$D$18)=0,\"\",IF(ISNA(LOOKUP(W17,$D$7:$D$18,{1,2,3,4,5,6,7,8,9,10,11,12})),0,LOOKUP(W17,$D$7:$D$18,{1,2,3,4,5,6,7,8,9,10,11,12})))","v":6},30.3,30.200000000000003,{"$f":"IF(ISNA(MATCH($E$1,OFFSET('Temperature Checks'!$A$6,SUM($Y$1:$Y16),0,495-SUM($Y$1:$Y16),1),0)),0,MATCH($E$1,OFFSET('Temperature Checks'!$A$6,SUM($Y$1:$Y16),0,495-SUM($Y$1:$Y16),1),0))","v":0},{"$f":"IF($Y17=0,\"\",INDEX('Temperature Checks'!$B$6:$B$500,SUM($Y$1:$Y17)))","v":""}]
[{"$f":"IF($J$1=\"\",\"\",IF(INDEX('Temperature Checks'!$BA$6:$BA$500,$J$1,1)=\"\",\"\",INDEX('Temperature Checks'!$BA$6:$BA$500,$J$1,1)))","v":""},null,null,{"$f":"IF($J$1=\"\",\"\",IF(INDEX('Temperature Checks'!$AO$6:$AO$500,$J$1,1)=\"\",\"\",INDEX('Temperature Checks'!$AO$6:$AO$500,$J$1,1)))","v":""},null,null,"",null,null,{"$f":"IF(COUNT($D$7:$D$18)=0,\"\",IF(ISNA(LOOKUP(K18,$D$7:$D$18,{1,2,3,4,5,6,7,8,9,10,11,12})),0,LOOKUP(K18,$D$7:$D$18,{1,2,3,4,5,6,7,8,9,10,11,12})))","v":3},10.9,10.9018,null,{"$f":"IF(COUNT($D$7:$D$18)=0,\"\",IF(ISNA(LOOKUP(O18,$D$7:$D$18,{1,2,3,4,5,6,7,8,9,10,11,12})),0,LOOKUP(O18,$D$7:$D$18,{1,2,3,4,5,6,7,8,9,10,11,12})))","v":4},17.399999999999999,17.419599999999999,null,{"$f":"IF(COUNT($D$7:$D$18)=0,\"\",IF(ISNA(LOOKUP(S18,$D$7:$D$18,{1,2,3,4,5,6,7,8,9,10,11,12})),0,LOOKUP(S18,$D$7:$D$18,{1,2,3,4,5,6,7,8,9,10,11,12})))","v":5},23.9,23.8325,null,{"$f":"IF(COUNT($D$7:$D$18)=0,\"\",IF(ISNA(LOOKUP(W18,$D$7:$D$18,{1,2,3,4,5,6,7,8,9,10,11,12})),0,LOOKUP(W18,$D$7:$D$18,{1,2,3,4,5,6,7,8,9,10,11,12})))","v":6},30.4,30.3,{"$f":"IF(ISNA(MATCH($E$1,OFFSET('Temperature Checks'!$A$6,SUM($Y$1:$Y17),0,495-SUM($Y$1:$Y17),1),0)),0,MATCH($E$1,OFFSET('Temperature Checks'!$A$6,SUM($Y$1:$Y17),0,495-SUM($Y$1:$Y17),1),0))","v":0},{"$f":"IF($Y18=0,\"\",INDEX('Temperature Checks'!$B$6:$B$500,SUM($Y$1:$Y18)))","v":""}]
[null,null,null,null,null,null,null,null,null,{"$f":"IF(COUNT($D$7:$D$18)=0,\"\",IF(ISNA(LOOKUP(K19,$D$7:$D$18,{1,2,3,4,5,6,7,8,9,10,11,12})),0,LOOKUP(K19,$D$7:$D$18,{1,2,3,4,5,6,7,8,9,10,11,12})))","v":3},11,11.002000000000001,null,{"$f":"IF(COUNT($D$7:$D$18)=0,\"\",IF(ISNA(LOOKUP(O19,$D$7:$D$18,{1,2,3,4,5,6,7,8,9,10,11,12})),0,LOOKUP(O19,$D$7:$D$18,{1,2,3,4,5,6,7,8,9,10,11,12})))","v":4},17.5,17.52,null,{"$f":"IF(COUNT($D$7:$D$18)=0,\"\",IF(ISNA(LOOKUP(S19,$D$7:$D$18,{1,2,3,4,5,6,7,8,9,10,11,12})),0,LOOKUP(S19,$D$7:$D$18,{1,2,3,4,5,6,7,8,9,10,11,12})))","v":5},24,23.930000000000003,null,{"$f":"IF(COUNT($D$7:$D$18)=0,\"\",IF(ISNA(LOOKUP(W19,$D$7:$D$18,{1,2,3,4,5,6,7,8,9,10,11,12})),0,LOOKUP(W19,$D$7:$D$18,{1,2,3,4,5,6,7,8,9,10,11,12})))","v":6},30.5,30.400000000000002,{"$f":"IF(ISNA(MATCH($E$1,OFFSET('Temperature Checks'!$A$6,SUM($Y$1:$Y18),0,495-SUM($Y$1:$Y18),1),0)),0,MATCH($E$1,OFFSET('Temperature Checks'!$A$6,SUM($Y$1:$Y18),0,495-SUM($Y$1:$Y18),1),0))","v":0},{"$f":"IF($Y19=0,\"\",INDEX('Temperature Checks'!$B$6:$B$500,SUM($Y$1:$Y19)))","v":""}]
[null,null,"Field","Corrected",null,null,"Field","Corrected",null,{"$f":"IF(COUNT($D$7:$D$18)=0,\"\",IF(ISNA(LOOKUP(K20,$D$7:$D$18,{1,2,3,4,5,6,7,8,9,10,11,12})),0,LOOKUP(K20,$D$7:$D$18,{1,2,3,4,5,6,7,8,9,10,11,12})))","v":3},11.1,11.1022,null,{"$f":"IF(COUNT($D$7:$D$18)=0,\"\",IF(ISNA(LOOKUP(O20,$D$7:$D$18,{1,2,3,4,5,6,7,8,9,10,11,12})),0,LOOKUP(O20,$D$7:$D$18,{1,2,3,4,5,6,7,8,9,10,11,12})))","v":4},17.600000000000001,17.620400000000004,null,{"$f":"IF(COUNT($D$7:$D$18)=0,\"\",IF(ISNA(LOOKUP(S20,$D$7:$D$18,{1,2,3,4,5,6,7,8,9,10,11,12})),0,LOOKUP(S20,$D$7:$D$18,{1,2,3,4,5,6,7,8,9,10,11,12})))","v":5},24.1,24.027500000000003,null,{"$f":"IF(COUNT($D$7:$D$18)=0,\"\",IF(ISNA(LOOKUP(W20,$D$7:$D$18,{1,2,3,4,5,6,7,8,9,10,11,12})),0,LOOKUP(W20,$D$7:$D$18,{1,2,3,4,5,6,7,8,9,10,11,12})))","v":6},30.6,30.500000000000004,{"$f":"IF(ISNA(MATCH($E$1,OFFSET('Temperature Checks'!$A$6,SUM($Y$1:$Y19),0,495-SUM($Y$1:$Y19),1),0)),0,MATCH($E$1,OFFSET('Temperature Checks'!$A$6,SUM($Y$1:$Y19),0,495-SUM($Y$1:$Y19),1),0))","v":0},{"$f":"IF($Y20=0,\"\",INDEX('Temperature Checks'!$B$6:$B$500,SUM($Y$1:$Y20)))","v":""}]
[null,null,"Probe","NIST",null,null,"Probe","NIST",null,{"$f":"IF(COUNT($D$7:$D$18)=0,\"\",IF(ISNA(LOOKUP(K21,$D$7:$D$18,{1,2,3,4,5,6,7,8,9,10,11,12})),0,LOOKUP(K21,$D$7:$D$18,{1,2,3,4,5,6,7,8,9,10,11,12})))","v":3},11.2,11.202399999999999,null,{"$f":"IF(COUNT($D$7:$D$18)=0,\"\",IF(ISNA(LOOKUP(O21,$D$7:$D$18,{1,2,3,4,5,6,7,8,9,10,11,12})),0,LOOKUP(O21,$D$7:$D$18,{1,2,3,4,5,6,7,8,9,10,11,12})))","v":4},17.7,17.720800000000001,null,{"$f":"IF(COUNT($D$7:$D$18)=0,\"\",IF(ISNA(LOOKUP(S21,$D$7:$D$18,{1,2,3,4,5,6,7,8,9,10,11,12})),0,LOOKUP(S21,$D$7:$D$18,{1,2,3,4,5,6,7,8,9,10,11,12})))","v":5},24.2,24.125,null,{"$f":"IF(COUNT($D$7:$D$18)=0,\"\",IF(ISNA(LOOKUP(W21,$D$7:$D$18,{1,2,3,4,5,6,7,8,9,10,11,12})),0,LOOKUP(W21,$D$7:$D$18,{1,2,3,4,5,6,7,8,9,10,11,12})))","v":6},30.7,30.6,{"$f":"IF(ISNA(MATCH($E$1,OFFSET('Temperature Checks'!$A$6,SUM($Y$1:$Y20),0,495-SUM($Y$1:$Y20),1),0)),0,MATCH($E$1,OFFSET('Temperature Checks'!$A$6,SUM($Y$1:$Y20),0,495-SUM($Y$1:$Y20),1),0))","v":0},{"$f":"IF($Y21=0,\"\",INDEX('Temperature Checks'!$B$6:$B$500,SUM($Y$1:$Y21)))","v":""}]
[null,null,"Reading","Reading",null,null,"Reading","Reading",null,{"$f":"IF(COUNT($D$7:$D$18)=0,\"\",IF(ISNA(LOOKUP(K22,$D$7:$D$18,{1,2,3,4,5,6,7,8,9,10,11,12})),0,LOOKUP(K22,$D$7:$D$18,{1,2,3,4,5,6,7,8,9,10,11,12})))","v":3},11.3,11.3026,null,{"$f":"IF(COUNT($D$7:$D$18)=0,\"\",IF(ISNA(LOOKUP(O22,$D$7:$D$18,{1,2,3,4,5,6,7,8,9,10,11,12})),0,LOOKUP(O22,$D$7:$D$18,{1,2,3,4,5,6,7,8,9,10,11,12})))","v":4},17.8,17.821200000000001,null,{"$f":"IF(COUNT($D$7:$D$18)=0,\"\",IF(ISNA(LOOKUP(S22,$D$7:$D$18,{1,2,3,4,5,6,7,8,9,10,11,12})),0,LOOKUP(S22,$D$7:$D$18,{1,2,3,4,5,6,7,8,9,10,11,12})))","v":5},24.3,24.222500000000004,null,{"$f":"IF(COUNT($D$7:$D$18)=0,\"\",IF(ISNA(LOOKUP(W22,$D$7:$D$18,{1,2,3,4,5,6,7,8,9,10,11,12})),0,LOOKUP(W22,$D$7:$D$18,{1,2,3,4,5,6,7,8,9,10,11,12})))","v":6},30.8,30.700000000000003,{"$f":"IF(ISNA(MATCH($E$1,OFFSET('Temperature Checks'!$A$6,SUM($Y$1:$Y21),0,495-SUM($Y$1:$Y21),1),0)),0,MATCH($E$1,OFFSET('Temperature Checks'!$A$6,SUM($Y$1:$Y21),0,495-SUM($Y$1:$Y21),1),0))","v":0},{"$f":"IF($Y22=0,\"\",INDEX('Temperature Checks'!$B$6:$B$500,SUM($Y$1:$Y22)))","v":""}]
[null,null,"(°C)","(°C)",null,null,"(°C)","(°C)",null,{"$f":"IF(COUNT($D$7:$D$18)=0,\"\",IF(ISNA(LOOKUP(K23,$D$7:$D$18,{1,2,3,4,5,6,7,8,9,10,11,12})),0,LOOKUP(K23,$D$7:$D$18,{1,2,3,4,5,6,7,8,9,10,11,12})))","v":3},11.4,11.402800000000001,null,{"$f":"IF(COUNT($D$7:$D$18)=0,\"\",IF(ISNA(LOOKUP(O23,$D$7:$D$18,{1,2,3,4,5,6,7,8,9,10,11,12})),0,LOOKUP(O23,$D$7:$D$18,{1,2,3,4,5,6,7,8,9,10,11,12})))","v":4},17.899999999999999,17.921599999999998,null,{"$f":"IF(COUNT($D$7:$D$18)=0,\"\",IF(ISNA(LOOKUP(S23,$D$7:$D$18,{1,2,3,4,5,6,7,8,9,10,11,12})),0,LOOKUP(S23,$D$7:$D$18,{1,2,3,4,5,6,7,8,9,10,11,12})))","v":5},24.4,24.32,null,{"$f":"IF(COUNT($D$7:$D$18)=0,\"\",IF(ISNA(LOOKUP(W23,$D$7:$D$18,{1,2,3,4,5,6,7,8,9,10,11,12})),0,LOOKUP(W23,$D$7:$D$18,{1,2,3,4,5,6,7,8,9,10,11,12})))","v":6},30.9,30.8,{"$f":"IF(ISNA(MATCH($E$1,OFFSET('Temperature Checks'!$A$6,SUM($Y$1:$Y22),0,495-SUM($Y$1:$Y22),1),0)),0,MATCH($E$1,OFFSET('Temperature Checks'!$A$6,SUM($Y$1:$Y22),0,495-SUM($Y$1:$Y22),1),0))","v":0},{"$f":"IF($Y23=0,\"\",INDEX('Temperature Checks'!$B$6:$B$500,SUM($Y$1:$Y23)))","v":""}]
[null,{"$f":"IF(COUNT($D$7:$D$18)=0,\"\",IF(ISNA(LOOKUP(C24,$D$7:$D$18,{1,2,3,4,5,6,7,8,9,10,11,12})),0,LOOKUP(C24,$D$7:$D$18,{1,2,3,4,5,6,7,8,9,10,11,12})))","v":0},0,{"$f":"IF(COUNT($D$7:$D$18)=0,\"\",IF(B24=0,C24-$G$7,IF(B24=COUNT($D$7:$D$18),C24-INDEX($G$7:$G$18,COUNT($D$7:$D$18)),C24-(INDEX($G$7:$G$18,B24)+(INDEX($G$7:$G$18,B24+1)-INDEX($G$7:$G$18,B24))*(C24-INDEX($D$7:$D$18,B24))/(INDEX($D$7:$D$18,B24+1)-INDEX($D$7:$D$18,B24))))))","v":-7.0000000000000007E-2},null,{"$f":"IF(COUNT($D$7:$D$18)=0,\"\",IF(ISNA(LOOKUP(G24,$D$7:$D$18,{1,2,3,4,5,6,7,8,9,10,11,12})),0,LOOKUP(G24,$D$7:$D$18,{1,2,3,4,5,6,7,8,9,10,11,12})))","v":2},5,{"$f":"IF(COUNT($D$7:$D$18)=0,\"\",IF(F24=0,G24-$G$7,IF(F24=COUNT($D$7:$D$18),G24-INDEX($G$7:$G$18,COUNT($D$7:$D$18)),G24-(INDEX($G$7:$G$18,F24)+(INDEX($G$7:$G$18,F24+1)-INDEX($G$7:$G$18,F24))*(G24-INDEX($D$7:$D$18,F24))/(INDEX($D$7:$D$18,F24+1)-INDEX($D$7:$D$18,F24))))))","v":4.9800000000000004},null,{"$f":"IF(COUNT($D$7:$D$18)=0,\"\",IF(ISNA(LOOKUP(K24,$D$7:$D$18,{1,2,3,4,5,6,7,8,9,10,11,12})),0,LOOKUP(K24,$D$7:$D$18,{1,2,3,4,5,6,7,8,9,10,11,12})))","v":3},11.5,11.503,null,{"$f":"IF(COUNT($D$7:$D$18)=0,\"\",IF(ISNA(LOOKUP(O24,$D$7:$D$18,{1,2,3,4,5,6,7,8,9,10,11,12})),0,LOOKUP(O24,$D$7:$D$18,{1,2,3,4,5,6,7,8,9,10,11,12})))","v":4},18,18.022000000000002,null,{"$f":"IF(COUNT($D$7:$D$18)=0,\"\",IF(ISNA(LOOKUP(S24,$D$7:$D$18,{1,2,3,4,5,6,7,8,9,10,11,12})),0,LOOKUP(S24,$D$7:$D$18,{1,2,3,4,5,6,7,8,9,10,11,12})))","v":5},24.5,24.4175,null,{"$f":"IF(COUNT($D$7:$D$18)=0,\"\",IF(ISNA(LOOKUP(W24,$D$7:$D$18,{1,2,3,4,5,6,7,8,9,10,11,12})),0,LOOKUP(W24,$D$7:$D$18,{1,2,3,4,5,6,7,8,9,10,11,12})))","v":6},31,30.900000000000002,{"$f":"IF(ISNA(MATCH($E$1,OFFSET('Temperature Checks'!$A$6,SUM($Y$1:$Y23),0,495-SUM($Y$1:$Y23),1),0)),0,MATCH($E$1,OFFSET('Temperature Checks'!$A$6,SUM($Y$1:$Y23),0,495-SUM($Y$1:$Y23),1),0))","v":0},{"$f":"IF($Y24=0,\"\",INDEX('Temperature Checks'!$B$6:$B$500,SUM($Y$1:$Y24)))","v":""}]
[null,{"$f":"IF(COUNT($D$7:$D$18)=0,\"\",IF(ISNA(LOOKUP(C25,$D$7:$D$18,{1,2,3,4,5,6,7,8,9,10,11,12})),0,LOOKUP(C25,$D$7:$D$18,{1,2,3,4,5,6,7,8,9,10,11,12})))","v":1},0.1,0.03,null,{"$f":"IF(COUNT($D$7:$D$18)=0,\"\",IF(ISNA(LOOKUP(G25,$D$7:$D$18,{1,2,3,4,5,6,7,8,9,10,11,12})),0,LOOKUP(G25,$D$7:$D$18,{1,2,3,4,5,6,7,8,9,10,11,12})))","v":2},5.0999999999999996,5.0804,null,{"$f":"IF(COUNT($D$7:$D$18)=0,\"\",IF(ISNA(LOOKUP(K25,$D$7:$D$18,{1,2,3,4,5,6,7,8,9,10,11,12})),0,LOOKUP(K25,$D$7:$D$18,{1,2,3,4,5,6,7,8,9,10,11,12})))","v":3},11.6,11.603199999999999,null,{"$f":"IF(COUNT($D$7:$D$18)=0,\"\",IF(ISNA(LOOKUP(O25,$D$7:$D$18,{1,2,3,4,5,6,7,8,9,10,11,12})),0,LOOKUP(O25,$D$7:$D$18,{1,2,3,4,5,6,7,8,9,10,11,12})))","v":4},18.100000000000001,18.122400000000003,null,{"$f":"IF(COUNT($D$7:$D$18)=0,\"\",IF(ISNA(LOOKUP(S25,$D$7:$D$18,{1,2,3,4,5,6,7,8,9,10,11,12})),0,LOOKUP(S25,$D$7:$D$18,{1,2,3,4,5,6,7,8,9,10,11,12})))","v":5},24.6,24.515000000000004,null,{"$f":"IF(COUNT($D$7:$D$18)=0,\"\",IF(ISNA(LOOKUP(W25,$D$7:$D$18,{1,2,3,4,5,6,7,8,9,10,11,12})),0,LOOKUP(W25,$D$7:$D$18,{1,2,3,4,5,6,7,8,9,10,11,12})))","v":6},31.1,31.000000000000004,{"$f":"IF(ISNA(MATCH($E$1,OFFSET('Temperature Checks'!$A$6,SUM($Y$1:$Y24),0,495-SUM($Y$1:$Y24),1),0)),0,MATCH($E$1,OFFSET('Temperature Checks'!$A$6,SUM($Y$1:$Y24),0,495-SUM($Y$1:$Y24),1),0))","v":0},{"$f":"IF($Y25=0,\"\",INDEX('Temperature Checks'!$B$6:$B$500,SUM($Y$1:$Y25)))","v":""}]
[null,{"$f":"IF(COUNT($D$7:$D$18)=0,\"\",IF(ISNA(LOOKUP(C26,$D$7:$D$18,{1,2,3,4,5,6,7,8,9,10,11,12})),0,LOOKUP(C26,$D$7:$D$18,{1,2,3,4,5,6,7,8,9,10,11,12})))","v":1},0.2,0.13102040816326532,null,{"$f":"IF(COUNT($D$7:$D$18)=0,\"\",IF(ISNA(LOOKUP(G26,$D$7:$D$18,{1,2,3,4,5,6,7,8,9,10,11,12})),0,LOOKUP(G26,$D$7:$D$18,{1,2,3,4,5,6,7,8,9,10,11,12})))","v":2},5.2,5.1808000000000005,null,{"$f":"IF(COUNT($D$7:$D$18)=0,\"\",IF(ISNA(LOOKUP(K26,$D$7:$D$18,{1,2,3,4,5,6,7,8,9,10,11,12})),0,LOOKUP(K26,$D$7:$D$18,{1,2,3,4,5,6,7,8,9,10,11,12})))","v":3},11.7,11.703399999999998,null,{"$f":"IF(COUNT($D$7:$D$18)=0,\"\",IF(ISNA(LOOKUP(O26,$D$7:$D$18,{1,2,3,4,5,6,7,8,9,10,11,12})),0,LOOKUP(O26,$D$7:$D$18,{1,2,3,4,5,6,7,8,9,10,11,12})))","v":4},18.2,18.222799999999999,null,{"$f":"IF(COUNT($D$7:$D$18)=0,\"\",IF(ISNA(LOOKUP(S26,$D$7:$D$18,{1,2,3,4,5,6,7,8,9,10,11,12})),0,LOOKUP(S26,$D$7:$D$18,{1,2,3,4,5,6,7,8,9,10,11,12})))","v":5},24.7,24.612500000000001,null,{"$f":"IF(COUNT($D$7:$D$18)=0,\"\",IF(ISNA(LOOKUP(W26,$D$7:$D$18,{1,2,3,4,5,6,7,8,9,10,11,12})),0,LOOKUP(W26,$D$7:$D$18,{1,2,3,4,5,6,7,8,9,10,11,12})))","v":6},31.2,31.1,{"$f":"IF(ISNA(MATCH($E$1,OFFSET('Temperature Checks'!$A$6,SUM($Y$1:$Y25),0,495-SUM($Y$1:$Y25),1),0)),0,MATCH($E$1,OFFSET('Temperature Checks'!$A$6,SUM($Y$1:$Y25),0,495-SUM($Y$1:$Y25),1),0))","v":0},{"$f":"IF($Y26=0,\"\",INDEX('Temperature Checks'!$B$6:$B$500,SUM($Y$1:$Y26)))","v":""}]
[null,{"$f":"IF(COUNT($D$7:$D$18)=0,\"\",IF(ISNA(LOOKUP(C27,$D$7:$D$18,{1,2,3,4,5,6,7,8,9,10,11,12})),0,LOOKUP(C27,$D$7:$D$18,{1,2,3,4,5,6,7,8,9,10,11,12})))","v":1},0.3,0.23204081632653062,null,{"$f":"IF(COUNT($D$7:$D$18)=0,\"\",IF(ISNA(LOOKUP(G27,$D$7:$D$18,{1,2,3,4,5,6,7,8,9,10,11,12})),0,LOOKUP(G27,$D$7:$D$18,{1,2,3,4,5,6,7,8,9,10,11,12})))","v":2},5.3,5.2812000000000001,null,{"$f":"IF(COUNT($D$7:$D$18)=0,\"\",IF(ISNA(LOOKUP(K27,$D$7:$D$18,{1,2,3,4,5,6,7,8,9,10,11,12})),0,LOOKUP(K27,$D$7:$D$18,{1,2,3,4,5,6,7,8,9,10,11,12})))","v":3},11.8,11.803600000000001,null,{"$f":"IF(COUNT($D$7:$D$18)=0,\"\",IF(ISNA(LOOKUP(O27,$D$7:$D$18,{1,2,3,4,5,6,7,8,9,10,11,12})),0,LOOKUP(O27,$D$7:$D$18,{1,2,3,4,5,6,7,8,9,10,11,12})))","v":4},18.3,18.3232,null,{"$f":"IF(COUNT($D$7:$D$18)=0,\"\",IF(ISNA(LOOKUP(S27,$D$7:$D$18,{1,2,3,4,5,6,7,8,9,10,11,12})),0,LOOKUP(S27,$D$7:$D$18,{1,2,3,4,5,6,7,8,9,10,11,12})))","v":5},24.8,24.710000000000004,null,{"$f":"IF(COUNT($D$7:$D$18)=0,\"\",IF(ISNA(LOOKUP(W27,$D$7:$D$18,{1,2,3,4,5,6,7,8,9,10,11,12})),0,LOOKUP(W27,$D$7:$D$18,{1,2,3,4,5,6,7,8,9,10,11,12})))","v":6},31.3,31.200000000000003,{"$f":"IF(ISNA(MATCH($E$1,OFFSET('Temperature Checks'!$A$6,SUM($Y$1:$Y26),0,495-SUM($Y$1:$Y26),1),0)),0,MATCH($E$1,OFFSET('Temperature Checks'!$A$6,SUM($Y$1:$Y26),0,495-SUM($Y$1:$Y26),1),0))","v":0},{"$f":"IF($Y27=0,\"\",INDEX('Temperature Checks'!$B$6:$B$500,SUM($Y$1:$Y27)))","v":""}]
[null,{"$f":"IF(COUNT($D$7:$D$18)=0,\"\",IF(ISNA(LOOKUP(C28,$D$7:$D$18,{1,2,3,4,5,6,7,8,9,10,11,12})),0,LOOKUP(C28,$D$7:$D$18,{1,2,3,4,5,6,7,8,9,10,11,12})))","v":1},0.4,0.33306122448979597,null,{"$f":"IF(COUNT($D$7:$D$18)=0,\"\",IF(ISNA(LOOKUP(G28,$D$7:$D$18,{1,2,3,4,5,6,7,8,9,10,11,12})),0,LOOKUP(G28,$D$7:$D$18,{1,2,3,4,5,6,7,8,9,10,11,12})))","v":2},5.4,5.3816000000000006,null,{"$f":"IF(COUNT($D$7:$D$18)=0,\"\",IF(ISNA(LOOKUP(K28,$D$7:$D$18,{1,2,3,4,5,6,7,8,9,10,11,12})),0,LOOKUP(K28,$D$7:$D$18,{1,2,3,4,5,6,7,8,9,10,11,12})))","v":3},11.9,11.9038,null,{"$f":"IF(COUNT($D$7:$D$18)=0,\"\",IF(ISNA(LOOKUP(O28,$D$7:$D$18,{1,2,3,4,5,6,7,8,9,10,11,12})),0,LOOKUP(O28,$D$7:$D$18,{1,2,3,4,5,6,7,8,9,10,11,12})))","v":4},18.399999999999999,18.4236,null,{"$f":"IF(COUNT($D$7:$D$18)=0,\"\",IF(ISNA(LOOKUP(S28,$D$7:$D$18,{1,2,3,4,5,6,7,8,9,10,11,12})),0,LOOKUP(S28,$D$7:$D$18,{1,2,3,4,5,6,7,8,9,10,11,12})))","v":5},24.9,24.807500000000001,null,{"$f":"IF(COUNT($D$7:$D$18)=0,\"\",IF(ISNA(LOOKUP(W28,$D$7:$D$18,{1,2,3,4,5,6,7,8,9,10,11,12})),0,LOOKUP(W28,$D$7:$D$18,{1,2,3,4,5,6,7,8,9,10,11,12})))","v":6},31.4,31.3,{"$f":"IF(ISNA(MATCH($E$1,OFFSET('Temperature Checks'!$A$6,SUM($Y$1:$Y27),0,495-SUM($Y$1:$Y27),1),0)),0,MATCH($E$1,OFFSET('Temperature Checks'!$A$6,SUM($Y$1:$Y27),0,495-SUM($Y$1:$Y27),1),0))","v":0},{"$f":"IF($Y28=0,\"\",INDEX('Temperature Checks'!$B$6:$B$500,SUM($Y$1:$Y28)))","v":""}]
[null,{"$f":"IF(COUNT($D$7:$D$18)=0,\"\",IF(ISNA(LOOKUP(C29,$D$7:$D$18,{1,2,3,4,5,6,7,8,9,10,11,12})),0,LOOKUP(C29,$D$7:$D$18,{1,2,3,4,5,6,7,8,9,10,11,12})))","v":1},0.5,0.43408163265306127,null,{"$f":"IF(COUNT($D$7:$D$18)=0,\"\",IF(ISNA(LOOKUP(G29,$D$7:$D$18,{1,2,3,4,5,6,7,8,9,10,11,12})),0,LOOKUP(G29,$D$7:$D$18,{1,2,3,4,5,6,7,8,9,10,11,12})))","v":2},5.5,5.4820000000000002,null,{"$f":"IF(COUNT($D$7:$D$18)=0,\"\",IF(ISNA(LOOKUP(K29,$D$7:$D$18,{1,2,3,4,5,6,7,8,9,10,11,12})),0,LOOKUP(K29,$D$7:$D$18,{1,2,3,4,5,6,7,8,9,10,11,12})))","v":3},12,12.004,null,{"$f":"IF(COUNT($D$7:$D$18)=0,\"\",IF(ISNA(LOOKUP(O29,$D$7:$D$18,{1,2,3,4,5,6,7,8,9,10,11,12})),0,LOOKUP(O29,$D$7:$D$18,{1,2,3,4,5,6,7,8,9,10,11,12})))","v":4},18.5,18.524000000000001,null,{"$f":"IF(COUNT($D$7:$D$18)=0,\"\",IF(ISNA(LOOKUP(S29,$D$7:$D$18,{1,2,3,4,5,6,7,8,9,10,11,12})),0,LOOKUP(S29,$D$7:$D$18,{1,2,3,4,5,6,7,8,9,10,11,12})))","v":5},25,24.905000000000001,null,{"$f":"IF(COUNT($D$7:$D$18)=0,\"\",IF(ISNA(LOOKUP(W29,$D$7:$D$18,{1,2,3,4,5,6,7,8,9,10,11,12})),0,LOOKUP(W29,$D$7:$D$18,{1,2,3,4,5,6,7,8,9,10,11,12})))","v":6},31.5,31.400000000000002,{"$f":"IF(ISNA(MATCH($E$1,OFFSET('Temperature Checks'!$A$6,SUM($Y$1:$Y28),0,495-SUM($Y$1:$Y28),1),0)),0,MATCH($E$1,OFFSET('Temperature Checks'!$A$6,SUM($Y$1:$Y28),0,495-SUM($Y$1:$Y28),1),0))","v":0},{"$f":"IF($Y29=0,\"\",INDEX('Temperature Checks'!$B$6:$B$500,SUM($Y$1:$Y29)))","v":""}]
[null,{"$f":"IF(COUNT($D$7:$D$18)=0,\"\",IF(ISNA(LOOKUP(C30,$D$7:$D$18,{1,2,3,4,5,6,7,8,9,10,11,12})),0,LOOKUP(C30,$D$7:$D$18,{1,2,3,4,5,6,7,8,9,10,11,12})))","v":1},0.6,0.53510204081632651,null,{"$f":"IF(COUNT($D$7:$D$18)=0,\"\",IF(ISNA(LOOKUP(G30,$D$7:$D$18,{1,2,3,4,5,6,7,8,9,10,11,12})),0,LOOKUP(G30,$D$7:$D$18,{1,2,3,4,5,6,7,8,9,10,11,12})))","v":2},5.6,5.5823999999999998,null,{"$f":"IF(COUNT($D$7:$D$18)=0,\"\",IF(ISNA(LOOKUP(K30,$D$7:$D$18,{1,2,3,4,5,6,7,8,9,10,11,12})),0,LOOKUP(K30,$D$7:$D$18,{1,2,3,4,5,6,7,8,9,10,11,12})))","v":3},12.1,12.104199999999999,null,{"$f":"IF(COUNT($D$7:$D$18)=0,\"\",IF(ISNA(LOOKUP(O30,$D$7:$D$18,{1,2,3,4,5,6,7,8,9,10,11,12})),0,LOOKUP(O30,$D$7:$D$18,{1,2,3,4,5,6,7,8,9,10,11,12})))","v":4},18.600000000000001,18.624400000000001,null,{"$f":"IF(COUNT($D$7:$D$18)=0,\"\",IF(ISNA(LOOKUP(S30,$D$7:$D$18,{1,2,3,4,5,6,7,8,9,10,11,12})),0,LOOKUP(S30,$D$7:$D$18,{1,2,3,4,5,6,7,8,9,10,11,12})))","v":5},25.1,25.002500000000005,null,{"$f":"IF(COUNT($D$7:$D$18)=0,\"\",IF(ISNA(LOOKUP(W30,$D$7:$D$18,{1,2,3,4,5,6,7,8,9,10,11,12})),0,LOOKUP(W30,$D$7:$D$18,{1,2,3,4,5,6,7,8,9,10,11,12})))","v":6},31.6,31.500000000000004,{"$f":"IF(ISNA(MATCH($E$1,OFFSET('Temperature Checks'!$A$6,SUM($Y$1:$Y29),0,495-SUM($Y$1:$Y29),1),0)),0,MATCH($E$1,OFFSET('Temperature Checks'!$A$6,SUM($Y$1:$Y29),0,495-SUM($Y$1:$Y29),1),0))","v":0},{"$f":"IF($Y30=0,\"\",INDEX('Temperature Checks'!$B$6:$B$500,SUM($Y$1:$Y30)))","v":""}]
[null,{"$f":"IF(COUNT($D$7:$D$18)=0,\"\",IF(ISNA(LOOKUP(C31,$D$7:$D$18,{1,2,3,4,5,6,7,8,9,10,11,12})),0,LOOKUP(C31,$D$7:$D$18,{1,2,3,4,5,6,7,8,9,10,11,12})))","v":1},0.7,0.6361224489795918,null,{"$f":"IF(COUNT($D$7:$D$18)=0,\"\",IF(ISNA(LOOKUP(G31,$D$7:$D$18,{1,2,3,4,5,6,7,8,9,10,11,12})),0,LOOKUP(G31,$D$7:$D$18,{1,2,3,4,5,6,7,8,9,10,11,12})))","v":2},5.7,5.6828000000000003,null,{"$f":"IF(COUNT($D$7:$D$18)=0,\"\",IF(ISNA(LOOKUP(K31,$D$7:$D$18,{1,2,3,4,5,6,7,8,9,10,11,12})),0,LOOKUP(K31,$D$7:$D$18,{1,2,3,4,5,6,7,8,9,10,11,12})))","v":3},12.2,12.2044,null,{"$f":"IF(COUNT($D$7:$D$18)=0,\"\",IF(ISNA(LOOKUP(O31,$D$7:$D$18,{1,2,3,4,5,6,7,8,9,10,11,12})),0,LOOKUP(O31,$D$7:$D$18,{1,2,3,4,5,6,7,8,9,10,11,12})))","v":4},18.7,18.724799999999998,null,{"$f":"IF(COUNT($D$7:$D$18)=0,\"\",IF(ISNA(LOOKUP(S31,$D$7:$D$18,{1,2,3,4,5,6,7,8,9,10,11,12})),0,LOOKUP(S31,$D$7:$D$18,{1,2,3,4,5,6,7,8,9,10,11,12})))","v":6},25.2,25.1,null,{"$f":"IF(COUNT($D$7:$D$18)=0,\"\",IF(ISNA(LOOKUP(W31,$D$7:$D$18,{1,2,3,4,5,6,7,8,9,10,11,12})),0,LOOKUP(W31,$D$7:$D$18,{1,2,3,4,5,6,7,8,9,10,11,12})))","v":6},31.7,31.6,{"$f":"IF(ISNA(MATCH($E$1,OFFSET('Temperature Checks'!$A$6,SUM($Y$1:$Y30),0,495-SUM($Y$1:$Y30),1),0)),0,MATCH($E$1,OFFSET('Temperature Checks'!$A$6,SUM($Y$1:$Y30),0,495-SUM($Y$1:$Y30),1),0))","v":0},{"$f":"IF($Y31=0,\"\",INDEX('Temperature Checks'!$B$6:$B$500,SUM($Y$1:$Y31)))","v":""}]
[null,{"$f":"IF(COUNT($D$7:$D$18)=0,\"\",IF(ISNA(LOOKUP(C32,$D$7:$D$18,{1,2,3,4,5,6,7,8,9,10,11,12})),0,LOOKUP(C32,$D$7:$D$18,{1,2,3,4,5,6,7,8,9,10,11,12})))","v":1},0.8,0.73714285714285721,null,{"$f":"IF(COUNT($D$7:$D$18)=0,\"\",IF(ISNA(LOOKUP(G32,$D$7:$D$18,{1,2,3,4,5,6,7,8,9,10,11,12})),0,LOOKUP(G32,$D$7:$D$18,{1,2,3,4,5,6,7,8,9,10,11,12})))","v":2},5.8,5.7831999999999999,null,{"$f":"IF(COUNT($D$7:$D$18)=0,\"\",IF(ISNA(LOOKUP(K32,$D$7:$D$18,{1,2,3,4,5,6,7,8,9,10,11,12})),0,LOOKUP(K32,$D$7:$D$18,{1,2,3,4,5,6,7,8,9,10,11,12})))","v":3},12.3,12.304600000000001,null,{"$f":"IF(COUNT($D$7:$D$18)=0,\"\",IF(ISNA(LOOKUP(O32,$D$7:$D$18,{1,2,3,4,5,6,7,8,9,10,11,12})),0,LOOKUP(O32,$D$7:$D$18,{1,2,3,4,5,6,7,8,9,10,11,12})))","v":4},18.8,18.825200000000002,null,{"$f":"IF(COUNT($D$7:$D$18)=0,\"\",IF(ISNA(LOOKUP(S32,$D$7:$D$18,{1,2,3,4,5,6,7,8,9,10,11,12})),0,LOOKUP(S32,$D$7:$D$18,{1,2,3,4,5,6,7,8,9,10,11,12})))","v":6},25.3,25.200000000000003,null,{"$f":"IF(COUNT($D$7:$D$18)=0,\"\",IF(ISNA(LOOKUP(W32,$D$7:$D$18,{1,2,3,4,5,6,7,8,9,10,11,12})),0,LOOKUP(W32,$D$7:$D$18,{1,2,3,4,5,6,7,8,9,10,11,12})))","v":6},31.8,31.700000000000003,{"$f":"IF(ISNA(MATCH($E$1,OFFSET('Temperature Checks'!$A$6,SUM($Y$1:$Y31),0,495-SUM($Y$1:$Y31),1),0)),0,MATCH($E$1,OFFSET('Temperature Checks'!$A$6,SUM($Y$1:$Y31),0,495-SUM($Y$1:$Y31),1),0))","v":0},{"$f":"IF($Y32=0,\"\",INDEX('Temperature Checks'!$B$6:$B$500,SUM($Y$1:$Y32)))","v":""}]
[null,{"$f":"IF(COUNT($D$7:$D$18)=0,\"\",IF(ISNA(LOOKUP(C33,$D$7:$D$18,{1,2,3,4,5,6,7,8,9,10,11,12})),0,LOOKUP(C33,$D$7:$D$18,{1,2,3,4,5,6,7,8,9,10,11,12})))","v":1},0.9,0.83816326530612251,null,{"$f":"IF(COUNT($D$7:$D$18)=0,\"\",IF(ISNA(LOOKUP(G33,$D$7:$D$18,{1,2,3,4,5,6,7,8,9,10,11,12})),0,LOOKUP(G33,$D$7:$D$18,{1,2,3,4,5,6,7,8,9,10,11,12})))","v":2},5.9,5.8836000000000004,null,{"$f":"IF(COUNT($D$7:$D$18)=0,\"\",IF(ISNA(LOOKUP(K33,$D$7:$D$18,{1,2,3,4,5,6,7,8,9,10,11,12})),0,LOOKUP(K33,$D$7:$D$18,{1,2,3,4,5,6,7,8,9,10,11,12})))","v":3},12.4,12.4048,null,{"$f":"IF(COUNT($D$7:$D$18)=0,\"\",IF(ISNA(LOOKUP(O33,$D$7:$D$18,{1,2,3,4,5,6,7,8,9,10,11,12})),0,LOOKUP(O33,$D$7:$D$18,{1,2,3,4,5,6,7,8,9,10,11,12})))","v":4},18.899999999999999,18.925599999999999,null,{"$f":"IF(COUNT($D$7:$D$18)=0,\"\",IF(ISNA(LOOKUP(S33,$D$7:$D$18,{1,2,3,4,5,6,7,8,9,10,11,12})),0,LOOKUP(S33,$D$7:$D$18,{1,2,3,4,5,6,7,8,9,10,11,12})))","v":6},25.4,25.3,null,{"$f":"IF(COUNT($D$7:$D$18)=0,\"\",IF(ISNA(LOOKUP(W33,$D$7:$D$18,{1,2,3,4,5,6,7,8,9,10,11,12})),0,LOOKUP(W33,$D$7:$D$18,{1,2,3,4,5,6,7,8,9,10,11,12})))","v":6},31.9,31.8,{"$f":"IF(ISNA(MATCH($E$1,OFFSET('Temperature Checks'!$A$6,SUM($Y$1:$Y32),0,495-SUM($Y$1:$Y32),1),0)),0,MATCH($E$1,OFFSET('Temperature Checks'!$A$6,SUM($Y$1:$Y32),0,495-SUM($Y$1:$Y32),1),0))","v":0},{"$f":"IF($Y33=0,\"\",INDEX('Temperature Checks'!$B$6:$B$500,SUM($Y$1:$Y33)))","v":""}]
[null,{"$f":"IF(COUNT($D$7:$D$18)=0,\"\",IF(ISNA(LOOKUP(C34,$D$7:$D$18,{1,2,3,4,5,6,7,8,9,10,11,12})),0,LOOKUP(C34,$D$7:$D$18,{1,2,3,4,5,6,7,8,9,10,11,12})))","v":1},1,0.9391836734693878,null,{"$f":"IF(COUNT($D$7:$D$18)=0,\"\",IF(ISNA(LOOKUP(G34,$D$7:$D$18,{1,2,3,4,5,6,7,8,9,10,11,12})),0,LOOKUP(G34,$D$7:$D$18,{1,2,3,4,5,6,7,8,9,10,11,12})))","v":2},6,5.984,null,{"$f":"IF(COUNT($D$7:$D$18)=0,\"\",IF(ISNA(LOOKUP(K34,$D$7:$D$18,{1,2,3,4,5,6,7,8,9,10,11,12})),0,LOOKUP(K34,$D$7:$D$18,{1,2,3,4,5,6,7,8,9,10,11,12})))","v":3},12.5,12.504999999999999,null,{"$f":"IF(COUNT($D$7:$D$18)=0,\"\",IF(ISNA(LOOKUP(O34,$D$7:$D$18,{1,2,3,4,5,6,7,8,9,10,11,12})),0,LOOKUP(O34,$D$7:$D$18,{1,2,3,4,5,6,7,8,9,10,11,12})))","v":4},19,19.026,null,{"$f":"IF(COUNT($D$7:$D$18)=0,\"\",IF(ISNA(LOOKUP(S34,$D$7:$D$18,{1,2,3,4,5,6,7,8,9,10,11,12})),0,LOOKUP(S34,$D$7:$D$18,{1,2,3,4,5,6,7,8,9,10,11,12})))","v":6},25.5,25.400000000000002,null,{"$f":"IF(COUNT($D$7:$D$18)=0,\"\",IF(ISNA(LOOKUP(W34,$D$7:$D$18,{1,2,3,4,5,6,7,8,9,10,11,12})),0,LOOKUP(W34,$D$7:$D$18,{1,2,3,4,5,6,7,8,9,10,11,12})))","v":6},32,31.900000000000002,{"$f":"IF(ISNA(MATCH($E$1,OFFSET('Temperature Checks'!$A$6,SUM($Y$1:$Y33),0,495-SUM($Y$1:$Y33),1),0)),0,MATCH($E$1,OFFSET('Temperature Checks'!$A$6,SUM($Y$1:$Y33),0,495-SUM($Y$1:$Y33),1),0))","v":0},{"$f":"IF($Y34=0,\"\",INDEX('Temperature Checks'!$B$6:$B$500,SUM($Y$1:$Y34)))","v":""}]
[null,{"$f":"IF(COUNT($D$7:$D$18)=0,\"\",IF(ISNA(LOOKUP(C35,$D$7:$D$18,{1,2,3,4,5,6,7,8,9,10,11,12})),0,LOOKUP(C35,$D$7:$D$18,{1,2,3,4,5,6,7,8,9,10,11,12})))","v":1},1.1000000000000001,1.0402040816326532,null,{"$f":"IF(COUNT($D$7:$D$18)=0,\"\",IF(ISNA(LOOKUP(G35,$D$7:$D$18,{1,2,3,4,5,6,7,8,9,10,11,12})),0,LOOKUP(G35,$D$7:$D$18,{1,2,3,4,5,6,7,8,9,10,11,12})))","v":2},6.1,6.0843999999999996,null,{"$f":"IF(COUNT($D$7:$D$18)=0,\"\",IF(ISNA(LOOKUP(K35,$D$7:$D$18,{1,2,3,4,5,6,7,8,9,10,11,12})),0,LOOKUP(K35,$D$7:$D$18,{1,2,3,4,5,6,7,8,9,10,11,12})))","v":3},12.6,12.6052,null,{"$f":"IF(COUNT($D$7:$D$18)=0,\"\",IF(ISNA(LOOKUP(O35,$D$7:$D$18,{1,2,3,4,5,6,7,8,9,10,11,12})),0,LOOKUP(O35,$D$7:$D$18,{1,2,3,4,5,6,7,8,9,10,11,12})))","v":4},19.100000000000001,19.126400000000004,null,{"$f":"IF(COUNT($D$7:$D$18)=0,\"\",IF(ISNA(LOOKUP(S35,$D$7:$D$18,{1,2,3,4,5,6,7,8,9,10,11,12})),0,LOOKUP(S35,$D$7:$D$18,{1,2,3,4,5,6,7,8,9,10,11,12})))","v":6},25.6,25.500000000000004,null,{"$f":"IF(COUNT($D$7:$D$18)=0,\"\",IF(ISNA(LOOKUP(W35,$D$7:$D$18,{1,2,3,4,5,6,7,8,9,10,11,12})),0,LOOKUP(W35,$D$7:$D$18,{1,2,3,4,5,6,7,8,9,10,11,12})))","v":6},32.1,32,{"$f":"IF(ISNA(MATCH($E$1,OFFSET('Temperature Checks'!$A$6,SUM($Y$1:$Y34),0,495-SUM($Y$1:$Y34),1),0)),0,MATCH($E$1,OFFSET('Temperature Checks'!$A$6,SUM($Y$1:$Y34),0,495-SUM($Y$1:$Y34),1),0))","v":0},{"$f":"IF($Y35=0,\"\",INDEX('Temperature Checks'!$B$6:$B$500,SUM($Y$1:$Y35)))","v":""}]
[null,{"$f":"IF(COUNT($D$7:$D$18)=0,\"\",IF(ISNA(LOOKUP(C36,$D$7:$D$18,{1,2,3,4,5,6,7,8,9,10,11,12})),0,LOOKUP(C36,$D$7:$D$18,{1,2,3,4,5,6,7,8,9,10,11,12})))","v":1},1.2,1.1412244897959185,null,{"$f":"IF(COUNT($D$7:$D$18)=0,\"\",IF(ISNA(LOOKUP(G36,$D$7:$D$18,{1,2,3,4,5,6,7,8,9,10,11,12})),0,LOOKUP(G36,$D$7:$D$18,{1,2,3,4,5,6,7,8,9,10,11,12})))","v":2},6.2,6.1848000000000001,null,{"$f":"IF(COUNT($D$7:$D$18)=0,\"\",IF(ISNA(LOOKUP(K36,$D$7:$D$18,{1,2,3,4,5,6,7,8,9,10,11,12})),0,LOOKUP(K36,$D$7:$D$18,{1,2,3,4,5,6,7,8,9,10,11,12})))","v":3},12.7,12.705399999999999,null,{"$f":"IF(COUNT($D$7:$D$18)=0,\"\",IF(ISNA(LOOKUP(O36,$D$7:$D$18,{1,2,3,4,5,6,7,8,9,10,11,12})),0,LOOKUP(O36,$D$7:$D$18,{1,2,3,4,5,6,7,8,9,10,11,12})))","v":4},19.2,19.226800000000001,null,{"$f":"IF(COUNT($D$7:$D$18)=0,\"\",IF(ISNA(LOOKUP(S36,$D$7:$D$18,{1,2,3,4,5,6,7,8,9,10,11,12})),0,LOOKUP(S36,$D$7:$D$18,{1,2,3,4,5,6,7,8,9,10,11,12})))","v":6},25.7,25.6,null,{"$f":"IF(COUNT($D$7:$D$18)=0,\"\",IF(ISNA(LOOKUP(W36,$D$7:$D$18,{1,2,3,4,5,6,7,8,9,10,11,12})),0,LOOKUP(W36,$D$7:$D$18,{1,2,3,4,5,6,7,8,9,10,11,12})))","v":6},32.200000000000003,32.100000000000009,{"$f":"IF(ISNA(MATCH($E$1,OFFSET('Temperature Checks'!$A$6,SUM($Y$1:$Y35),0,495-SUM($Y$1:$Y35),1),0)),0,MATCH($E$1,OFFSET('Temperature Checks'!$A$6,SUM($Y$1:$Y35),0,495-SUM($Y$1:$Y35),1),0))","v":0},{"$f":"IF($Y36=0,\"\",INDEX('Temperature Checks'!$B$6:$B$500,SUM($Y$1:$Y36)))","v":""}]
[null,{"$f":"IF(COUNT($D$7:$D$18)=0,\"\",IF(ISNA(LOOKUP(C37,$D$7:$D$18,{1,2,3,4,5,6,7,8,9,10,11,12})),0,LOOKUP(C37,$D$7:$D$18,{1,2,3,4,5,6,7,8,9,10,11,12})))","v":1},1.3,1.2422448979591838,null,{"$f":"IF(COUNT($D$7:$D$18)=0,\"\",IF(ISNA(LOOKUP(G37,$D$7:$D$18,{1,2,3,4,5,6,7,8,9,10,11,12})),0,LOOKUP(G37,$D$7:$D$18,{1,2,3,4,5,6,7,8,9,10,11,12})))","v":2},6.3,6.2852000000000006,null,{"$f":"IF(COUNT($D$7:$D$18)=0,\"\",IF(ISNA(LOOKUP(K37,$D$7:$D$18,{1,2,3,4,5,6,7,8,9,10,11,12})),0,LOOKUP(K37,$D$7:$D$18,{1,2,3,4,5,6,7,8,9,10,11,12})))","v":3},12.8,12.8056,null,{"$f":"IF(COUNT($D$7:$D$18)=0,\"\",IF(ISNA(LOOKUP(O37,$D$7:$D$18,{1,2,3,4,5,6,7,8,9,10,11,12})),0,LOOKUP(O37,$D$7:$D$18,{1,2,3,4,5,6,7,8,9,10,11,12})))","v":4},19.3,19.327200000000001,null,{"$f":"IF(COUNT($D$7:$D$18)=0,\"\",IF(ISNA(LOOKUP(S37,$D$7:$D$18,{1,2,3,4,5,6,7,8,9,10,11,12})),0,LOOKUP(S37,$D$7:$D$18,{1,2,3,4,5,6,7,8,9,10,11,12})))","v":6},25.8,25.700000000000003,null,{"$f":"IF(COUNT($D$7:$D$18)=0,\"\",IF(ISNA(LOOKUP(W37,$D$7:$D$18,{1,2,3,4,5,6,7,8,9,10,11,12})),0,LOOKUP(W37,$D$7:$D$18,{1,2,3,4,5,6,7,8,9,10,11,12})))","v":6},32.299999999999997,32.200000000000003,{"$f":"IF(ISNA(MATCH($E$1,OFFSET('Temperature Checks'!$A$6,SUM($Y$1:$Y36),0,495-SUM($Y$1:$Y36),1),0)),0,MATCH($E$1,OFFSET('Temperature Checks'!$A$6,SUM($Y$1:$Y36),0,495-SUM($Y$1:$Y36),1),0))","v":0},{"$f":"IF($Y37=0,\"\",INDEX('Temperature Checks'!$B$6:$B$500,SUM($Y$1:$Y37)))","v":""}]
[null,{"$f":"IF(COUNT($D$7:$D$18)=0,\"\",IF(ISNA(LOOKUP(C38,$D$7:$D$18,{1,2,3,4,5,6,7,8,9,10,11,12})),0,LOOKUP(C38,$D$7:$D$18,{1,2,3,4,5,6,7,8,9,10,11,12})))","v":1},1.4,1.3432653061224491,null,{"$f":"IF(COUNT($D$7:$D$18)=0,\"\",IF(ISNA(LOOKUP(G38,$D$7:$D$18,{1,2,3,4,5,6,7,8,9,10,11,12})),0,LOOKUP(G38,$D$7:$D$18,{1,2,3,4,5,6,7,8,9,10,11,12})))","v":2},6.4,6.3856000000000011,null,{"$f":"IF(COUNT($D$7:$D$18)=0,\"\",IF(ISNA(LOOKUP(K38,$D$7:$D$18,{1,2,3,4,5,6,7,8,9,10,11,12})),0,LOOKUP(K38,$D$7:$D$18,{1,2,3,4,5,6,7,8,9,10,11,12})))","v":3},12.9,12.905800000000001,null,{"$f":"IF(COUNT($D$7:$D$18)=0,\"\",IF(ISNA(LOOKUP(O38,$D$7:$D$18,{1,2,3,4,5,6,7,8,9,10,11,12})),0,LOOKUP(O38,$D$7:$D$18,{1,2,3,4,5,6,7,8,9,10,11,12})))","v":4},19.399999999999999,19.427599999999998,null,{"$f":"IF(COUNT($D$7:$D$18)=0,\"\",IF(ISNA(LOOKUP(S38,$D$7:$D$18,{1,2,3,4,5,6,7,8,9,10,11,12})),0,LOOKUP(S38,$D$7:$D$18,{1,2,3,4,5,6,7,8,9,10,11,12})))","v":6},25.9,25.8,null,{"$f":"IF(COUNT($D$7:$D$18)=0,\"\",IF(ISNA(LOOKUP(W38,$D$7:$D$18,{1,2,3,4,5,6,7,8,9,10,11,12})),0,LOOKUP(W38,$D$7:$D$18,{1,2,3,4,5,6,7,8,9,10,11,12})))","v":6},32.4,32.299999999999997,{"$f":"IF(ISNA(MATCH($E$1,OFFSET('Temperature Checks'!$A$6,SUM($Y$1:$Y37),0,495-SUM($Y$1:$Y37),1),0)),0,MATCH($E$1,OFFSET('Temperature Checks'!$A$6,SUM($Y$1:$Y37),0,495-SUM($Y$1:$Y37),1),0))","v":0},{"$f":"IF($Y38=0,\"\",INDEX('Temperature Checks'!$B$6:$B$500,SUM($Y$1:$Y38)))","v":""}]
[null,{"$f":"IF(COUNT($D$7:$D$18)=0,\"\",IF(ISNA(LOOKUP(C39,$D$7:$D$18,{1,2,3,4,5,6,7,8,9,10,11,12})),0,LOOKUP(C39,$D$7:$D$18,{1,2,3,4,5,6,7,8,9,10,11,12})))","v":1},1.5,1.4442857142857144,null,{"$f":"IF(COUNT($D$7:$D$18)=0,\"\",IF(ISNA(LOOKUP(G39,$D$7:$D$18,{1,2,3,4,5,6,7,8,9,10,11,12})),0,LOOKUP(G39,$D$7:$D$18,{1,2,3,4,5,6,7,8,9,10,11,12})))","v":2},6.5,6.4860000000000007,null,{"$f":"IF(COUNT($D$7:$D$18)=0,\"\",IF(ISNA(LOOKUP(K39,$D$7:$D$18,{1,2,3,4,5,6,7,8,9,10,11,12})),0,LOOKUP(K39,$D$7:$D$18,{1,2,3,4,5,6,7,8,9,10,11,12})))","v":3},13,13.006,null,{"$f":"IF(COUNT($D$7:$D$18)=0,\"\",IF(ISNA(LOOKUP(O39,$D$7:$D$18,{1,2,3,4,5,6,7,8,9,10,11,12})),0,LOOKUP(O39,$D$7:$D$18,{1,2,3,4,5,6,7,8,9,10,11,12})))","v":4},19.5,19.528000000000002,null,{"$f":"IF(COUNT($D$7:$D$18)=0,\"\",IF(ISNA(LOOKUP(S39,$D$7:$D$18,{1,2,3,4,5,6,7,8,9,10,11,12})),0,LOOKUP(S39,$D$7:$D$18,{1,2,3,4,5,6,7,8,9,10,11,12})))","v":6},26,25.900000000000002,null,{"$f":"IF(COUNT($D$7:$D$18)=0,\"\",IF(ISNA(LOOKUP(W39,$D$7:$D$18,{1,2,3,4,5,6,7,8,9,10,11,12})),0,LOOKUP(W39,$D$7:$D$18,{1,2,3,4,5,6,7,8,9,10,11,12})))","v":6},32.5,32.400000000000006,{"$f":"IF(ISNA(MATCH($E$1,OFFSET('Temperature Checks'!$A$6,SUM($Y$1:$Y38),0,495-SUM($Y$1:$Y38),1),0)),0,MATCH($E$1,OFFSET('Temperature Checks'!$A$6,SUM($Y$1:$Y38),0,495-SUM($Y$1:$Y38),1),0))","v":0},{"$f":"IF($Y39=0,\"\",INDEX('Temperature Checks'!$B$6:$B$500,SUM($Y$1:$Y39)))","v":""}]
[null,{"$f":"IF(COUNT($D$7:$D$18)=0,\"\",IF(ISNA(LOOKUP(C40,$D$7:$D$18,{1,2,3,4,5,6,7,8,9,10,11,12})),0,LOOKUP(C40,$D$7:$D$18,{1,2,3,4,5,6,7,8,9,10,11,12})))","v":1},1.6,1.5453061224489799,null,{"$f":"IF(COUNT($D$7:$D$18)=0,\"\",IF(ISNA(LOOKUP(G40,$D$7:$D$18,{1,2,3,4,5,6,7,8,9,10,11,12})),0,LOOKUP(G40,$D$7:$D$18,{1,2,3,4,5,6,7,8,9,10,11,12})))","v":2},6.6,6.5864000000000003,null,{"$f":"IF(COUNT($D$7:$D$18)=0,\"\",IF(ISNA(LOOKUP(K40,$D$7:$D$18,{1,2,3,4,5,6,7,8,9,10,11,12})),0,LOOKUP(K40,$D$7:$D$18,{1,2,3,4,5,6,7,8,9,10,11,12})))","v":3},13.1,13.106199999999999,null,{"$f":"IF(COUNT($D$7:$D$18)=0,\"\",IF(ISNA(LOOKUP(O40,$D$7:$D$18,{1,2,3,4,5,6,7,8,9,10,11,12})),0,LOOKUP(O40,$D$7:$D$18,{1,2,3,4,5,6,7,8,9,10,11,12})))","v":4},19.600000000000001,19.628400000000003,null,{"$f":"IF(COUNT($D$7:$D$18)=0,\"\",IF(ISNA(LOOKUP(S40,$D$7:$D$18,{1,2,3,4,5,6,7,8,9,10,11,12})),0,LOOKUP(S40,$D$7:$D$18,{1,2,3,4,5,6,7,8,9,10,11,12})))","v":6},26.1,26.000000000000004,null,{"$f":"IF(COUNT($D$7:$D$18)=0,\"\",IF(ISNA(LOOKUP(W40,$D$7:$D$18,{1,2,3,4,5,6,7,8,9,10,11,12})),0,LOOKUP(W40,$D$7:$D$18,{1,2,3,4,5,6,7,8,9,10,11,12})))","v":6},32.6,32.5,{"$f":"IF(ISNA(MATCH($E$1,OFFSET('Temperature Checks'!$A$6,SUM($Y$1:$Y39),0,495-SUM($Y$1:$Y39),1),0)),0,MATCH($E$1,OFFSET('Temperature Checks'!$A$6,SUM($Y$1:$Y39),0,495-SUM($Y$1:$Y39),1),0))","v":0},{"$f":"IF($Y40=0,\"\",INDEX('Temperature Checks'!$B$6:$B$500,SUM($Y$1:$Y40)))","v":""}]
[null,{"$f":"IF(COUNT($D$7:$D$18)=0,\"\",IF(ISNA(LOOKUP(C41,$D$7:$D$18,{1,2,3,4,5,6,7,8,9,10,11,12})),0,LOOKUP(C41,$D$7:$D$18,{1,2,3,4,5,6,7,8,9,10,11,12})))","v":1},1.7,1.646326530612245,null,{"$f":"IF(COUNT($D$7:$D$18)=0,\"\",IF(ISNA(LOOKUP(G41,$D$7:$D$18,{1,2,3,4,5,6,7,8,9,10,11,12})),0,LOOKUP(G41,$D$7:$D$18,{1,2,3,4,5,6,7,8,9,10,11,12})))","v":2},6.7,6.6868000000000007,null,{"$f":"IF(COUNT($D$7:$D$18)=0,\"\",IF(ISNA(LOOKUP(K41,$D$7:$D$18,{1,2,3,4,5,6,7,8,9,10,11,12})),0,LOOKUP(K41,$D$7:$D$18,{1,2,3,4,5,6,7,8,9,10,11,12})))","v":3},13.2,13.206399999999999,null,{"$f":"IF(COUNT($D$7:$D$18)=0,\"\",IF(ISNA(LOOKUP(O41,$D$7:$D$18,{1,2,3,4,5,6,7,8,9,10,11,12})),0,LOOKUP(O41,$D$7:$D$18,{1,2,3,4,5,6,7,8,9,10,11,12})))","v":4},19.7,19.7288,null,{"$f":"IF(COUNT($D$7:$D$18)=0,\"\",IF(ISNA(LOOKUP(S41,$D$7:$D$18,{1,2,3,4,5,6,7,8,9,10,11,12})),0,LOOKUP(S41,$D$7:$D$18,{1,2,3,4,5,6,7,8,9,10,11,12})))","v":6},26.2,26.1,null,{"$f":"IF(COUNT($D$7:$D$18)=0,\"\",IF(ISNA(LOOKUP(W41,$D$7:$D$18,{1,2,3,4,5,6,7,8,9,10,11,12})),0,LOOKUP(W41,$D$7:$D$18,{1,2,3,4,5,6,7,8,9,10,11,12})))","v":6},32.700000000000003,32.600000000000009,{"$f":"IF(ISNA(MATCH($E$1,OFFSET('Temperature Checks'!$A$6,SUM($Y$1:$Y40),0,495-SUM($Y$1:$Y40),1),0)),0,MATCH($E$1,OFFSET('Temperature Checks'!$A$6,SUM($Y$1:$Y40),0,495-SUM($Y$1:$Y40),1),0))","v":0},{"$f":"IF($Y41=0,\"\",INDEX('Temperature Checks'!$B$6:$B$500,SUM($Y$1:$Y41)))","v":""}]
[null,{"$f":"IF(COUNT($D$7:$D$18)=0,\"\",IF(ISNA(LOOKUP(C42,$D$7:$D$18,{1,2,3,4,5,6,7,8,9,10,11,12})),0,LOOKUP(C42,$D$7:$D$18,{1,2,3,4,5,6,7,8,9,10,11,12})))","v":1},1.8,1.7473469387755103,null,{"$f":"IF(COUNT($D$7:$D$18)=0,\"\",IF(ISNA(LOOKUP(G42,$D$7:$D$18,{1,2,3,4,5,6,7,8,9,10,11,12})),0,LOOKUP(G42,$D$7:$D$18,{1,2,3,4,5,6,7,8,9,10,11,12})))","v":2},6.8,6.7872000000000003,null,{"$f":"IF(COUNT($D$7:$D$18)=0,\"\",IF(ISNA(LOOKUP(K42,$D$7:$D$18,{1,2,3,4,5,6,7,8,9,10,11,12})),0,LOOKUP(K42,$D$7:$D$18,{1,2,3,4,5,6,7,8,9,10,11,12})))","v":3},13.3,13.306600000000001,null,{"$f":"IF(COUNT($D$7:$D$18)=0,\"\",IF(ISNA(LOOKUP(O42,$D$7:$D$18,{1,2,3,4,5,6,7,8,9,10,11,12})),0,LOOKUP(O42,$D$7:$D$18,{1,2,3,4,5,6,7,8,9,10,11,12})))","v":4},19.8,19.8292,null,{"$f":"IF(COUNT($D$7:$D$18)=0,\"\",IF(ISNA(LOOKUP(S42,$D$7:$D$18,{1,2,3,4,5,6,7,8,9,10,11,12})),0,LOOKUP(S42,$D$7:$D$18,{1,2,3,4,5,6,7,8,9,10,11,12})))","v":6},26.3,26.200000000000003,null,{"$f":"IF(COUNT($D$7:$D$18)=0,\"\",IF(ISNA(LOOKUP(W42,$D$7:$D$18,{1,2,3,4,5,6,7,8,9,10,11,12})),0,LOOKUP(W42,$D$7:$D$18,{1,2,3,4,5,6,7,8,9,10,11,12})))","v":6},32.799999999999997,32.700000000000003,{"$f":"IF(ISNA(MATCH($E$1,OFFSET('Temperature Checks'!$A$6,SUM($Y$1:$Y41),0,495-SUM($Y$1:$Y41),1),0)),0,MATCH($E$1,OFFSET('Temperature Checks'!$A$6,SUM($Y$1:$Y41),0,495-SUM($Y$1:$Y41),1),0))","v":0},{"$f":"IF($Y42=0,\"\",INDEX('Temperature Checks'!$B$6:$B$500,SUM($Y$1:$Y42)))","v":""}]
[null,{"$f":"IF(COUNT($D$7:$D$18)=0,\"\",IF(ISNA(LOOKUP(C43,$D$7:$D$18,{1,2,3,4,5,6,7,8,9,10,11,12})),0,LOOKUP(C43,$D$7:$D$18,{1,2,3,4,5,6,7,8,9,10,11,12})))","v":1},1.9,1.8483673469387756,null,{"$f":"IF(COUNT($D$7:$D$18)=0,\"\",IF(ISNA(LOOKUP(G43,$D$7:$D$18,{1,2,3,4,5,6,7,8,9,10,11,12})),0,LOOKUP(G43,$D$7:$D$18,{1,2,3,4,5,6,7,8,9,10,11,12})))","v":2},6.9,6.8876000000000008,null,{"$f":"IF(COUNT($D$7:$D$18)=0,\"\",IF(ISNA(LOOKUP(K43,$D$7:$D$18,{1,2,3,4,5,6,7,8,9,10,11,12})),0,LOOKUP(K43,$D$7:$D$18,{1,2,3,4,5,6,7,8,9,10,11,12})))","v":3},13.4,13.4068,null,{"$f":"IF(COUNT($D$7:$D$18)=0,\"\",IF(ISNA(LOOKUP(O43,$D$7:$D$18,{1,2,3,4,5,6,7,8,9,10,11,12})),0,LOOKUP(O43,$D$7:$D$18,{1,2,3,4,5,6,7,8,9,10,11,12})))","v":4},19.899999999999999,19.929600000000001,null,{"$f":"IF(COUNT($D$7:$D$18)=0,\"\",IF(ISNA(LOOKUP(S43,$D$7:$D$18,{1,2,3,4,5,6,7,8,9,10,11,12})),0,LOOKUP(S43,$D$7:$D$18,{1,2,3,4,5,6,7,8,9,10,11,12})))","v":6},26.4,26.3,null,{"$f":"IF(COUNT($D$7:$D$18)=0,\"\",IF(ISNA(LOOKUP(W43,$D$7:$D$18,{1,2,3,4,5,6,7,8,9,10,11,12})),0,LOOKUP(W43,$D$7:$D$18,{1,2,3,4,5,6,7,8,9,10,11,12})))","v":6},32.9,32.799999999999997,{"$f":"IF(ISNA(MATCH($E$1,OFFSET('Temperature Checks'!$A$6,SUM($Y$1:$Y42),0,495-SUM($Y$1:$Y42),1),0)),0,MATCH($E$1,OFFSET('Temperature Checks'!$A$6,SUM($Y$1:$Y42),0,495-SUM($Y$1:$Y42),1),0))","v":0},{"$f":"IF($Y43=0,\"\",INDEX('Temperature Checks'!$B$6:$B$500,SUM($Y$1:$Y43)))","v":""}]
[null,{"$f":"IF(COUNT($D$7:$D$18)=0,\"\",IF(ISNA(LOOKUP(C44,$D$7:$D$18,{1,2,3,4,5,6,7,8,9,10,11,12})),0,LOOKUP(C44,$D$7:$D$18,{1,2,3,4,5,6,7,8,9,10,11,12})))","v":1},2,1.9493877551020409,null,{"$f":"IF(COUNT($D$7:$D$18)=0,\"\",IF(ISNA(LOOKUP(G44,$D$7:$D$18,{1,2,3,4,5,6,7,8,9,10,11,12})),0,LOOKUP(G44,$D$7:$D$18,{1,2,3,4,5,6,7,8,9,10,11,12})))","v":2},7,6.9880000000000004,null,{"$f":"IF(COUNT($D$7:$D$18)=0,\"\",IF(ISNA(LOOKUP(K44,$D$7:$D$18,{1,2,3,4,5,6,7,8,9,10,11,12})),0,LOOKUP(K44,$D$7:$D$18,{1,2,3,4,5,6,7,8,9,10,11,12})))","v":3},13.5,13.507,null,{"$f":"IF(COUNT($D$7:$D$18)=0,\"\",IF(ISNA(LOOKUP(O44,$D$7:$D$18,{1,2,3,4,5,6,7,8,9,10,11,12})),0,LOOKUP(O44,$D$7:$D$18,{1,2,3,4,5,6,7,8,9,10,11,12})))","v":5},20,20.03,null,{"$f":"IF(COUNT($D$7:$D$18)=0,\"\",IF(ISNA(LOOKUP(S44,$D$7:$D$18,{1,2,3,4,5,6,7,8,9,10,11,12})),0,LOOKUP(S44,$D$7:$D$18,{1,2,3,4,5,6,7,8,9,10,11,12})))","v":6},26.5,26.400000000000002,null,{"$f":"IF(COUNT($D$7:$D$18)=0,\"\",IF(ISNA(LOOKUP(W44,$D$7:$D$18,{1,2,3,4,5,6,7,8,9,10,11,12})),0,LOOKUP(W44,$D$7:$D$18,{1,2,3,4,5,6,7,8,9,10,11,12})))","v":6},33,32.900000000000006,{"$f":"IF(ISNA(MATCH($E$1,OFFSET('Temperature Checks'!$A$6,SUM($Y$1:$Y43),0,495-SUM($Y$1:$Y43),1),0)),0,MATCH($E$1,OFFSET('Temperature Checks'!$A$6,SUM($Y$1:$Y43),0,495-SUM($Y$1:$Y43),1),0))","v":0},{"$f":"IF($Y44=0,\"\",INDEX('Temperature Checks'!$B$6:$B$500,SUM($Y$1:$Y44)))","v":""}]
[null,{"$f":"IF(COUNT($D$7:$D$18)=0,\"\",IF(ISNA(LOOKUP(C45,$D$7:$D$18,{1,2,3,4,5,6,7,8,9,10,11,12})),0,LOOKUP(C45,$D$7:$D$18,{1,2,3,4,5,6,7,8,9,10,11,12})))","v":1},2.1,2.0504081632653062,null,{"$f":"IF(COUNT($D$7:$D$18)=0,\"\",IF(ISNA(LOOKUP(G45,$D$7:$D$18,{1,2,3,4,5,6,7,8,9,10,11,12})),0,LOOKUP(G45,$D$7:$D$18,{1,2,3,4,5,6,7,8,9,10,11,12})))","v":2},7.1,7.0884,null,{"$f":"IF(COUNT($D$7:$D$18)=0,\"\",IF(ISNA(LOOKUP(K45,$D$7:$D$18,{1,2,3,4,5,6,7,8,9,10,11,12})),0,LOOKUP(K45,$D$7:$D$18,{1,2,3,4,5,6,7,8,9,10,11,12})))","v":3},13.6,13.607199999999999,null,{"$f":"IF(COUNT($D$7:$D$18)=0,\"\",IF(ISNA(LOOKUP(O45,$D$7:$D$18,{1,2,3,4,5,6,7,8,9,10,11,12})),0,LOOKUP(O45,$D$7:$D$18,{1,2,3,4,5,6,7,8,9,10,11,12})))","v":5},20.100000000000001,20.127500000000001,null,{"$f":"IF(COUNT($D$7:$D$18)=0,\"\",IF(ISNA(LOOKUP(S45,$D$7:$D$18,{1,2,3,4,5,6,7,8,9,10,11,12})),0,LOOKUP(S45,$D$7:$D$18,{1,2,3,4,5,6,7,8,9,10,11,12})))","v":6},26.6,26.500000000000004,null,{"$f":"IF(COUNT($D$7:$D$18)=0,\"\",IF(ISNA(LOOKUP(W45,$D$7:$D$18,{1,2,3,4,5,6,7,8,9,10,11,12})),0,LOOKUP(W45,$D$7:$D$18,{1,2,3,4,5,6,7,8,9,10,11,12})))","v":6},33.1,33,{"$f":"IF(ISNA(MATCH($E$1,OFFSET('Temperature Checks'!$A$6,SUM($Y$1:$Y44),0,495-SUM($Y$1:$Y44),1),0)),0,MATCH($E$1,OFFSET('Temperature Checks'!$A$6,SUM($Y$1:$Y44),0,495-SUM($Y$1:$Y44),1),0))","v":0},{"$f":"IF($Y45=0,\"\",INDEX('Temperature Checks'!$B$6:$B$500,SUM($Y$1:$Y45)))","v":""}]
[null,{"$f":"IF(COUNT($D$7:$D$18)=0,\"\",IF(ISNA(LOOKUP(C46,$D$7:$D$18,{1,2,3,4,5,6,7,8,9,10,11,12})),0,LOOKUP(C46,$D$7:$D$18,{1,2,3,4,5,6,7,8,9,10,11,12})))","v":1},2.2000000000000002,2.1514285714285717,null,{"$f":"IF(COUNT($D$7:$D$18)=0,\"\",IF(ISNA(LOOKUP(G46,$D$7:$D$18,{1,2,3,4,5,6,7,8,9,10,11,12})),0,LOOKUP(G46,$D$7:$D$18,{1,2,3,4,5,6,7,8,9,10,11,12})))","v":2},7.2,7.1888000000000005,null,{"$f":"IF(COUNT($D$7:$D$18)=0,\"\",IF(ISNA(LOOKUP(K46,$D$7:$D$18,{1,2,3,4,5,6,7,8,9,10,11,12})),0,LOOKUP(K46,$D$7:$D$18,{1,2,3,4,5,6,7,8,9,10,11,12})))","v":3},13.7,13.7074,null,{"$f":"IF(COUNT($D$7:$D$18)=0,\"\",IF(ISNA(LOOKUP(O46,$D$7:$D$18,{1,2,3,4,5,6,7,8,9,10,11,12})),0,LOOKUP(O46,$D$7:$D$18,{1,2,3,4,5,6,7,8,9,10,11,12})))","v":5},20.2,20.225000000000001,null,{"$f":"IF(COUNT($D$7:$D$18)=0,\"\",IF(ISNA(LOOKUP(S46,$D$7:$D$18,{1,2,3,4,5,6,7,8,9,10,11,12})),0,LOOKUP(S46,$D$7:$D$18,{1,2,3,4,5,6,7,8,9,10,11,12})))","v":6},26.7,26.6,null,{"$f":"IF(COUNT($D$7:$D$18)=0,\"\",IF(ISNA(LOOKUP(W46,$D$7:$D$18,{1,2,3,4,5,6,7,8,9,10,11,12})),0,LOOKUP(W46,$D$7:$D$18,{1,2,3,4,5,6,7,8,9,10,11,12})))","v":6},33.200000000000003,33.100000000000009,{"$f":"IF(ISNA(MATCH($E$1,OFFSET('Temperature Checks'!$A$6,SUM($Y$1:$Y45),0,495-SUM($Y$1:$Y45),1),0)),0,MATCH($E$1,OFFSET('Temperature Checks'!$A$6,SUM($Y$1:$Y45),0,495-SUM($Y$1:$Y45),1),0))","v":0},{"$f":"IF($Y46=0,\"\",INDEX('Temperature Checks'!$B$6:$B$500,SUM($Y$1:$Y46)))","v":""}]
[null,{"$f":"IF(COUNT($D$7:$D$18)=0,\"\",IF(ISNA(LOOKUP(C47,$D$7:$D$18,{1,2,3,4,5,6,7,8,9,10,11,12})),0,LOOKUP(C47,$D$7:$D$18,{1,2,3,4,5,6,7,8,9,10,11,12})))","v":1},2.2999999999999998,2.2524489795918368,null,{"$f":"IF(COUNT($D$7:$D$18)=0,\"\",IF(ISNA(LOOKUP(G47,$D$7:$D$18,{1,2,3,4,5,6,7,8,9,10,11,12})),0,LOOKUP(G47,$D$7:$D$18,{1,2,3,4,5,6,7,8,9,10,11,12})))","v":2},7.3,7.2892000000000001,null,{"$f":"IF(COUNT($D$7:$D$18)=0,\"\",IF(ISNA(LOOKUP(K47,$D$7:$D$18,{1,2,3,4,5,6,7,8,9,10,11,12})),0,LOOKUP(K47,$D$7:$D$18,{1,2,3,4,5,6,7,8,9,10,11,12})))","v":3},13.8,13.807600000000001,null,{"$f":"IF(COUNT($D$7:$D$18)=0,\"\",IF(ISNA(LOOKUP(O47,$D$7:$D$18,{1,2,3,4,5,6,7,8,9,10,11,12})),0,LOOKUP(O47,$D$7:$D$18,{1,2,3,4,5,6,7,8,9,10,11,12})))","v":5},20.3,20.322500000000002,null,{"$f":"IF(COUNT($D$7:$D$18)=0,\"\",IF(ISNA(LOOKUP(S47,$D$7:$D$18,{1,2,3,4,5,6,7,8,9,10,11,12})),0,LOOKUP(S47,$D$7:$D$18,{1,2,3,4,5,6,7,8,9,10,11,12})))","v":6},26.8,26.700000000000003,null,{"$f":"IF(COUNT($D$7:$D$18)=0,\"\",IF(ISNA(LOOKUP(W47,$D$7:$D$18,{1,2,3,4,5,6,7,8,9,10,11,12})),0,LOOKUP(W47,$D$7:$D$18,{1,2,3,4,5,6,7,8,9,10,11,12})))","v":6},33.299999999999997,33.200000000000003,{"$f":"IF(ISNA(MATCH($E$1,OFFSET('Temperature Checks'!$A$6,SUM($Y$1:$Y46),0,495-SUM($Y$1:$Y46),1),0)),0,MATCH($E$1,OFFSET('Temperature Checks'!$A$6,SUM($Y$1:$Y46),0,495-SUM($Y$1:$Y46),1),0))","v":0},{"$f":"IF($Y47=0,\"\",INDEX('Temperature Checks'!$B$6:$B$500,SUM($Y$1:$Y47)))","v":""}]
[null,{"$f":"IF(COUNT($D$7:$D$18)=0,\"\",IF(ISNA(LOOKUP(C48,$D$7:$D$18,{1,2,3,4,5,6,7,8,9,10,11,12})),0,LOOKUP(C48,$D$7:$D$18,{1,2,3,4,5,6,7,8,9,10,11,12})))","v":1},2.4,2.3534693877551023,null,{"$f":"IF(COUNT($D$7:$D$18)=0,\"\",IF(ISNA(LOOKUP(G48,$D$7:$D$18,{1,2,3,4,5,6,7,8,9,10,11,12})),0,LOOKUP(G48,$D$7:$D$18,{1,2,3,4,5,6,7,8,9,10,11,12})))","v":2},7.4,7.3896000000000006,null,{"$f":"IF(COUNT($D$7:$D$18)=0,\"\",IF(ISNA(LOOKUP(K48,$D$7:$D$18,{1,2,3,4,5,6,7,8,9,10,11,12})),0,LOOKUP(K48,$D$7:$D$18,{1,2,3,4,5,6,7,8,9,10,11,12})))","v":3},13.9,13.9078,null,{"$f":"IF(COUNT($D$7:$D$18)=0,\"\",IF(ISNA(LOOKUP(O48,$D$7:$D$18,{1,2,3,4,5,6,7,8,9,10,11,12})),0,LOOKUP(O48,$D$7:$D$18,{1,2,3,4,5,6,7,8,9,10,11,12})))","v":5},20.399999999999999,20.419999999999998,null,{"$f":"IF(COUNT($D$7:$D$18)=0,\"\",IF(ISNA(LOOKUP(S48,$D$7:$D$18,{1,2,3,4,5,6,7,8,9,10,11,12})),0,LOOKUP(S48,$D$7:$D$18,{1,2,3,4,5,6,7,8,9,10,11,12})))","v":6},26.9,26.8,null,{"$f":"IF(COUNT($D$7:$D$18)=0,\"\",IF(ISNA(LOOKUP(W48,$D$7:$D$18,{1,2,3,4,5,6,7,8,9,10,11,12})),0,LOOKUP(W48,$D$7:$D$18,{1,2,3,4,5,6,7,8,9,10,11,12})))","v":6},33.4,33.299999999999997,{"$f":"IF(ISNA(MATCH($E$1,OFFSET('Temperature Checks'!$A$6,SUM($Y$1:$Y47),0,495-SUM($Y$1:$Y47),1),0)),0,MATCH($E$1,OFFSET('Temperature Checks'!$A$6,SUM($Y$1:$Y47),0,495-SUM($Y$1:$Y47),1),0))","v":0},{"$f":"IF($Y48=0,\"\",INDEX('Temperature Checks'!$B$6:$B$500,SUM($Y$1:$Y48)))","v":""}]
[null,{"$f":"IF(COUNT($D$7:$D$18)=0,\"\",IF(ISNA(LOOKUP(C49,$D$7:$D$18,{1,2,3,4,5,6,7,8,9,10,11,12})),0,LOOKUP(C49,$D$7:$D$18,{1,2,3,4,5,6,7,8,9,10,11,12})))","v":1},2.5,2.4544897959183674,null,{"$f":"IF(COUNT($D$7:$D$18)=0,\"\",IF(ISNA(LOOKUP(G49,$D$7:$D$18,{1,2,3,4,5,6,7,8,9,10,11,12})),0,LOOKUP(G49,$D$7:$D$18,{1,2,3,4,5,6,7,8,9,10,11,12})))","v":2},7.5,7.49,null,{"$f":"IF(COUNT($D$7:$D$18)=0,\"\",IF(ISNA(LOOKUP(K49,$D$7:$D$18,{1,2,3,4,5,6,7,8,9,10,11,12})),0,LOOKUP(K49,$D$7:$D$18,{1,2,3,4,5,6,7,8,9,10,11,12})))","v":3},14,14.007999999999999,null,{"$f":"IF(COUNT($D$7:$D$18)=0,\"\",IF(ISNA(LOOKUP(O49,$D$7:$D$18,{1,2,3,4,5,6,7,8,9,10,11,12})),0,LOOKUP(O49,$D$7:$D$18,{1,2,3,4,5,6,7,8,9,10,11,12})))","v":5},20.5,20.517500000000002,null,{"$f":"IF(COUNT($D$7:$D$18)=0,\"\",IF(ISNA(LOOKUP(S49,$D$7:$D$18,{1,2,3,4,5,6,7,8,9,10,11,12})),0,LOOKUP(S49,$D$7:$D$18,{1,2,3,4,5,6,7,8,9,10,11,12})))","v":6},27,26.900000000000002,null,{"$f":"IF(COUNT($D$7:$D$18)=0,\"\",IF(ISNA(LOOKUP(W49,$D$7:$D$18,{1,2,3,4,5,6,7,8,9,10,11,12})),0,LOOKUP(W49,$D$7:$D$18,{1,2,3,4,5,6,7,8,9,10,11,12})))","v":6},33.5,33.400000000000006,{"$f":"IF(ISNA(MATCH($E$1,OFFSET('Temperature Checks'!$A$6,SUM($Y$1:$Y48),0,495-SUM($Y$1:$Y48),1),0)),0,MATCH($E$1,OFFSET('Temperature Checks'!$A$6,SUM($Y$1:$Y48),0,495-SUM($Y$1:$Y48),1),0))","v":0},{"$f":"IF($Y49=0,\"\",INDEX('Temperature Checks'!$B$6:$B$500,SUM($Y$1:$Y49)))","v":""}]
[null,{"$f":"IF(COUNT($D$7:$D$18)=0,\"\",IF(ISNA(LOOKUP(C50,$D$7:$D$18,{1,2,3,4,5,6,7,8,9,10,11,12})),0,LOOKUP(C50,$D$7:$D$18,{1,2,3,4,5,6,7,8,9,10,11,12})))","v":1},2.6,2.5555102040816329,null,{"$f":"IF(COUNT($D$7:$D$18)=0,\"\",IF(ISNA(LOOKUP(G50,$D$7:$D$18,{1,2,3,4,5,6,7,8,9,10,11,12})),0,LOOKUP(G50,$D$7:$D$18,{1,2,3,4,5,6,7,8,9,10,11,12})))","v":2},7.6,7.5903999999999998,null,{"$f":"IF(COUNT($D$7:$D$18)=0,\"\",IF(ISNA(LOOKUP(K50,$D$7:$D$18,{1,2,3,4,5,6,7,8,9,10,11,12})),0,LOOKUP(K50,$D$7:$D$18,{1,2,3,4,5,6,7,8,9,10,11,12})))","v":3},14.1,14.1082,null,{"$f":"IF(COUNT($D$7:$D$18)=0,\"\",IF(ISNA(LOOKUP(O50,$D$7:$D$18,{1,2,3,4,5,6,7,8,9,10,11,12})),0,LOOKUP(O50,$D$7:$D$18,{1,2,3,4,5,6,7,8,9,10,11,12})))","v":5},20.6,20.615000000000002,null,{"$f":"IF(COUNT($D$7:$D$18)=0,\"\",IF(ISNA(LOOKUP(S50,$D$7:$D$18,{1,2,3,4,5,6,7,8,9,10,11,12})),0,LOOKUP(S50,$D$7:$D$18,{1,2,3,4,5,6,7,8,9,10,11,12})))","v":6},27.1,27.000000000000004,null,{"$f":"IF(COUNT($D$7:$D$18)=0,\"\",IF(ISNA(LOOKUP(W50,$D$7:$D$18,{1,2,3,4,5,6,7,8,9,10,11,12})),0,LOOKUP(W50,$D$7:$D$18,{1,2,3,4,5,6,7,8,9,10,11,12})))","v":6},33.6,33.5,{"$f":"IF(ISNA(MATCH($E$1,OFFSET('Temperature Checks'!$A$6,SUM($Y$1:$Y49),0,495-SUM($Y$1:$Y49),1),0)),0,MATCH($E$1,OFFSET('Temperature Checks'!$A$6,SUM($Y$1:$Y49),0,495-SUM($Y$1:$Y49),1),0))","v":0},{"$f":"IF($Y50=0,\"\",INDEX('Temperature Checks'!$B$6:$B$500,SUM($Y$1:$Y50)))","v":""}]
[null,{"$f":"IF(COUNT($D$7:$D$18)=0,\"\",IF(ISNA(LOOKUP(C51,$D$7:$D$18,{1,2,3,4,5,6,7,8,9,10,11,12})),0,LOOKUP(C51,$D$7:$D$18,{1,2,3,4,5,6,7,8,9,10,11,12})))","v":1},2.7,2.6565306122448984,null,{"$f":"IF(COUNT($D$7:$D$18)=0,\"\",IF(ISNA(LOOKUP(G51,$D$7:$D$18,{1,2,3,4,5,6,7,8,9,10,11,12})),0,LOOKUP(G51,$D$7:$D$18,{1,2,3,4,5,6,7,8,9,10,11,12})))","v":2},7.7,7.6908000000000003,null,{"$f":"IF(COUNT($D$7:$D$18)=0,\"\",IF(ISNA(LOOKUP(K51,$D$7:$D$18,{1,2,3,4,5,6,7,8,9,10,11,12})),0,LOOKUP(K51,$D$7:$D$18,{1,2,3,4,5,6,7,8,9,10,11,12})))","v":3},14.2,14.208399999999999,null,{"$f":"IF(COUNT($D$7:$D$18)=0,\"\",IF(ISNA(LOOKUP(O51,$D$7:$D$18,{1,2,3,4,5,6,7,8,9,10,11,12})),0,LOOKUP(O51,$D$7:$D$18,{1,2,3,4,5,6,7,8,9,10,11,12})))","v":5},20.7,20.712500000000002,null,{"$f":"IF(COUNT($D$7:$D$18)=0,\"\",IF(ISNA(LOOKUP(S51,$D$7:$D$18,{1,2,3,4,5,6,7,8,9,10,11,12})),0,LOOKUP(S51,$D$7:$D$18,{1,2,3,4,5,6,7,8,9,10,11,12})))","v":6},27.2,27.1,null,{"$f":"IF(COUNT($D$7:$D$18)=0,\"\",IF(ISNA(LOOKUP(W51,$D$7:$D$18,{1,2,3,4,5,6,7,8,9,10,11,12})),0,LOOKUP(W51,$D$7:$D$18,{1,2,3,4,5,6,7,8,9,10,11,12})))","v":6},33.700000000000003,33.600000000000009,{"$f":"IF(ISNA(MATCH($E$1,OFFSET('Temperature Checks'!$A$6,SUM($Y$1:$Y50),0,495-SUM($Y$1:$Y50),1),0)),0,MATCH($E$1,OFFSET('Temperature Checks'!$A$6,SUM($Y$1:$Y50),0,495-SUM($Y$1:$Y50),1),0))","v":0},{"$f":"IF($Y51=0,\"\",INDEX('Temperature Checks'!$B$6:$B$500,SUM($Y$1:$Y51)))","v":""}]
[null,{"$f":"IF(COUNT($D$7:$D$18)=0,\"\",IF(ISNA(LOOKUP(C52,$D$7:$D$18,{1,2,3,4,5,6,7,8,9,10,11,12})),0,LOOKUP(C52,$D$7:$D$18,{1,2,3,4,5,6,7,8,9,10,11,12})))","v":1},2.8,2.7575510204081635,null,{"$f":"IF(COUNT($D$7:$D$18)=0,\"\",IF(ISNA(LOOKUP(G52,$D$7:$D$18,{1,2,3,4,5,6,7,8,9,10,11,12})),0,LOOKUP(G52,$D$7:$D$18,{1,2,3,4,5,6,7,8,9,10,11,12})))","v":2},7.8,7.7911999999999999,null,{"$f":"IF(COUNT($D$7:$D$18)=0,\"\",IF(ISNA(LOOKUP(K52,$D$7:$D$18,{1,2,3,4,5,6,7,8,9,10,11,12})),0,LOOKUP(K52,$D$7:$D$18,{1,2,3,4,5,6,7,8,9,10,11,12})))","v":3},14.3,14.3086,null,{"$f":"IF(COUNT($D$7:$D$18)=0,\"\",IF(ISNA(LOOKUP(O52,$D$7:$D$18,{1,2,3,4,5,6,7,8,9,10,11,12})),0,LOOKUP(O52,$D$7:$D$18,{1,2,3,4,5,6,7,8,9,10,11,12})))","v":5},20.8,20.810000000000002,null,{"$f":"IF(COUNT($D$7:$D$18)=0,\"\",IF(ISNA(LOOKUP(S52,$D$7:$D$18,{1,2,3,4,5,6,7,8,9,10,11,12})),0,LOOKUP(S52,$D$7:$D$18,{1,2,3,4,5,6,7,8,9,10,11,12})))","v":6},27.3,27.200000000000003,null,{"$f":"IF(COUNT($D$7:$D$18)=0,\"\",IF(ISNA(LOOKUP(W52,$D$7:$D$18,{1,2,3,4,5,6,7,8,9,10,11,12})),0,LOOKUP(W52,$D$7:$D$18,{1,2,3,4,5,6,7,8,9,10,11,12})))","v":6},33.799999999999997,33.700000000000003,{"$f":"IF(ISNA(MATCH($E$1,OFFSET('Temperature Checks'!$A$6,SUM($Y$1:$Y51),0,495-SUM($Y$1:$Y51),1),0)),0,MATCH($E$1,OFFSET('Temperature Checks'!$A$6,SUM($Y$1:$Y51),0,495-SUM($Y$1:$Y51),1),0))","v":0},{"$f":"IF($Y52=0,\"\",INDEX('Temperature Checks'!$B$6:$B$500,SUM($Y$1:$Y52)))","v":""}]
[null,{"$f":"IF(COUNT($D$7:$D$18)=0,\"\",IF(ISNA(LOOKUP(C53,$D$7:$D$18,{1,2,3,4,5,6,7,8,9,10,11,12})),0,LOOKUP(C53,$D$7:$D$18,{1,2,3,4,5,6,7,8,9,10,11,12})))","v":1},2.9,2.8585714285714285,null,{"$f":"IF(COUNT($D$7:$D$18)=0,\"\",IF(ISNA(LOOKUP(G53,$D$7:$D$18,{1,2,3,4,5,6,7,8,9,10,11,12})),0,LOOKUP(G53,$D$7:$D$18,{1,2,3,4,5,6,7,8,9,10,11,12})))","v":2},7.9,7.8916000000000004,null,{"$f":"IF(COUNT($D$7:$D$18)=0,\"\",IF(ISNA(LOOKUP(K53,$D$7:$D$18,{1,2,3,4,5,6,7,8,9,10,11,12})),0,LOOKUP(K53,$D$7:$D$18,{1,2,3,4,5,6,7,8,9,10,11,12})))","v":3},14.4,14.408799999999999,null,{"$f":"IF(COUNT($D$7:$D$18)=0,\"\",IF(ISNA(LOOKUP(O53,$D$7:$D$18,{1,2,3,4,5,6,7,8,9,10,11,12})),0,LOOKUP(O53,$D$7:$D$18,{1,2,3,4,5,6,7,8,9,10,11,12})))","v":5},20.9,20.907499999999999,null,{"$f":"IF(COUNT($D$7:$D$18)=0,\"\",IF(ISNA(LOOKUP(S53,$D$7:$D$18,{1,2,3,4,5,6,7,8,9,10,11,12})),0,LOOKUP(S53,$D$7:$D$18,{1,2,3,4,5,6,7,8,9,10,11,12})))","v":6},27.4,27.3,null,{"$f":"IF(COUNT($D$7:$D$18)=0,\"\",IF(ISNA(LOOKUP(W53,$D$7:$D$18,{1,2,3,4,5,6,7,8,9,10,11,12})),0,LOOKUP(W53,$D$7:$D$18,{1,2,3,4,5,6,7,8,9,10,11,12})))","v":6},33.9,33.799999999999997,{"$f":"IF(ISNA(MATCH($E$1,OFFSET('Temperature Checks'!$A$6,SUM($Y$1:$Y52),0,495-SUM($Y$1:$Y52),1),0)),0,MATCH($E$1,OFFSET('Temperature Checks'!$A$6,SUM($Y$1:$Y52),0,495-SUM($Y$1:$Y52),1),0))","v":0},{"$f":"IF($Y53=0,\"\",INDEX('Temperature Checks'!$B$6:$B$500,SUM($Y$1:$Y53)))","v":""}]
[null,{"$f":"IF(COUNT($D$7:$D$18)=0,\"\",IF(ISNA(LOOKUP(C54,$D$7:$D$18,{1,2,3,4,5,6,7,8,9,10,11,12})),0,LOOKUP(C54,$D$7:$D$18,{1,2,3,4,5,6,7,8,9,10,11,12})))","v":1},3,2.9595918367346941,null,{"$f":"IF(COUNT($D$7:$D$18)=0,\"\",IF(ISNA(LOOKUP(G54,$D$7:$D$18,{1,2,3,4,5,6,7,8,9,10,11,12})),0,LOOKUP(G54,$D$7:$D$18,{1,2,3,4,5,6,7,8,9,10,11,12})))","v":2},8,7.992,null,{"$f":"IF(COUNT($D$7:$D$18)=0,\"\",IF(ISNA(LOOKUP(K54,$D$7:$D$18,{1,2,3,4,5,6,7,8,9,10,11,12})),0,LOOKUP(K54,$D$7:$D$18,{1,2,3,4,5,6,7,8,9,10,11,12})))","v":3},14.5,14.509,null,{"$f":"IF(COUNT($D$7:$D$18)=0,\"\",IF(ISNA(LOOKUP(O54,$D$7:$D$18,{1,2,3,4,5,6,7,8,9,10,11,12})),0,LOOKUP(O54,$D$7:$D$18,{1,2,3,4,5,6,7,8,9,10,11,12})))","v":5},21,21.005000000000003,null,{"$f":"IF(COUNT($D$7:$D$18)=0,\"\",IF(ISNA(LOOKUP(S54,$D$7:$D$18,{1,2,3,4,5,6,7,8,9,10,11,12})),0,LOOKUP(S54,$D$7:$D$18,{1,2,3,4,5,6,7,8,9,10,11,12})))","v":6},27.5,27.400000000000002,null,{"$f":"IF(COUNT($D$7:$D$18)=0,\"\",IF(ISNA(LOOKUP(W54,$D$7:$D$18,{1,2,3,4,5,6,7,8,9,10,11,12})),0,LOOKUP(W54,$D$7:$D$18,{1,2,3,4,5,6,7,8,9,10,11,12})))","v":6},34,33.900000000000006,{"$f":"IF(ISNA(MATCH($E$1,OFFSET('Temperature Checks'!$A$6,SUM($Y$1:$Y53),0,495-SUM($Y$1:$Y53),1),0)),0,MATCH($E$1,OFFSET('Temperature Checks'!$A$6,SUM($Y$1:$Y53),0,495-SUM($Y$1:$Y53),1),0))","v":0},{"$f":"IF($Y54=0,\"\",INDEX('Temperature Checks'!$B$6:$B$500,SUM($Y$1:$Y54)))","v":""}]
[null,{"$f":"IF(COUNT($D$7:$D$18)=0,\"\",IF(ISNA(LOOKUP(C55,$D$7:$D$18,{1,2,3,4,5,6,7,8,9,10,11,12})),0,LOOKUP(C55,$D$7:$D$18,{1,2,3,4,5,6,7,8,9,10,11,12})))","v":1},3.1,3.0606122448979596,null,{"$f":"IF(COUNT($D$7:$D$18)=0,\"\",IF(ISNA(LOOKUP(G55,$D$7:$D$18,{1,2,3,4,5,6,7,8,9,10,11,12})),0,LOOKUP(G55,$D$7:$D$18,{1,2,3,4,5,6,7,8,9,10,11,12})))","v":2},8.1,8.0923999999999996,null,{"$f":"IF(COUNT($D$7:$D$18)=0,\"\",IF(ISNA(LOOKUP(K55,$D$7:$D$18,{1,2,3,4,5,6,7,8,9,10,11,12})),0,LOOKUP(K55,$D$7:$D$18,{1,2,3,4,5,6,7,8,9,10,11,12})))","v":3},14.6,14.6092,null,{"$f":"IF(COUNT($D$7:$D$18)=0,\"\",IF(ISNA(LOOKUP(O55,$D$7:$D$18,{1,2,3,4,5,6,7,8,9,10,11,12})),0,LOOKUP(O55,$D$7:$D$18,{1,2,3,4,5,6,7,8,9,10,11,12})))","v":5},21.1,21.102500000000003,null,{"$f":"IF(COUNT($D$7:$D$18)=0,\"\",IF(ISNA(LOOKUP(S55,$D$7:$D$18,{1,2,3,4,5,6,7,8,9,10,11,12})),0,LOOKUP(S55,$D$7:$D$18,{1,2,3,4,5,6,7,8,9,10,11,12})))","v":6},27.6,27.500000000000004,null,{"$f":"IF(COUNT($D$7:$D$18)=0,\"\",IF(ISNA(LOOKUP(W55,$D$7:$D$18,{1,2,3,4,5,6,7,8,9,10,11,12})),0,LOOKUP(W55,$D$7:$D$18,{1,2,3,4,5,6,7,8,9,10,11,12})))","v":6},34.1,34,{"$f":"IF(ISNA(MATCH($E$1,OFFSET('Temperature Checks'!$A$6,SUM($Y$1:$Y54),0,495-SUM($Y$1:$Y54),1),0)),0,MATCH($E$1,OFFSET('Temperature Checks'!$A$6,SUM($Y$1:$Y54),0,495-SUM($Y$1:$Y54),1),0))","v":0},{"$f":"IF($Y55=0,\"\",INDEX('Temperature Checks'!$B$6:$B$500,SUM($Y$1:$Y55)))","v":""}]
[null,{"$f":"IF(COUNT($D$7:$D$18)=0,\"\",IF(ISNA(LOOKUP(C56,$D$7:$D$18,{1,2,3,4,5,6,7,8,9,10,11,12})),0,LOOKUP(C56,$D$7:$D$18,{1,2,3,4,5,6,7,8,9,10,11,12})))","v":1},3.2,3.1616326530612251,null,{"$f":"IF(COUNT($D$7:$D$18)=0,\"\",IF(ISNA(LOOKUP(G56,$D$7:$D$18,{1,2,3,4,5,6,7,8,9,10,11,12})),0,LOOKUP(G56,$D$7:$D$18,{1,2,3,4,5,6,7,8,9,10,11,12})))","v":2},8.1999999999999993,8.1928000000000001,null,{"$f":"IF(COUNT($D$7:$D$18)=0,\"\",IF(ISNA(LOOKUP(K56,$D$7:$D$18,{1,2,3,4,5,6,7,8,9,10,11,12})),0,LOOKUP(K56,$D$7:$D$18,{1,2,3,4,5,6,7,8,9,10,11,12})))","v":3},14.7,14.709399999999999,null,{"$f":"IF(COUNT($D$7:$D$18)=0,\"\",IF(ISNA(LOOKUP(O56,$D$7:$D$18,{1,2,3,4,5,6,7,8,9,10,11,12})),0,LOOKUP(O56,$D$7:$D$18,{1,2,3,4,5,6,7,8,9,10,11,12})))","v":5},21.2,21.2,null,{"$f":"IF(COUNT($D$7:$D$18)=0,\"\",IF(ISNA(LOOKUP(S56,$D$7:$D$18,{1,2,3,4,5,6,7,8,9,10,11,12})),0,LOOKUP(S56,$D$7:$D$18,{1,2,3,4,5,6,7,8,9,10,11,12})))","v":6},27.7,27.6,null,{"$f":"IF(COUNT($D$7:$D$18)=0,\"\",IF(ISNA(LOOKUP(W56,$D$7:$D$18,{1,2,3,4,5,6,7,8,9,10,11,12})),0,LOOKUP(W56,$D$7:$D$18,{1,2,3,4,5,6,7,8,9,10,11,12})))","v":6},34.200000000000003,34.100000000000009,{"$f":"IF(ISNA(MATCH($E$1,OFFSET('Temperature Checks'!$A$6,SUM($Y$1:$Y55),0,495-SUM($Y$1:$Y55),1),0)),0,MATCH($E$1,OFFSET('Temperature Checks'!$A$6,SUM($Y$1:$Y55),0,495-SUM($Y$1:$Y55),1),0))","v":0},{"$f":"IF($Y56=0,\"\",INDEX('Temperature Checks'!$B$6:$B$500,SUM($Y$1:$Y56)))","v":""}]
[null,{"$f":"IF(COUNT($D$7:$D$18)=0,\"\",IF(ISNA(LOOKUP(C57,$D$7:$D$18,{1,2,3,4,5,6,7,8,9,10,11,12})),0,LOOKUP(C57,$D$7:$D$18,{1,2,3,4,5,6,7,8,9,10,11,12})))","v":1},3.3,3.2626530612244897,null,{"$f":"IF(COUNT($D$7:$D$18)=0,\"\",IF(ISNA(LOOKUP(G57,$D$7:$D$18,{1,2,3,4,5,6,7,8,9,10,11,12})),0,LOOKUP(G57,$D$7:$D$18,{1,2,3,4,5,6,7,8,9,10,11,12})))","v":2},8.3000000000000007,8.2932000000000006,null,{"$f":"IF(COUNT($D$7:$D$18)=0,\"\",IF(ISNA(LOOKUP(K57,$D$7:$D$18,{1,2,3,4,5,6,7,8,9,10,11,12})),0,LOOKUP(K57,$D$7:$D$18,{1,2,3,4,5,6,7,8,9,10,11,12})))","v":3},14.8,14.8096,null,{"$f":"IF(COUNT($D$7:$D$18)=0,\"\",IF(ISNA(LOOKUP(O57,$D$7:$D$18,{1,2,3,4,5,6,7,8,9,10,11,12})),0,LOOKUP(O57,$D$7:$D$18,{1,2,3,4,5,6,7,8,9,10,11,12})))","v":5},21.3,21.297500000000003,null,{"$f":"IF(COUNT($D$7:$D$18)=0,\"\",IF(ISNA(LOOKUP(S57,$D$7:$D$18,{1,2,3,4,5,6,7,8,9,10,11,12})),0,LOOKUP(S57,$D$7:$D$18,{1,2,3,4,5,6,7,8,9,10,11,12})))","v":6},27.8,27.700000000000003,null,{"$f":"IF(COUNT($D$7:$D$18)=0,\"\",IF(ISNA(LOOKUP(W57,$D$7:$D$18,{1,2,3,4,5,6,7,8,9,10,11,12})),0,LOOKUP(W57,$D$7:$D$18,{1,2,3,4,5,6,7,8,9,10,11,12})))","v":6},34.299999999999997,34.200000000000003,{"$f":"IF(ISNA(MATCH($E$1,OFFSET('Temperature Checks'!$A$6,SUM($Y$1:$Y56),0,495-SUM($Y$1:$Y56),1),0)),0,MATCH($E$1,OFFSET('Temperature Checks'!$A$6,SUM($Y$1:$Y56),0,495-SUM($Y$1:$Y56),1),0))","v":0},{"$f":"IF($Y57=0,\"\",INDEX('Temperature Checks'!$B$6:$B$500,SUM($Y$1:$Y57)))","v":""}]
[null,{"$f":"IF(COUNT($D$7:$D$18)=0,\"\",IF(ISNA(LOOKUP(C58,$D$7:$D$18,{1,2,3,4,5,6,7,8,9,10,11,12})),0,LOOKUP(C58,$D$7:$D$18,{1,2,3,4,5,6,7,8,9,10,11,12})))","v":1},3.4,3.3636734693877552,null,{"$f":"IF(COUNT($D$7:$D$18)=0,\"\",IF(ISNA(LOOKUP(G58,$D$7:$D$18,{1,2,3,4,5,6,7,8,9,10,11,12})),0,LOOKUP(G58,$D$7:$D$18,{1,2,3,4,5,6,7,8,9,10,11,12})))","v":2},8.4,8.3936000000000011,null,{"$f":"IF(COUNT($D$7:$D$18)=0,\"\",IF(ISNA(LOOKUP(K58,$D$7:$D$18,{1,2,3,4,5,6,7,8,9,10,11,12})),0,LOOKUP(K58,$D$7:$D$18,{1,2,3,4,5,6,7,8,9,10,11,12})))","v":3},14.9,14.909800000000001,null,{"$f":"IF(COUNT($D$7:$D$18)=0,\"\",IF(ISNA(LOOKUP(O58,$D$7:$D$18,{1,2,3,4,5,6,7,8,9,10,11,12})),0,LOOKUP(O58,$D$7:$D$18,{1,2,3,4,5,6,7,8,9,10,11,12})))","v":5},21.4,21.395,null,{"$f":"IF(COUNT($D$7:$D$18)=0,\"\",IF(ISNA(LOOKUP(S58,$D$7:$D$18,{1,2,3,4,5,6,7,8,9,10,11,12})),0,LOOKUP(S58,$D$7:$D$18,{1,2,3,4,5,6,7,8,9,10,11,12})))","v":6},27.9,27.8,null,{"$f":"IF(COUNT($D$7:$D$18)=0,\"\",IF(ISNA(LOOKUP(W58,$D$7:$D$18,{1,2,3,4,5,6,7,8,9,10,11,12})),0,LOOKUP(W58,$D$7:$D$18,{1,2,3,4,5,6,7,8,9,10,11,12})))","v":6},34.4,34.299999999999997,{"$f":"IF(ISNA(MATCH($E$1,OFFSET('Temperature Checks'!$A$6,SUM($Y$1:$Y57),0,495-SUM($Y$1:$Y57),1),0)),0,MATCH($E$1,OFFSET('Temperature Checks'!$A$6,SUM($Y$1:$Y57),0,495-SUM($Y$1:$Y57),1),0))","v":0},{"$f":"IF($Y58=0,\"\",INDEX('Temperature Checks'!$B$6:$B$500,SUM($Y$1:$Y58)))","v":""}]
[null,{"$f":"IF(COUNT($D$7:$D$18)=0,\"\",IF(ISNA(LOOKUP(C59,$D$7:$D$18,{1,2,3,4,5,6,7,8,9,10,11,12})),0,LOOKUP(C59,$D$7:$D$18,{1,2,3,4,5,6,7,8,9,10,11,12})))","v":1},3.5,3.4646938775510208,null,{"$f":"IF(COUNT($D$7:$D$18)=0,\"\",IF(ISNA(LOOKUP(G59,$D$7:$D$18,{1,2,3,4,5,6,7,8,9,10,11,12})),0,LOOKUP(G59,$D$7:$D$18,{1,2,3,4,5,6,7,8,9,10,11,12})))","v":2},8.5,8.4939999999999998,null,{"$f":"IF(COUNT($D$7:$D$18)=0,\"\",IF(ISNA(LOOKUP(K59,$D$7:$D$18,{1,2,3,4,5,6,7,8,9,10,11,12})),0,LOOKUP(K59,$D$7:$D$18,{1,2,3,4,5,6,7,8,9,10,11,12})))","v":4},15,15.01,null,{"$f":"IF(COUNT($D$7:$D$18)=0,\"\",IF(ISNA(LOOKUP(O59,$D$7:$D$18,{1,2,3,4,5,6,7,8,9,10,11,12})),0,LOOKUP(O59,$D$7:$D$18,{1,2,3,4,5,6,7,8,9,10,11,12})))","v":5},21.5,21.4925,null,{"$f":"IF(COUNT($D$7:$D$18)=0,\"\",IF(ISNA(LOOKUP(S59,$D$7:$D$18,{1,2,3,4,5,6,7,8,9,10,11,12})),0,LOOKUP(S59,$D$7:$D$18,{1,2,3,4,5,6,7,8,9,10,11,12})))","v":6},28,27.900000000000002,null,{"$f":"IF(COUNT($D$7:$D$18)=0,\"\",IF(ISNA(LOOKUP(W59,$D$7:$D$18,{1,2,3,4,5,6,7,8,9,10,11,12})),0,LOOKUP(W59,$D$7:$D$18,{1,2,3,4,5,6,7,8,9,10,11,12})))","v":6},34.5,34.400000000000006,{"$f":"IF(ISNA(MATCH($E$1,OFFSET('Temperature Checks'!$A$6,SUM($Y$1:$Y58),0,495-SUM($Y$1:$Y58),1),0)),0,MATCH($E$1,OFFSET('Temperature Checks'!$A$6,SUM($Y$1:$Y58),0,495-SUM($Y$1:$Y58),1),0))","v":0},{"$f":"IF($Y59=0,\"\",INDEX('Temperature Checks'!$B$6:$B$500,SUM($Y$1:$Y59)))","v":""}]
[null,{"$f":"IF(COUNT($D$7:$D$18)=0,\"\",IF(ISNA(LOOKUP(C60,$D$7:$D$18,{1,2,3,4,5,6,7,8,9,10,11,12})),0,LOOKUP(C60,$D$7:$D$18,{1,2,3,4,5,6,7,8,9,10,11,12})))","v":1},3.6,3.5657142857142863,null,{"$f":"IF(COUNT($D$7:$D$18)=0,\"\",IF(ISNA(LOOKUP(G60,$D$7:$D$18,{1,2,3,4,5,6,7,8,9,10,11,12})),0,LOOKUP(G60,$D$7:$D$18,{1,2,3,4,5,6,7,8,9,10,11,12})))","v":2},8.6,8.5944000000000003,null,{"$f":"IF(COUNT($D$7:$D$18)=0,\"\",IF(ISNA(LOOKUP(K60,$D$7:$D$18,{1,2,3,4,5,6,7,8,9,10,11,12})),0,LOOKUP(K60,$D$7:$D$18,{1,2,3,4,5,6,7,8,9,10,11,12})))","v":4},15.1,15.1104,null,{"$f":"IF(COUNT($D$7:$D$18)=0,\"\",IF(ISNA(LOOKUP(O60,$D$7:$D$18,{1,2,3,4,5,6,7,8,9,10,11,12})),0,LOOKUP(O60,$D$7:$D$18,{1,2,3,4,5,6,7,8,9,10,11,12})))","v":5},21.6,21.590000000000003,null,{"$f":"IF(COUNT($D$7:$D$18)=0,\"\",IF(ISNA(LOOKUP(S60,$D$7:$D$18,{1,2,3,4,5,6,7,8,9,10,11,12})),0,LOOKUP(S60,$D$7:$D$18,{1,2,3,4,5,6,7,8,9,10,11,12})))","v":6},28.1,28.000000000000004,null,{"$f":"IF(COUNT($D$7:$D$18)=0,\"\",IF(ISNA(LOOKUP(W60,$D$7:$D$18,{1,2,3,4,5,6,7,8,9,10,11,12})),0,LOOKUP(W60,$D$7:$D$18,{1,2,3,4,5,6,7,8,9,10,11,12})))","v":6},34.6,34.5,{"$f":"IF(ISNA(MATCH($E$1,OFFSET('Temperature Checks'!$A$6,SUM($Y$1:$Y59),0,495-SUM($Y$1:$Y59),1),0)),0,MATCH($E$1,OFFSET('Temperature Checks'!$A$6,SUM($Y$1:$Y59),0,495-SUM($Y$1:$Y59),1),0))","v":0},{"$f":"IF($Y60=0,\"\",INDEX('Temperature Checks'!$B$6:$B$500,SUM($Y$1:$Y60)))","v":""}]
[null,{"$f":"IF(COUNT($D$7:$D$18)=0,\"\",IF(ISNA(LOOKUP(C61,$D$7:$D$18,{1,2,3,4,5,6,7,8,9,10,11,12})),0,LOOKUP(C61,$D$7:$D$18,{1,2,3,4,5,6,7,8,9,10,11,12})))","v":1},3.7,3.6667346938775514,null,{"$f":"IF(COUNT($D$7:$D$18)=0,\"\",IF(ISNA(LOOKUP(G61,$D$7:$D$18,{1,2,3,4,5,6,7,8,9,10,11,12})),0,LOOKUP(G61,$D$7:$D$18,{1,2,3,4,5,6,7,8,9,10,11,12})))","v":2},8.6999999999999993,8.694799999999999,null,{"$f":"IF(COUNT($D$7:$D$18)=0,\"\",IF(ISNA(LOOKUP(K61,$D$7:$D$18,{1,2,3,4,5,6,7,8,9,10,11,12})),0,LOOKUP(K61,$D$7:$D$18,{1,2,3,4,5,6,7,8,9,10,11,12})))","v":4},15.2,15.210799999999999,null,{"$f":"IF(COUNT($D$7:$D$18)=0,\"\",IF(ISNA(LOOKUP(O61,$D$7:$D$18,{1,2,3,4,5,6,7,8,9,10,11,12})),0,LOOKUP(O61,$D$7:$D$18,{1,2,3,4,5,6,7,8,9,10,11,12})))","v":5},21.7,21.6875,null,{"$f":"IF(COUNT($D$7:$D$18)=0,\"\",IF(ISNA(LOOKUP(S61,$D$7:$D$18,{1,2,3,4,5,6,7,8,9,10,11,12})),0,LOOKUP(S61,$D$7:$D$18,{1,2,3,4,5,6,7,8,9,10,11,12})))","v":6},28.2,28.1,null,{"$f":"IF(COUNT($D$7:$D$18)=0,\"\",IF(ISNA(LOOKUP(W61,$D$7:$D$18,{1,2,3,4,5,6,7,8,9,10,11,12})),0,LOOKUP(W61,$D$7:$D$18,{1,2,3,4,5,6,7,8,9,10,11,12})))","v":6},34.700000000000003,34.600000000000009,{"$f":"IF(ISNA(MATCH($E$1,OFFSET('Temperature Checks'!$A$6,SUM($Y$1:$Y60),0,495-SUM($Y$1:$Y60),1),0)),0,MATCH($E$1,OFFSET('Temperature Checks'!$A$6,SUM($Y$1:$Y60),0,495-SUM($Y$1:$Y60),1),0))","v":0},{"$f":"IF($Y61=0,\"\",INDEX('Temperature Checks'!$B$6:$B$500,SUM($Y$1:$Y61)))","v":""}]
[null,{"$f":"IF(COUNT($D$7:$D$18)=0,\"\",IF(ISNA(LOOKUP(C62,$D$7:$D$18,{1,2,3,4,5,6,7,8,9,10,11,12})),0,LOOKUP(C62,$D$7:$D$18,{1,2,3,4,5,6,7,8,9,10,11,12})))","v":1},3.8,3.7677551020408164,null,{"$f":"IF(COUNT($D$7:$D$18)=0,\"\",IF(ISNA(LOOKUP(G62,$D$7:$D$18,{1,2,3,4,5,6,7,8,9,10,11,12})),0,LOOKUP(G62,$D$7:$D$18,{1,2,3,4,5,6,7,8,9,10,11,12})))","v":2},8.8000000000000007,8.7952000000000012,null,{"$f":"IF(COUNT($D$7:$D$18)=0,\"\",IF(ISNA(LOOKUP(K62,$D$7:$D$18,{1,2,3,4,5,6,7,8,9,10,11,12})),0,LOOKUP(K62,$D$7:$D$18,{1,2,3,4,5,6,7,8,9,10,11,12})))","v":4},15.3,15.311200000000001,null,{"$f":"IF(COUNT($D$7:$D$18)=0,\"\",IF(ISNA(LOOKUP(O62,$D$7:$D$18,{1,2,3,4,5,6,7,8,9,10,11,12})),0,LOOKUP(O62,$D$7:$D$18,{1,2,3,4,5,6,7,8,9,10,11,12})))","v":5},21.8,21.785000000000004,null,{"$f":"IF(COUNT($D$7:$D$18)=0,\"\",IF(ISNA(LOOKUP(S62,$D$7:$D$18,{1,2,3,4,5,6,7,8,9,10,11,12})),0,LOOKUP(S62,$D$7:$D$18,{1,2,3,4,5,6,7,8,9,10,11,12})))","v":6},28.3,28.200000000000003,null,{"$f":"IF(COUNT($D$7:$D$18)=0,\"\",IF(ISNA(LOOKUP(W62,$D$7:$D$18,{1,2,3,4,5,6,7,8,9,10,11,12})),0,LOOKUP(W62,$D$7:$D$18,{1,2,3,4,5,6,7,8,9,10,11,12})))","v":6},34.799999999999997,34.700000000000003,{"$f":"IF(ISNA(MATCH($E$1,OFFSET('Temperature Checks'!$A$6,SUM($Y$1:$Y61),0,495-SUM($Y$1:$Y61),1),0)),0,MATCH($E$1,OFFSET('Temperature Checks'!$A$6,SUM($Y$1:$Y61),0,495-SUM($Y$1:$Y61),1),0))","v":0},{"$f":"IF($Y62=0,\"\",INDEX('Temperature Checks'!$B$6:$B$500,SUM($Y$1:$Y62)))","v":""}]
[null,{"$f":"IF(COUNT($D$7:$D$18)=0,\"\",IF(ISNA(LOOKUP(C63,$D$7:$D$18,{1,2,3,4,5,6,7,8,9,10,11,12})),0,LOOKUP(C63,$D$7:$D$18,{1,2,3,4,5,6,7,8,9,10,11,12})))","v":1},3.9,3.8687755102040819,null,{"$f":"IF(COUNT($D$7:$D$18)=0,\"\",IF(ISNA(LOOKUP(G63,$D$7:$D$18,{1,2,3,4,5,6,7,8,9,10,11,12})),0,LOOKUP(G63,$D$7:$D$18,{1,2,3,4,5,6,7,8,9,10,11,12})))","v":2},8.9,8.8956,null,{"$f":"IF(COUNT($D$7:$D$18)=0,\"\",IF(ISNA(LOOKUP(K63,$D$7:$D$18,{1,2,3,4,5,6,7,8,9,10,11,12})),0,LOOKUP(K63,$D$7:$D$18,{1,2,3,4,5,6,7,8,9,10,11,12})))","v":4},15.4,15.4116,null,{"$f":"IF(COUNT($D$7:$D$18)=0,\"\",IF(ISNA(LOOKUP(O63,$D$7:$D$18,{1,2,3,4,5,6,7,8,9,10,11,12})),0,LOOKUP(O63,$D$7:$D$18,{1,2,3,4,5,6,7,8,9,10,11,12})))","v":5},21.9,21.8825,null,{"$f":"IF(COUNT($D$7:$D$18)=0,\"\",IF(ISNA(LOOKUP(S63,$D$7:$D$18,{1,2,3,4,5,6,7,8,9,10,11,12})),0,LOOKUP(S63,$D$7:$D$18,{1,2,3,4,5,6,7,8,9,10,11,12})))","v":6},28.4,28.3,null,{"$f":"IF(COUNT($D$7:$D$18)=0,\"\",IF(ISNA(LOOKUP(W63,$D$7:$D$18,{1,2,3,4,5,6,7,8,9,10,11,12})),0,LOOKUP(W63,$D$7:$D$18,{1,2,3,4,5,6,7,8,9,10,11,12})))","v":6},34.9,34.799999999999997,{"$f":"IF(ISNA(MATCH($E$1,OFFSET('Temperature Checks'!$A$6,SUM($Y$1:$Y62),0,495-SUM($Y$1:$Y62),1),0)),0,MATCH($E$1,OFFSET('Temperature Checks'!$A$6,SUM($Y$1:$Y62),0,495-SUM($Y$1:$Y62),1),0))","v":0},{"$f":"IF($Y63=0,\"\",INDEX('Temperature Checks'!$B$6:$B$500,SUM($Y$1:$Y63)))","v":""}]
[null,{"$f":"IF(COUNT($D$7:$D$18)=0,\"\",IF(ISNA(LOOKUP(C64,$D$7:$D$18,{1,2,3,4,5,6,7,8,9,10,11,12})),0,LOOKUP(C64,$D$7:$D$18,{1,2,3,4,5,6,7,8,9,10,11,12})))","v":1},4,3.9697959183673475,null,{"$f":"IF(COUNT($D$7:$D$18)=0,\"\",IF(ISNA(LOOKUP(G64,$D$7:$D$18,{1,2,3,4,5,6,7,8,9,10,11,12})),0,LOOKUP(G64,$D$7:$D$18,{1,2,3,4,5,6,7,8,9,10,11,12})))","v":2},9,8.9960000000000004,null,{"$f":"IF(COUNT($D$7:$D$18)=0,\"\",IF(ISNA(LOOKUP(K64,$D$7:$D$18,{1,2,3,4,5,6,7,8,9,10,11,12})),0,LOOKUP(K64,$D$7:$D$18,{1,2,3,4,5,6,7,8,9,10,11,12})))","v":4},15.5,15.512,null,{"$f":"IF(COUNT($D$7:$D$18)=0,\"\",IF(ISNA(LOOKUP(O64,$D$7:$D$18,{1,2,3,4,5,6,7,8,9,10,11,12})),0,LOOKUP(O64,$D$7:$D$18,{1,2,3,4,5,6,7,8,9,10,11,12})))","v":5},22,21.98,null,{"$f":"IF(COUNT($D$7:$D$18)=0,\"\",IF(ISNA(LOOKUP(S64,$D$7:$D$18,{1,2,3,4,5,6,7,8,9,10,11,12})),0,LOOKUP(S64,$D$7:$D$18,{1,2,3,4,5,6,7,8,9,10,11,12})))","v":6},28.5,28.400000000000002,null,{"$f":"IF(COUNT($D$7:$D$18)=0,\"\",IF(ISNA(LOOKUP(W64,$D$7:$D$18,{1,2,3,4,5,6,7,8,9,10,11,12})),0,LOOKUP(W64,$D$7:$D$18,{1,2,3,4,5,6,7,8,9,10,11,12})))","v":6},35,34.900000000000006,{"$f":"IF(ISNA(MATCH($E$1,OFFSET('Temperature Checks'!$A$6,SUM($Y$1:$Y63),0,495-SUM($Y$1:$Y63),1),0)),0,MATCH($E$1,OFFSET('Temperature Checks'!$A$6,SUM($Y$1:$Y63),0,495-SUM($Y$1:$Y63),1),0))","v":0},{"$f":"IF($Y64=0,\"\",INDEX('Temperature Checks'!$B$6:$B$500,SUM($Y$1:$Y64)))","v":""}]
[null,{"$f":"IF(COUNT($D$7:$D$18)=0,\"\",IF(ISNA(LOOKUP(C65,$D$7:$D$18,{1,2,3,4,5,6,7,8,9,10,11,12})),0,LOOKUP(C65,$D$7:$D$18,{1,2,3,4,5,6,7,8,9,10,11,12})))","v":1},4.0999999999999996,4.0708163265306121,null,{"$f":"IF(COUNT($D$7:$D$18)=0,\"\",IF(ISNA(LOOKUP(G65,$D$7:$D$18,{1,2,3,4,5,6,7,8,9,10,11,12})),0,LOOKUP(G65,$D$7:$D$18,{1,2,3,4,5,6,7,8,9,10,11,12})))","v":2},9.1,9.0963999999999992,null,{"$f":"IF(COUNT($D$7:$D$18)=0,\"\",IF(ISNA(LOOKUP(K65,$D$7:$D$18,{1,2,3,4,5,6,7,8,9,10,11,12})),0,LOOKUP(K65,$D$7:$D$18,{1,2,3,4,5,6,7,8,9,10,11,12})))","v":4},15.6,15.612399999999999,null,{"$f":"IF(COUNT($D$7:$D$18)=0,\"\",IF(ISNA(LOOKUP(O65,$D$7:$D$18,{1,2,3,4,5,6,7,8,9,10,11,12})),0,LOOKUP(O65,$D$7:$D$18,{1,2,3,4,5,6,7,8,9,10,11,12})))","v":5},22.1,22.077500000000004,null,{"$f":"IF(COUNT($D$7:$D$18)=0,\"\",IF(ISNA(LOOKUP(S65,$D$7:$D$18,{1,2,3,4,5,6,7,8,9,10,11,12})),0,LOOKUP(S65,$D$7:$D$18,{1,2,3,4,5,6,7,8,9,10,11,12})))","v":6},28.6,28.500000000000004,null,{"$f":"IF(COUNT($D$7:$D$18)=0,\"\",IF(ISNA(LOOKUP(W65,$D$7:$D$18,{1,2,3,4,5,6,7,8,9,10,11,12})),0,LOOKUP(W65,$D$7:$D$18,{1,2,3,4,5,6,7,8,9,10,11,12})))","v":6},35.1,35,{"$f":"IF(ISNA(MATCH($E$1,OFFSET('Temperature Checks'!$A$6,SUM($Y$1:$Y64),0,495-SUM($Y$1:$Y64),1),0)),0,MATCH($E$1,OFFSET('Temperature Checks'!$A$6,SUM($Y$1:$Y64),0,495-SUM($Y$1:$Y64),1),0))","v":0},{"$f":"IF($Y65=0,\"\",INDEX('Temperature Checks'!$B$6:$B$500,SUM($Y$1:$Y65)))","v":""}]
[null,{"$f":"IF(COUNT($D$7:$D$18)=0,\"\",IF(ISNA(LOOKUP(C66,$D$7:$D$18,{1,2,3,4,5,6,7,8,9,10,11,12})),0,LOOKUP(C66,$D$7:$D$18,{1,2,3,4,5,6,7,8,9,10,11,12})))","v":1},4.2,4.1718367346938781,null,{"$f":"IF(COUNT($D$7:$D$18)=0,\"\",IF(ISNA(LOOKUP(G66,$D$7:$D$18,{1,2,3,4,5,6,7,8,9,10,11,12})),0,LOOKUP(G66,$D$7:$D$18,{1,2,3,4,5,6,7,8,9,10,11,12})))","v":2},9.1999999999999993,9.1967999999999996,null,{"$f":"IF(COUNT($D$7:$D$18)=0,\"\",IF(ISNA(LOOKUP(K66,$D$7:$D$18,{1,2,3,4,5,6,7,8,9,10,11,12})),0,LOOKUP(K66,$D$7:$D$18,{1,2,3,4,5,6,7,8,9,10,11,12})))","v":4},15.7,15.7128,null,{"$f":"IF(COUNT($D$7:$D$18)=0,\"\",IF(ISNA(LOOKUP(O66,$D$7:$D$18,{1,2,3,4,5,6,7,8,9,10,11,12})),0,LOOKUP(O66,$D$7:$D$18,{1,2,3,4,5,6,7,8,9,10,11,12})))","v":5},22.2,22.175000000000001,null,{"$f":"IF(COUNT($D$7:$D$18)=0,\"\",IF(ISNA(LOOKUP(S66,$D$7:$D$18,{1,2,3,4,5,6,7,8,9,10,11,12})),0,LOOKUP(S66,$D$7:$D$18,{1,2,3,4,5,6,7,8,9,10,11,12})))","v":6},28.7,28.6,null,{"$f":"IF(COUNT($D$7:$D$18)=0,\"\",IF(ISNA(LOOKUP(W66,$D$7:$D$18,{1,2,3,4,5,6,7,8,9,10,11,12})),0,LOOKUP(W66,$D$7:$D$18,{1,2,3,4,5,6,7,8,9,10,11,12})))","v":6},35.200000000000003,35.100000000000009,{"$f":"IF(ISNA(MATCH($E$1,OFFSET('Temperature Checks'!$A$6,SUM($Y$1:$Y65),0,495-SUM($Y$1:$Y65),1),0)),0,MATCH($E$1,OFFSET('Temperature Checks'!$A$6,SUM($Y$1:$Y65),0,495-SUM($Y$1:$Y65),1),0))","v":0},{"$f":"IF($Y66=0,\"\",INDEX('Temperature Checks'!$B$6:$B$500,SUM($Y$1:$Y66)))","v":""}]
[null,{"$f":"IF(COUNT($D$7:$D$18)=0,\"\",IF(ISNA(LOOKUP(C67,$D$7:$D$18,{1,2,3,4,5,6,7,8,9,10,11,12})),0,LOOKUP(C67,$D$7:$D$18,{1,2,3,4,5,6,7,8,9,10,11,12})))","v":1},4.3,4.2728571428571431,null,{"$f":"IF(COUNT($D$7:$D$18)=0,\"\",IF(ISNA(LOOKUP(G67,$D$7:$D$18,{1,2,3,4,5,6,7,8,9,10,11,12})),0,LOOKUP(G67,$D$7:$D$18,{1,2,3,4,5,6,7,8,9,10,11,12})))","v":2},9.3000000000000007,9.2972000000000001,null,{"$f":"IF(COUNT($D$7:$D$18)=0,\"\",IF(ISNA(LOOKUP(K67,$D$7:$D$18,{1,2,3,4,5,6,7,8,9,10,11,12})),0,LOOKUP(K67,$D$7:$D$18,{1,2,3,4,5,6,7,8,9,10,11,12})))","v":4},15.8,15.8132,null,{"$f":"IF(COUNT($D$7:$D$18)=0,\"\",IF(ISNA(LOOKUP(O67,$D$7:$D$18,{1,2,3,4,5,6,7,8,9,10,11,12})),0,LOOKUP(O67,$D$7:$D$18,{1,2,3,4,5,6,7,8,9,10,11,12})))","v":5},22.3,22.272500000000001,null,{"$f":"IF(COUNT($D$7:$D$18)=0,\"\",IF(ISNA(LOOKUP(S67,$D$7:$D$18,{1,2,3,4,5,6,7,8,9,10,11,12})),0,LOOKUP(S67,$D$7:$D$18,{1,2,3,4,5,6,7,8,9,10,11,12})))","v":6},28.8,28.700000000000003,null,{"$f":"IF(COUNT($D$7:$D$18)=0,\"\",IF(ISNA(LOOKUP(W67,$D$7:$D$18,{1,2,3,4,5,6,7,8,9,10,11,12})),0,LOOKUP(W67,$D$7:$D$18,{1,2,3,4,5,6,7,8,9,10,11,12})))","v":6},35.299999999999997,35.200000000000003,{"$f":"IF(ISNA(MATCH($E$1,OFFSET('Temperature Checks'!$A$6,SUM($Y$1:$Y66),0,495-SUM($Y$1:$Y66),1),0)),0,MATCH($E$1,OFFSET('Temperature Checks'!$A$6,SUM($Y$1:$Y66),0,495-SUM($Y$1:$Y66),1),0))","v":0},{"$f":"IF($Y67=0,\"\",INDEX('Temperature Checks'!$B$6:$B$500,SUM($Y$1:$Y67)))","v":""}]
[null,{"$f":"IF(COUNT($D$7:$D$18)=0,\"\",IF(ISNA(LOOKUP(C68,$D$7:$D$18,{1,2,3,4,5,6,7,8,9,10,11,12})),0,LOOKUP(C68,$D$7:$D$18,{1,2,3,4,5,6,7,8,9,10,11,12})))","v":1},4.4000000000000004,4.3738775510204091,null,{"$f":"IF(COUNT($D$7:$D$18)=0,\"\",IF(ISNA(LOOKUP(G68,$D$7:$D$18,{1,2,3,4,5,6,7,8,9,10,11,12})),0,LOOKUP(G68,$D$7:$D$18,{1,2,3,4,5,6,7,8,9,10,11,12})))","v":2},9.4,9.3976000000000006,null,{"$f":"IF(COUNT($D$7:$D$18)=0,\"\",IF(ISNA(LOOKUP(K68,$D$7:$D$18,{1,2,3,4,5,6,7,8,9,10,11,12})),0,LOOKUP(K68,$D$7:$D$18,{1,2,3,4,5,6,7,8,9,10,11,12})))","v":4},15.9,15.913600000000001,null,{"$f":"IF(COUNT($D$7:$D$18)=0,\"\",IF(ISNA(LOOKUP(O68,$D$7:$D$18,{1,2,3,4,5,6,7,8,9,10,11,12})),0,LOOKUP(O68,$D$7:$D$18,{1,2,3,4,5,6,7,8,9,10,11,12})))","v":5},22.4,22.37,null,{"$f":"IF(COUNT($D$7:$D$18)=0,\"\",IF(ISNA(LOOKUP(S68,$D$7:$D$18,{1,2,3,4,5,6,7,8,9,10,11,12})),0,LOOKUP(S68,$D$7:$D$18,{1,2,3,4,5,6,7,8,9,10,11,12})))","v":6},28.9,28.8,null,{"$f":"IF(COUNT($D$7:$D$18)=0,\"\",IF(ISNA(LOOKUP(W68,$D$7:$D$18,{1,2,3,4,5,6,7,8,9,10,11,12})),0,LOOKUP(W68,$D$7:$D$18,{1,2,3,4,5,6,7,8,9,10,11,12})))","v":6},35.4,35.299999999999997,{"$f":"IF(ISNA(MATCH($E$1,OFFSET('Temperature Checks'!$A$6,SUM($Y$1:$Y67),0,495-SUM($Y$1:$Y67),1),0)),0,MATCH($E$1,OFFSET('Temperature Checks'!$A$6,SUM($Y$1:$Y67),0,495-SUM($Y$1:$Y67),1),0))","v":0},{"$f":"IF($Y68=0,\"\",INDEX('Temperature Checks'!$B$6:$B$500,SUM($Y$1:$Y68)))","v":""}]
[null,{"$f":"IF(COUNT($D$7:$D$18)=0,\"\",IF(ISNA(LOOKUP(C69,$D$7:$D$18,{1,2,3,4,5,6,7,8,9,10,11,12})),0,LOOKUP(C69,$D$7:$D$18,{1,2,3,4,5,6,7,8,9,10,11,12})))","v":1},4.5,4.4748979591836742,null,{"$f":"IF(COUNT($D$7:$D$18)=0,\"\",IF(ISNA(LOOKUP(G69,$D$7:$D$18,{1,2,3,4,5,6,7,8,9,10,11,12})),0,LOOKUP(G69,$D$7:$D$18,{1,2,3,4,5,6,7,8,9,10,11,12})))","v":2},9.5,9.4979999999999993,null,{"$f":"IF(COUNT($D$7:$D$18)=0,\"\",IF(ISNA(LOOKUP(K69,$D$7:$D$18,{1,2,3,4,5,6,7,8,9,10,11,12})),0,LOOKUP(K69,$D$7:$D$18,{1,2,3,4,5,6,7,8,9,10,11,12})))","v":4},16,16.013999999999999,null,{"$f":"IF(COUNT($D$7:$D$18)=0,\"\",IF(ISNA(LOOKUP(O69,$D$7:$D$18,{1,2,3,4,5,6,7,8,9,10,11,12})),0,LOOKUP(O69,$D$7:$D$18,{1,2,3,4,5,6,7,8,9,10,11,12})))","v":5},22.5,22.467500000000001,null,{"$f":"IF(COUNT($D$7:$D$18)=0,\"\",IF(ISNA(LOOKUP(S69,$D$7:$D$18,{1,2,3,4,5,6,7,8,9,10,11,12})),0,LOOKUP(S69,$D$7:$D$18,{1,2,3,4,5,6,7,8,9,10,11,12})))","v":6},29,28.900000000000002,null,{"$f":"IF(COUNT($D$7:$D$18)=0,\"\",IF(ISNA(LOOKUP(W69,$D$7:$D$18,{1,2,3,4,5,6,7,8,9,10,11,12})),0,LOOKUP(W69,$D$7:$D$18,{1,2,3,4,5,6,7,8,9,10,11,12})))","v":6},35.5,35.400000000000006,{"$f":"IF(ISNA(MATCH($E$1,OFFSET('Temperature Checks'!$A$6,SUM($Y$1:$Y68),0,495-SUM($Y$1:$Y68),1),0)),0,MATCH($E$1,OFFSET('Temperature Checks'!$A$6,SUM($Y$1:$Y68),0,495-SUM($Y$1:$Y68),1),0))","v":0},{"$f":"IF($Y69=0,\"\",INDEX('Temperature Checks'!$B$6:$B$500,SUM($Y$1:$Y69)))","v":""}]
[null,{"$f":"IF(COUNT($D$7:$D$18)=0,\"\",IF(ISNA(LOOKUP(C70,$D$7:$D$18,{1,2,3,4,5,6,7,8,9,10,11,12})),0,LOOKUP(C70,$D$7:$D$18,{1,2,3,4,5,6,7,8,9,10,11,12})))","v":1},4.5999999999999996,4.5759183673469392,null,{"$f":"IF(COUNT($D$7:$D$18)=0,\"\",IF(ISNA(LOOKUP(G70,$D$7:$D$18,{1,2,3,4,5,6,7,8,9,10,11,12})),0,LOOKUP(G70,$D$7:$D$18,{1,2,3,4,5,6,7,8,9,10,11,12})))","v":2},9.6,9.5983999999999998,null,{"$f":"IF(COUNT($D$7:$D$18)=0,\"\",IF(ISNA(LOOKUP(K70,$D$7:$D$18,{1,2,3,4,5,6,7,8,9,10,11,12})),0,LOOKUP(K70,$D$7:$D$18,{1,2,3,4,5,6,7,8,9,10,11,12})))","v":4},16.100000000000001,16.1144,null,{"$f":"IF(COUNT($D$7:$D$18)=0,\"\",IF(ISNA(LOOKUP(O70,$D$7:$D$18,{1,2,3,4,5,6,7,8,9,10,11,12})),0,LOOKUP(O70,$D$7:$D$18,{1,2,3,4,5,6,7,8,9,10,11,12})))","v":5},22.6,22.565000000000001,null,{"$f":"IF(COUNT($D$7:$D$18)=0,\"\",IF(ISNA(LOOKUP(S70,$D$7:$D$18,{1,2,3,4,5,6,7,8,9,10,11,12})),0,LOOKUP(S70,$D$7:$D$18,{1,2,3,4,5,6,7,8,9,10,11,12})))","v":6},29.1,29.000000000000004,null,{"$f":"IF(COUNT($D$7:$D$18)=0,\"\",IF(ISNA(LOOKUP(W70,$D$7:$D$18,{1,2,3,4,5,6,7,8,9,10,11,12})),0,LOOKUP(W70,$D$7:$D$18,{1,2,3,4,5,6,7,8,9,10,11,12})))","v":6},35.6,35.5,{"$f":"IF(ISNA(MATCH($E$1,OFFSET('Temperature Checks'!$A$6,SUM($Y$1:$Y69),0,495-SUM($Y$1:$Y69),1),0)),0,MATCH($E$1,OFFSET('Temperature Checks'!$A$6,SUM($Y$1:$Y69),0,495-SUM($Y$1:$Y69),1),0))","v":0},{"$f":"IF($Y70=0,\"\",INDEX('Temperature Checks'!$B$6:$B$500,SUM($Y$1:$Y70)))","v":""}]
[null,{"$f":"IF(COUNT($D$7:$D$18)=0,\"\",IF(ISNA(LOOKUP(C71,$D$7:$D$18,{1,2,3,4,5,6,7,8,9,10,11,12})),0,LOOKUP(C71,$D$7:$D$18,{1,2,3,4,5,6,7,8,9,10,11,12})))","v":1},4.7,4.6769387755102043,null,{"$f":"IF(COUNT($D$7:$D$18)=0,\"\",IF(ISNA(LOOKUP(G71,$D$7:$D$18,{1,2,3,4,5,6,7,8,9,10,11,12})),0,LOOKUP(G71,$D$7:$D$18,{1,2,3,4,5,6,7,8,9,10,11,12})))","v":2},9.6999999999999993,9.6987999999999985,null,{"$f":"IF(COUNT($D$7:$D$18)=0,\"\",IF(ISNA(LOOKUP(K71,$D$7:$D$18,{1,2,3,4,5,6,7,8,9,10,11,12})),0,LOOKUP(K71,$D$7:$D$18,{1,2,3,4,5,6,7,8,9,10,11,12})))","v":4},16.2,16.2148,null,{"$f":"IF(COUNT($D$7:$D$18)=0,\"\",IF(ISNA(LOOKUP(O71,$D$7:$D$18,{1,2,3,4,5,6,7,8,9,10,11,12})),0,LOOKUP(O71,$D$7:$D$18,{1,2,3,4,5,6,7,8,9,10,11,12})))","v":5},22.7,22.662500000000001,null,{"$f":"IF(COUNT($D$7:$D$18)=0,\"\",IF(ISNA(LOOKUP(S71,$D$7:$D$18,{1,2,3,4,5,6,7,8,9,10,11,12})),0,LOOKUP(S71,$D$7:$D$18,{1,2,3,4,5,6,7,8,9,10,11,12})))","v":6},29.2,29.1,null,{"$f":"IF(COUNT($D$7:$D$18)=0,\"\",IF(ISNA(LOOKUP(W71,$D$7:$D$18,{1,2,3,4,5,6,7,8,9,10,11,12})),0,LOOKUP(W71,$D$7:$D$18,{1,2,3,4,5,6,7,8,9,10,11,12})))","v":6},35.700000000000003,35.600000000000009,{"$f":"IF(ISNA(MATCH($E$1,OFFSET('Temperature Checks'!$A$6,SUM($Y$1:$Y70),0,495-SUM($Y$1:$Y70),1),0)),0,MATCH($E$1,OFFSET('Temperature Checks'!$A$6,SUM($Y$1:$Y70),0,495-SUM($Y$1:$Y70),1),0))","v":0},{"$f":"IF($Y71=0,\"\",INDEX('Temperature Checks'!$B$6:$B$500,SUM($Y$1:$Y71)))","v":""}]
[null,{"$f":"IF(COUNT($D$7:$D$18)=0,\"\",IF(ISNA(LOOKUP(C72,$D$7:$D$18,{1,2,3,4,5,6,7,8,9,10,11,12})),0,LOOKUP(C72,$D$7:$D$18,{1,2,3,4,5,6,7,8,9,10,11,12})))","v":1},4.8,4.7779591836734694,null,{"$f":"IF(COUNT($D$7:$D$18)=0,\"\",IF(ISNA(LOOKUP(G72,$D$7:$D$18,{1,2,3,4,5,6,7,8,9,10,11,12})),0,LOOKUP(G72,$D$7:$D$18,{1,2,3,4,5,6,7,8,9,10,11,12})))","v":2},9.8000000000000007,9.7992000000000008,null,{"$f":"IF(COUNT($D$7:$D$18)=0,\"\",IF(ISNA(LOOKUP(K72,$D$7:$D$18,{1,2,3,4,5,6,7,8,9,10,11,12})),0,LOOKUP(K72,$D$7:$D$18,{1,2,3,4,5,6,7,8,9,10,11,12})))","v":4},16.3,16.315200000000001,null,{"$f":"IF(COUNT($D$7:$D$18)=0,\"\",IF(ISNA(LOOKUP(O72,$D$7:$D$18,{1,2,3,4,5,6,7,8,9,10,11,12})),0,LOOKUP(O72,$D$7:$D$18,{1,2,3,4,5,6,7,8,9,10,11,12})))","v":5},22.8,22.76,null,{"$f":"IF(COUNT($D$7:$D$18)=0,\"\",IF(ISNA(LOOKUP(S72,$D$7:$D$18,{1,2,3,4,5,6,7,8,9,10,11,12})),0,LOOKUP(S72,$D$7:$D$18,{1,2,3,4,5,6,7,8,9,10,11,12})))","v":6},29.3,29.200000000000003,null,{"$f":"IF(COUNT($D$7:$D$18)=0,\"\",IF(ISNA(LOOKUP(W72,$D$7:$D$18,{1,2,3,4,5,6,7,8,9,10,11,12})),0,LOOKUP(W72,$D$7:$D$18,{1,2,3,4,5,6,7,8,9,10,11,12})))","v":6},35.799999999999997,35.700000000000003,{"$f":"IF(ISNA(MATCH($E$1,OFFSET('Temperature Checks'!$A$6,SUM($Y$1:$Y71),0,495-SUM($Y$1:$Y71),1),0)),0,MATCH($E$1,OFFSET('Temperature Checks'!$A$6,SUM($Y$1:$Y71),0,495-SUM($Y$1:$Y71),1),0))","v":0},{"$f":"IF($Y72=0,\"\",INDEX('Temperature Checks'!$B$6:$B$500,SUM($Y$1:$Y72)))","v":""}]
[null,{"$f":"IF(COUNT($D$7:$D$18)=0,\"\",IF(ISNA(LOOKUP(C73,$D$7:$D$18,{1,2,3,4,5,6,7,8,9,10,11,12})),0,LOOKUP(C73,$D$7:$D$18,{1,2,3,4,5,6,7,8,9,10,11,12})))","v":1},4.9000000000000004,4.8789795918367354,null,{"$f":"IF(COUNT($D$7:$D$18)=0,\"\",IF(ISNA(LOOKUP(G73,$D$7:$D$18,{1,2,3,4,5,6,7,8,9,10,11,12})),0,LOOKUP(G73,$D$7:$D$18,{1,2,3,4,5,6,7,8,9,10,11,12})))","v":2},9.9,9.8995999999999995,null,{"$f":"IF(COUNT($D$7:$D$18)=0,\"\",IF(ISNA(LOOKUP(K73,$D$7:$D$18,{1,2,3,4,5,6,7,8,9,10,11,12})),0,LOOKUP(K73,$D$7:$D$18,{1,2,3,4,5,6,7,8,9,10,11,12})))","v":4},16.399999999999999,{"$f":"IF(COUNT($D$7:$D$18)=0,\"\",IF(J73=0,K73-$G$7,IF(J73=COUNT($D$7:$D$18),K73-INDEX($G$7:$G$18,COUNT($D$7:$D$18)),K73-(INDEX($G$7:$G$18,J73)+(INDEX($G$7:$G$18,J73+1)-INDEX($G$7:$G$18,J73))*(K73-INDEX($D$7:$D$18,J73))/(INDEX($D$7:$D$18,J73+1)-INDEX($D$7:$D$18,J73))))))","v":16.415599999999998},null,{"$f":"IF(COUNT($D$7:$D$18)=0,\"\",IF(ISNA(LOOKUP(O73,$D$7:$D$18,{1,2,3,4,5,6,7,8,9,10,11,12})),0,LOOKUP(O73,$D$7:$D$18,{1,2,3,4,5,6,7,8,9,10,11,12})))","v":5},22.9,{"$f":"IF(COUNT($D$7:$D$18)=0,\"\",IF(N73=0,O73-$G$7,IF(N73=COUNT($D$7:$D$18),O73-INDEX($G$7:$G$18,COUNT($D$7:$D$18)),O73-(INDEX($G$7:$G$18,N73)+(INDEX($G$7:$G$18,N73+1)-INDEX($G$7:$G$18,N73))*(O73-INDEX($D$7:$D$18,N73))/(INDEX($D$7:$D$18,N73+1)-INDEX($D$7:$D$18,N73))))))","v":22.857500000000002},null,{"$f":"IF(COUNT($D$7:$D$18)=0,\"\",IF(ISNA(LOOKUP(S73,$D$7:$D$18,{1,2,3,4,5,6,7,8,9,10,11,12})),0,LOOKUP(S73,$D$7:$D$18,{1,2,3,4,5,6,7,8,9,10,11,12})))","v":6},29.4,29.3,null,{"$f":"IF(COUNT($D$7:$D$18)=0,\"\",IF(ISNA(LOOKUP(W73,$D$7:$D$18,{1,2,3,4,5,6,7,8,9,10,11,12})),0,LOOKUP(W73,$D$7:$D$18,{1,2,3,4,5,6,7,8,9,10,11,12})))","v":6},35.9,35.799999999999997,{"$f":"IF(ISNA(MATCH($E$1,OFFSET('Temperature Checks'!$A$6,SUM($Y$1:$Y72),0,495-SUM($Y$1:$Y72),1),0)),0,MATCH($E$1,OFFSET('Temperature Checks'!$A$6,SUM($Y$1:$Y72),0,495-SUM($Y$1:$Y72),1),0))","v":0},{"$f":"IF($Y73=0,\"\",INDEX('Temperature Checks'!$B$6:$B$500,SUM($Y$1:$Y73)))","v":""}]